BEGIN:VCALENDAR
VERSION:2.0
PRODID:-//MS-U16Z-T3D//NONSGML kigkonsult.se iCalcreator 2.41.80//
CALSCALE:GREGORIAN
UID:31643366-6638-4534-a534-363836626366
BEGIN:VEVENT
UID:37323932-3430-4763-b530-383736386366
DTSTAMP:20260424T110103Z
DESCRIPTION:1/1 TJ Ostrava 'B' - TJ Sokol Vratimov 2:1 (5\,-19\,8)
DTSTART;TZID=Europe/Berlin:20251214T090000
DTEND;TZID=Europe/Berlin:20251214T110000
LOCATION:ZŠ 1.máje 1700 Frýdek-Místek\, 1. máje 1700 Frýdek-Místek - Místek
SUMMARY:MS-U16Z-T3D: TJ Ostrava 'B'-TJ Sokol Vratimov
END:VEVENT
BEGIN:VEVENT
UID:63633562-6136-4235-b139-343039343437
DTSTAMP:20260424T110103Z
DESCRIPTION:1/2 TJ Sokol FM B - TJ Sokol St. Bělá 2:0 (16\,22)
DTSTART;TZID=Europe/Berlin:20251214T090000
DTEND;TZID=Europe/Berlin:20251214T110000
LOCATION:ZŠ 1.máje 1700 Frýdek-Místek\, 1. máje 1700 Frýdek-Místek - Místek
SUMMARY:MS-U16Z-T3D: TJ Sokol FM B-TJ Sokol St. Bělá
END:VEVENT
BEGIN:VEVENT
UID:63643634-3833-4239-b338-316633393835
DTSTAMP:20260424T110103Z
DESCRIPTION:2/3 TJ Ostrava 'B' - TJ Sokol St. Bělá 2:0 (13\,13)
DTSTART;TZID=Europe/Berlin:20251214T103000
DTEND;TZID=Europe/Berlin:20251214T123000
LOCATION:ZŠ 1.máje 1700 Frýdek-Místek\, 1. máje 1700 Frýdek-Místek - Místek
SUMMARY:MS-U16Z-T3D: TJ Ostrava 'B'-TJ Sokol St. Bělá
END:VEVENT
BEGIN:VEVENT
UID:39366263-3133-4438-a663-356337666133
DTSTAMP:20260424T110103Z
DESCRIPTION:2/4 TJ Sokol FM B - TJ Sokol Vratimov 2:0 (21\,19)
DTSTART;TZID=Europe/Berlin:20251214T103000
DTEND;TZID=Europe/Berlin:20251214T123000
LOCATION:ZŠ 1.máje 1700 Frýdek-Místek\, 1. máje 1700 Frýdek-Místek - Místek
SUMMARY:MS-U16Z-T3D: TJ Sokol FM B-TJ Sokol Vratimov
END:VEVENT
BEGIN:VEVENT
UID:63616631-3362-4631-a163-333438323333
DTSTAMP:20260424T110103Z
DESCRIPTION:3/5 TJ Sokol St. Bělá - TJ Sokol Vratimov 2:1 (16\,-11\,6)
DTSTART;TZID=Europe/Berlin:20251214T120000
DTEND;TZID=Europe/Berlin:20251214T140000
LOCATION:ZŠ 1.máje 1700 Frýdek-Místek\, 1. máje 1700 Frýdek-Místek - Místek
SUMMARY:MS-U16Z-T3D: TJ Sokol St. Bělá-TJ Sokol Vratimov
END:VEVENT
BEGIN:VEVENT
UID:64666231-6632-4764-b561-616339386266
DTSTAMP:20260424T110103Z
DESCRIPTION:3/6 TJ Ostrava 'B' - TJ Sokol FM B 2:0 (21\,21)
DTSTART;TZID=Europe/Berlin:20251214T120000
DTEND;TZID=Europe/Berlin:20251214T140000
LOCATION:ZŠ 1.máje 1700 Frýdek-Místek\, 1. máje 1700 Frýdek-Místek - Místek
SUMMARY:MS-U16Z-T3D: TJ Ostrava 'B'-TJ Sokol FM B
END:VEVENT
END:VCALENDAR
