BEGIN:VCALENDAR
VERSION:2.0
PRODID:-//PP-U22Z-3-A//NONSGML kigkonsult.se iCalcreator 2.41.80//
CALSCALE:GREGORIAN
UID:63346166-3866-4633-b662-383435353165
BEGIN:VEVENT
UID:38353230-6131-4232-a134-663464313838
DTSTAMP:20260421T223035Z
DESCRIPTION:1/1 Braník - SK Kometa Praha A 2:1 (-21\,17\,10)
DTSTART;TZID=Europe/Berlin:20251129T090000
DTEND;TZID=Europe/Berlin:20251129T110000
LOCATION:ZŠ Dolní Břežany\, Na Vršku 290 Dolní Břežany
SUMMARY:PP-U22Z-3-A: Braník-SK Kometa Praha A
END:VEVENT
BEGIN:VEVENT
UID:32376266-6462-4335-b339-313832393835
DTSTAMP:20260421T223035Z
DESCRIPTION:1/2 SAVO - Orion Praha B 1:2 (-22\,13\,-13)
DTSTART;TZID=Europe/Berlin:20251129T090000
DTEND;TZID=Europe/Berlin:20251129T110000
LOCATION:ZŠ Dolní Břežany\, Na Vršku 290 Dolní Břežany
SUMMARY:PP-U22Z-3-A: SAVO-Orion Praha B
END:VEVENT
BEGIN:VEVENT
UID:65633865-3363-4262-b463-376230666638
DTSTAMP:20260421T223035Z
DESCRIPTION:2/3 SK Kometa Praha A - Orion Praha B 2:1 (-20\,18\,11)
DTSTART;TZID=Europe/Berlin:20251129T100000
DTEND;TZID=Europe/Berlin:20251129T120000
LOCATION:ZŠ Dolní Břežany\, Na Vršku 290 Dolní Břežany
SUMMARY:PP-U22Z-3-A: SK Kometa Praha A-Orion Praha B
END:VEVENT
BEGIN:VEVENT
UID:32303335-3665-4265-b563-313730343333
DTSTAMP:20260421T223035Z
DESCRIPTION:2/4 Braník - SAVO 2:0 (18\,13)
DTSTART;TZID=Europe/Berlin:20251129T100000
DTEND;TZID=Europe/Berlin:20251129T120000
LOCATION:ZŠ Dolní Břežany\, Na Vršku 290 Dolní Břežany
SUMMARY:PP-U22Z-3-A: Braník-SAVO
END:VEVENT
BEGIN:VEVENT
UID:36623838-6437-4834-b938-336333633339
DTSTAMP:20260421T223035Z
DESCRIPTION:3/5 SAVO - SK Kometa Praha A 0:2 (-23\,-11)
DTSTART;TZID=Europe/Berlin:20251129T110000
DTEND;TZID=Europe/Berlin:20251129T130000
LOCATION:ZŠ Dolní Břežany\, Na Vršku 290 Dolní Břežany
SUMMARY:PP-U22Z-3-A: SAVO-SK Kometa Praha A
END:VEVENT
BEGIN:VEVENT
UID:30373332-6430-4662-a636-336164386239
DTSTAMP:20260421T223035Z
DESCRIPTION:3/6 Orion Praha B - Braník 0:2 (-10\,-17)
DTSTART;TZID=Europe/Berlin:20251129T110000
DTEND;TZID=Europe/Berlin:20251129T130000
LOCATION:ZŠ Dolní Břežany\, Na Vršku 290 Dolní Břežany
SUMMARY:PP-U22Z-3-A: Orion Praha B-Braník
END:VEVENT
END:VCALENDAR
