BEGIN:VCALENDAR
VERSION:2.0
PRODID:-//LIB-U16Z-2-5-L//NONSGML kigkonsult.se iCalcreator 2.41.80//
CALSCALE:GREGORIAN
UID:64316537-6434-4266-a136-313863373466
BEGIN:VEVENT
UID:34333662-6533-4666-a139-656164313062
DTSTAMP:20260422T065051Z
DESCRIPTION:1/1 TJ Slovan Varnsdorf z.s. 'C' - Tělovýchovná jednota Jiskra 
 Nový Bor\, z.s. 0:2 (-23\,-18)
DTSTART;TZID=Europe/Berlin:20251123T090000
DTEND;TZID=Europe/Berlin:20251123T110000
LOCATION:Sportovní hala Varnsdorf\, Západní 2984 Varnsdorf
SUMMARY:LIB-U16Z-2-5-L: TJ Slovan Varnsdorf z.s. 'C'-Tělovýchovná jednota J
 iskra Nový Bor\, z.s.
END:VEVENT
BEGIN:VEVENT
UID:61626133-6235-4234-b034-366431303033
DTSTAMP:20260422T065051Z
DESCRIPTION:2/2 SK Ještědská Liberec z.s. 'B' - Tělovýchovná jednota Jiskra
  Nový Bor\, z.s. 2:0 (8\,18)
DTSTART;TZID=Europe/Berlin:20251123T100000
DTEND;TZID=Europe/Berlin:20251123T120000
LOCATION:ZŠ Ještědská\, Ještědská 354 Liberec - Liberec VIII-Dolní Hanychov
SUMMARY:LIB-U16Z-2-5-L: SK Ještědská Liberec z.s. 'B'-Tělovýchovná jednota 
 Jiskra Nový Bor\, z.s.
END:VEVENT
BEGIN:VEVENT
UID:32363739-6334-4438-a239-346435356665
DTSTAMP:20260422T065051Z
DESCRIPTION:3/3 TJ Slovan Varnsdorf z.s. 'C' - SK Ještědská Liberec z.s. 'B
 ' 1:2 (-14\,24\,-8)
DTSTART;TZID=Europe/Berlin:20251123T110000
DTEND;TZID=Europe/Berlin:20251123T130000
LOCATION:Sportovní hala Varnsdorf\, Západní 2984 Varnsdorf
SUMMARY:LIB-U16Z-2-5-L: TJ Slovan Varnsdorf z.s. 'C'-SK Ještědská Liberec z
 .s. 'B'
END:VEVENT
END:VCALENDAR
