BEGIN:VCALENDAR
VERSION:2.0
PRODID:-//PP-U18Z-3-B//NONSGML kigkonsult.se iCalcreator 2.41.80//
CALSCALE:GREGORIAN
UID:61396435-6432-4436-b238-613633346138
BEGIN:VEVENT
UID:64316637-3237-4765-a337-336464323431
DTSTAMP:20260421T210102Z
DESCRIPTION:1/1 SK Kometa Praha D - VK Lvi Praha B 0:2 (-22\,-22)
DTSTART;TZID=Europe/Berlin:20251206T090000
DTEND;TZID=Europe/Berlin:20251206T110000
LOCATION:Sportovní hala Horní Počernice TěloCvič!\, Jívanská 3226 Praha - H
 orní Počernice
SUMMARY:PP-U18Z-3-B: SK Kometa Praha D-VK Lvi Praha B
END:VEVENT
BEGIN:VEVENT
UID:32663861-3638-4836-a565-613931663034
DTSTAMP:20260421T210102Z
DESCRIPTION:2/2 Vršovice B - Orion Praha B 2:0 (23\,26)
DTSTART;TZID=Europe/Berlin:20251206T090000
DTEND;TZID=Europe/Berlin:20251206T110000
LOCATION:Sportovní hala Horní Počernice TěloCvič!\, Jívanská 3226 Praha - H
 orní Počernice
SUMMARY:PP-U18Z-3-B: Vršovice B-Orion Praha B
END:VEVENT
BEGIN:VEVENT
UID:31353133-3162-4264-b734-316539376236
DTSTAMP:20260421T210102Z
DESCRIPTION:3/3 SK Kometa Praha D - Orion Praha B 0:2 (-12\,-23)
DTSTART;TZID=Europe/Berlin:20251206T100000
DTEND;TZID=Europe/Berlin:20251206T120000
LOCATION:Sportovní hala Horní Počernice TěloCvič!\, Jívanská 3226 Praha - H
 orní Počernice
SUMMARY:PP-U18Z-3-B: SK Kometa Praha D-Orion Praha B
END:VEVENT
BEGIN:VEVENT
UID:30346439-3837-4462-a134-393233336639
DTSTAMP:20260421T210102Z
DESCRIPTION:4/4 Vršovice B - SK Kometa Praha D 2:0 (11\,19)
DTSTART;TZID=Europe/Berlin:20251206T110000
DTEND;TZID=Europe/Berlin:20251206T130000
LOCATION:Sportovní hala Horní Počernice TěloCvič!\, Jívanská 3226 Praha - H
 orní Počernice
SUMMARY:PP-U18Z-3-B: Vršovice B-SK Kometa Praha D
END:VEVENT
BEGIN:VEVENT
UID:34306530-6636-4762-b164-633932383761
DTSTAMP:20260421T210102Z
DESCRIPTION:5/5 Orion Praha B - VK Lvi Praha B 2:1 (-25\,21\,15)
DTSTART;TZID=Europe/Berlin:20251206T110000
DTEND;TZID=Europe/Berlin:20251206T130000
LOCATION:Sportovní hala Horní Počernice TěloCvič!\, Jívanská 3226 Praha - H
 orní Počernice
SUMMARY:PP-U18Z-3-B: Orion Praha B-VK Lvi Praha B
END:VEVENT
BEGIN:VEVENT
UID:39366338-6464-4366-b162-613233386133
DTSTAMP:20260421T210102Z
DESCRIPTION:6/6 Vršovice B - VK Lvi Praha B 2:0 (18\,17)
DTSTART;TZID=Europe/Berlin:20251206T120000
DTEND;TZID=Europe/Berlin:20251206T140000
LOCATION:Sportovní hala Horní Počernice TěloCvič!\, Jívanská 3226 Praha - H
 orní Počernice
SUMMARY:PP-U18Z-3-B: Vršovice B-VK Lvi Praha B
END:VEVENT
END:VCALENDAR
