BEGIN:VCALENDAR
VERSION:2.0
PRODID:-//PP-U18Z-3-F//NONSGML kigkonsult.se iCalcreator 2.41.80//
CALSCALE:GREGORIAN
UID:37393839-3730-4366-b563-646564366639
BEGIN:VEVENT
UID:34313638-3137-4861-b239-643231656430
DTSTAMP:20260421T134936Z
DESCRIPTION:1/1 SK Meteor Praha B - SK Kometa Praha C 3:0 (15\,15\,18)
DTSTART;TZID=Europe/Berlin:20251206T090000
DTEND;TZID=Europe/Berlin:20251206T110000
LOCATION:DDM P10 Zahradní Město\, Jasmínová 3166 Praha - Záběhlice
SUMMARY:PP-U18Z-3-F: SK Meteor Praha B-SK Kometa Praha C
END:VEVENT
BEGIN:VEVENT
UID:34623363-3266-4465-a265-363530303737
DTSTAMP:20260421T134936Z
DESCRIPTION:2/2 Wizards DDM Praha 10 - SK Meteor Praha B 3:0 (23\,18\,22)
DTSTART;TZID=Europe/Berlin:20251206T110000
DTEND;TZID=Europe/Berlin:20251206T130000
LOCATION:DDM P10 Zahradní Město\, Jasmínová 3166 Praha - Záběhlice
SUMMARY:PP-U18Z-3-F: Wizards DDM Praha 10-SK Meteor Praha B
END:VEVENT
BEGIN:VEVENT
UID:39363730-3737-4265-b338-623834313032
DTSTAMP:20260421T134936Z
DESCRIPTION:3/3 SK Kometa Praha C - Wizards DDM Praha 10 0:3 (-11\,-11\,-11
 )
DTSTART;TZID=Europe/Berlin:20251206T130000
DTEND;TZID=Europe/Berlin:20251206T150000
LOCATION:DDM P10 Zahradní Město\, Jasmínová 3166 Praha - Záběhlice
SUMMARY:PP-U18Z-3-F: SK Kometa Praha C-Wizards DDM Praha 10
END:VEVENT
END:VCALENDAR
