BEGIN:VCALENDAR
VERSION:2.0
PRODID:-//EX-U22Z-4A//NONSGML kigkonsult.se iCalcreator 2.41.80//
CALSCALE:GREGORIAN
UID:66346362-3465-4433-b161-623038646533
BEGIN:VEVENT
UID:34623965-3631-4338-b835-313230626431
DTSTAMP:20260424T050723Z
DESCRIPTION:1/1 SGLD Brno - Olymp 0:3 (-13\,-30\,-17)
DTSTART;TZID=Europe/Berlin:20251214T100000
DTEND;TZID=Europe/Berlin:20251214T120000
LOCATION:Sportovní gymnázium Ludvíka Daňka\, Botanická 63 Brno - Ponava
SUMMARY:EX-U22Z-4A: SGLD Brno-Olymp
END:VEVENT
BEGIN:VEVENT
UID:31376664-3733-4663-b465-333038623033
DTSTAMP:20260424T050723Z
DESCRIPTION:1/2 Olymp - Liberec 2:3 (-13\,24\,23\,-26\,-12)
DTSTART;TZID=Europe/Berlin:20251214T133000
DTEND;TZID=Europe/Berlin:20251214T153000
LOCATION:Sportovní gymnázium Ludvíka Daňka\, Botanická 63 Brno - Ponava
SUMMARY:EX-U22Z-4A: Olymp-Liberec
END:VEVENT
BEGIN:VEVENT
UID:62643530-3930-4733-b261-346266356437
DTSTAMP:20260424T050723Z
DESCRIPTION:1/3 Liberec - SGLD Brno 3:0 (21\,14\,9)
DTSTART;TZID=Europe/Berlin:20251214T170000
DTEND;TZID=Europe/Berlin:20251214T190000
LOCATION:Sportovní gymnázium Ludvíka Daňka\, Botanická 63 Brno - Ponava
SUMMARY:EX-U22Z-4A: Liberec-SGLD Brno
END:VEVENT
END:VCALENDAR
