BEGIN:VCALENDAR
VERSION:2.0
PRODID:-//MS-U16M-T3A//NONSGML kigkonsult.se iCalcreator 2.41.80//
CALSCALE:GREGORIAN
UID:30646635-3632-4638-b433-396530616630
BEGIN:VEVENT
UID:39306539-3363-4164-b438-643230666439
DTSTAMP:20260422T162845Z
DESCRIPTION:1/1 VK Ostrava - Red Frýdlant n/O 2:1 (-23\,20\,2)
DTSTART;TZID=Europe/Berlin:20251214T090000
DTEND;TZID=Europe/Berlin:20251214T110000
LOCATION:Tělocvična ZŠ TGM FNO\, Nám. T. G. Masaryka 1260 Frýdlant nad Ostr
 avicí - Frýdlant
SUMMARY:MS-U16M-T3A: VK Ostrava-Red Frýdlant n/O
END:VEVENT
BEGIN:VEVENT
UID:33386666-6163-4139-b134-333164366662
DTSTAMP:20260422T162845Z
DESCRIPTION:1/2 Green F-M - SK Kojetín 2016 2:1 (23\,-23\,11)
DTSTART;TZID=Europe/Berlin:20251214T090000
DTEND;TZID=Europe/Berlin:20251214T110000
LOCATION:Tělocvična ZŠ TGM FNO\, Nám. T. G. Masaryka 1260 Frýdlant nad Ostr
 avicí - Frýdlant
SUMMARY:MS-U16M-T3A: Green F-M-SK Kojetín 2016
END:VEVENT
BEGIN:VEVENT
UID:35393462-3930-4032-b362-623963633661
DTSTAMP:20260422T162845Z
DESCRIPTION:2/3 Green F-M - Red Frýdlant n/O 1:2 (24\,-17\,-10)
DTSTART;TZID=Europe/Berlin:20251214T100000
DTEND;TZID=Europe/Berlin:20251214T120000
LOCATION:Tělocvična ZŠ TGM FNO\, Nám. T. G. Masaryka 1260 Frýdlant nad Ostr
 avicí - Frýdlant
SUMMARY:MS-U16M-T3A: Green F-M-Red Frýdlant n/O
END:VEVENT
BEGIN:VEVENT
UID:35386336-6664-4265-a238-383232633438
DTSTAMP:20260422T162845Z
DESCRIPTION:2/4 VK Ostrava - SK Kojetín 2016 2:0 (18\,17)
DTSTART;TZID=Europe/Berlin:20251214T100000
DTEND;TZID=Europe/Berlin:20251214T120000
LOCATION:Tělocvična ZŠ TGM FNO\, Nám. T. G. Masaryka 1260 Frýdlant nad Ostr
 avicí - Frýdlant
SUMMARY:MS-U16M-T3A: VK Ostrava-SK Kojetín 2016
END:VEVENT
BEGIN:VEVENT
UID:38383831-3532-4031-a263-323838643935
DTSTAMP:20260422T162845Z
DESCRIPTION:3/5 VK Ostrava - Green F-M 2:0 (14\,12)
DTSTART;TZID=Europe/Berlin:20251214T110000
DTEND;TZID=Europe/Berlin:20251214T130000
LOCATION:Tělocvična ZŠ TGM FNO\, Nám. T. G. Masaryka 1260 Frýdlant nad Ostr
 avicí - Frýdlant
SUMMARY:MS-U16M-T3A: VK Ostrava-Green F-M
END:VEVENT
BEGIN:VEVENT
UID:61633130-3631-4766-a439-306361353661
DTSTAMP:20260422T162845Z
DESCRIPTION:3/6 SK Kojetín 2016 - Red Frýdlant n/O 0:2 (-18\,-18)
DTSTART;TZID=Europe/Berlin:20251214T110000
DTEND;TZID=Europe/Berlin:20251214T130000
LOCATION:Tělocvična ZŠ TGM FNO\, Nám. T. G. Masaryka 1260 Frýdlant nad Ostr
 avicí - Frýdlant
SUMMARY:MS-U16M-T3A: SK Kojetín 2016-Red Frýdlant n/O
END:VEVENT
END:VCALENDAR
