BEGIN:VCALENDAR
VERSION:2.0
PRODID:-//PP-U16Z-3-D//NONSGML kigkonsult.se iCalcreator 2.41.80//
CALSCALE:GREGORIAN
UID:37343635-6334-4665-b466-636132393965
BEGIN:VEVENT
UID:35323135-3564-4466-b037-653939643537
DTSTAMP:20260421T210101Z
DESCRIPTION:1/1 Mikulova B - SK Meteor Praha A 2:0 (17\,12)
DTSTART;TZID=Europe/Berlin:20251207T090000
DTEND;TZID=Europe/Berlin:20251207T110000
LOCATION:SKŠ ZŠ Mikulova Praha\, Mikulova 1594 Praha - Chodov
SUMMARY:PP-U16Z-3-D: Mikulova B-SK Meteor Praha A
END:VEVENT
BEGIN:VEVENT
UID:32663234-6633-4336-a666-366332653335
DTSTAMP:20260421T210101Z
DESCRIPTION:1/2 VK Lvi Praha A - SK Dansport Praha A 2:1 (-19\,21\,11)
DTSTART;TZID=Europe/Berlin:20251207T090000
DTEND;TZID=Europe/Berlin:20251207T110000
LOCATION:SKŠ ZŠ Mikulova Praha\, Mikulova 1594 Praha - Chodov
SUMMARY:PP-U16Z-3-D: VK Lvi Praha A-SK Dansport Praha A
END:VEVENT
BEGIN:VEVENT
UID:34356235-3666-4434-a436-313932613631
DTSTAMP:20260421T210101Z
DESCRIPTION:2/3 SK Meteor Praha A - SK Dansport Praha A 1:2 (14\,-20\,-12)
DTSTART;TZID=Europe/Berlin:20251207T100000
DTEND;TZID=Europe/Berlin:20251207T120000
LOCATION:SKŠ ZŠ Mikulova Praha\, Mikulova 1594 Praha - Chodov
SUMMARY:PP-U16Z-3-D: SK Meteor Praha A-SK Dansport Praha A
END:VEVENT
BEGIN:VEVENT
UID:66303061-6336-4430-b737-326333633734
DTSTAMP:20260421T210101Z
DESCRIPTION:2/4 Mikulova B - VK Lvi Praha A 0:2 (-22\,-22)
DTSTART;TZID=Europe/Berlin:20251207T100000
DTEND;TZID=Europe/Berlin:20251207T120000
LOCATION:SKŠ ZŠ Mikulova Praha\, Mikulova 1594 Praha - Chodov
SUMMARY:PP-U16Z-3-D: Mikulova B-VK Lvi Praha A
END:VEVENT
BEGIN:VEVENT
UID:31313132-3362-4938-b132-626666633065
DTSTAMP:20260421T210101Z
DESCRIPTION:3/5 VK Lvi Praha A - SK Meteor Praha A 2:1 (18\,-19\,6)
DTSTART;TZID=Europe/Berlin:20251207T110000
DTEND;TZID=Europe/Berlin:20251207T130000
LOCATION:SKŠ ZŠ Mikulova Praha\, Mikulova 1594 Praha - Chodov
SUMMARY:PP-U16Z-3-D: VK Lvi Praha A-SK Meteor Praha A
END:VEVENT
BEGIN:VEVENT
UID:36323431-6163-4266-b431-316664383339
DTSTAMP:20260421T210101Z
DESCRIPTION:3/6 SK Dansport Praha A - Mikulova B 1:2 (16\,-15\,-7)
DTSTART;TZID=Europe/Berlin:20251207T110000
DTEND;TZID=Europe/Berlin:20251207T130000
LOCATION:SKŠ ZŠ Mikulova Praha\, Mikulova 1594 Praha - Chodov
SUMMARY:PP-U16Z-3-D: SK Dansport Praha A-Mikulova B
END:VEVENT
END:VCALENDAR
