BEGIN:VCALENDAR
VERSION:2.0
PRODID:-//PP-U16Z-3-H//NONSGML kigkonsult.se iCalcreator 2.41.80//
CALSCALE:GREGORIAN
UID:34373866-6337-4339-b034-376261303362
BEGIN:VEVENT
UID:34373230-6238-4039-b233-383464346635
DTSTAMP:20260421T224745Z
DESCRIPTION:1/1 Wizards DDM Praha 10 - SK Španielka Řepy B 0:2 (-23\,-22)
DTSTART;TZID=Europe/Berlin:20251207T090000
DTEND;TZID=Europe/Berlin:20251207T110000
LOCATION:Sportovní hala Horní Počernice TěloCvič!\, Jívanská 3226 Praha - H
 orní Počernice
SUMMARY:PP-U16Z-3-H: Wizards DDM Praha 10-SK Španielka Řepy B
END:VEVENT
BEGIN:VEVENT
UID:63613530-3664-4266-a234-653962616331
DTSTAMP:20260421T224745Z
DESCRIPTION:1/2 SK Dansport Praha B - Sokol HP B 2:1 (-16\,19\,13)
DTSTART;TZID=Europe/Berlin:20251207T090000
DTEND;TZID=Europe/Berlin:20251207T110000
LOCATION:Sportovní hala Horní Počernice TěloCvič!\, Jívanská 3226 Praha - H
 orní Počernice
SUMMARY:PP-U16Z-3-H: SK Dansport Praha B-Sokol HP B
END:VEVENT
BEGIN:VEVENT
UID:63396135-6166-4735-b661-303465613932
DTSTAMP:20260421T224745Z
DESCRIPTION:2/3 SK Španielka Řepy B - Sokol HP B 2:0 (22\,18)
DTSTART;TZID=Europe/Berlin:20251207T100000
DTEND;TZID=Europe/Berlin:20251207T120000
LOCATION:Sportovní hala Horní Počernice TěloCvič!\, Jívanská 3226 Praha - H
 orní Počernice
SUMMARY:PP-U16Z-3-H: SK Španielka Řepy B-Sokol HP B
END:VEVENT
BEGIN:VEVENT
UID:35306438-6663-4338-b031-666538373061
DTSTAMP:20260421T224745Z
DESCRIPTION:2/4 SK Dansport Praha B - SK Španielka Řepy B 0:2 (-7\,-20)
DTSTART;TZID=Europe/Berlin:20251207T110000
DTEND;TZID=Europe/Berlin:20251207T130000
LOCATION:Sportovní hala Horní Počernice TěloCvič!\, Jívanská 3226 Praha - H
 orní Počernice
SUMMARY:PP-U16Z-3-H: SK Dansport Praha B-SK Španielka Řepy B
END:VEVENT
BEGIN:VEVENT
UID:32653265-3838-4033-a462-613938633539
DTSTAMP:20260421T224745Z
DESCRIPTION:3/5 Sokol HP B - Wizards DDM Praha 10 0:2 (-26\,-20)
DTSTART;TZID=Europe/Berlin:20251207T110000
DTEND;TZID=Europe/Berlin:20251207T130000
LOCATION:Sportovní hala Horní Počernice TěloCvič!\, Jívanská 3226 Praha - H
 orní Počernice
SUMMARY:PP-U16Z-3-H: Sokol HP B-Wizards DDM Praha 10
END:VEVENT
BEGIN:VEVENT
UID:33356334-3634-4231-a432-373963613138
DTSTAMP:20260421T224745Z
DESCRIPTION:3/6 Wizards DDM Praha 10 - SK Dansport Praha B 2:0 (15\,18)
DTSTART;TZID=Europe/Berlin:20251207T120000
DTEND;TZID=Europe/Berlin:20251207T140000
LOCATION:Sportovní hala Horní Počernice TěloCvič!\, Jívanská 3226 Praha - H
 orní Počernice
SUMMARY:PP-U16Z-3-H: Wizards DDM Praha 10-SK Dansport Praha B
END:VEVENT
END:VCALENDAR
