BEGIN:VCALENDAR
VERSION:2.0
PRODID:-//CP-U18Z-2C//NONSGML kigkonsult.se iCalcreator 2.41.80//
CALSCALE:GREGORIAN
UID:33396563-6635-4561-b738-626333363761
BEGIN:VEVENT
UID:32343131-3435-4334-b133-623532653632
DTSTAMP:20260424T233611Z
DESCRIPTION:1/1 SK Kometa Praha B - TJ Šumperk 2:1 (22\,-17\,4)
DTSTART;TZID=Europe/Berlin:20251213T103000
DTEND;TZID=Europe/Berlin:20251213T123000
LOCATION:Tělocvična ZŠ Na Šutce\, Na Šutce 440 Praha - Troja
SUMMARY:CP-U18Z-2C: SK Kometa Praha B-TJ Šumperk
END:VEVENT
BEGIN:VEVENT
UID:33356135-3733-4239-a264-363739373563
DTSTAMP:20260424T233611Z
DESCRIPTION:1/2 Sokol Šlapanice - SK Třebín 0:2 (-16\,-21)
DTSTART;TZID=Europe/Berlin:20251213T103000
DTEND;TZID=Europe/Berlin:20251213T123000
LOCATION:ZŠ Na Zahrádkách \, Na Zahrádkách 1716 Šlapanice
SUMMARY:CP-U18Z-2C: Sokol Šlapanice-SK Třebín
END:VEVENT
BEGIN:VEVENT
UID:62616462-6265-4038-a433-613035613135
DTSTAMP:20260424T233611Z
DESCRIPTION:2/3 VAM Havířov - St.M.-Náchod 2:0 (15\,19)
DTSTART;TZID=Europe/Berlin:20251213T114500
DTEND;TZID=Europe/Berlin:20251213T134500
LOCATION:Sportovní hala Žákovská\, Komunardů 1548 Havířov - Město
SUMMARY:CP-U18Z-2C: VAM Havířov-St.M.-Náchod
END:VEVENT
BEGIN:VEVENT
UID:31636630-3364-4433-b738-323736393663
DTSTAMP:20260424T233611Z
DESCRIPTION:3/4 Tělovýchovná jednota SLAVIA Liberec\, z.s. - Sokol Šlapanic
 e 1:2 (21\,-19\,-9)
DTSTART;TZID=Europe/Berlin:20251213T130000
DTEND;TZID=Europe/Berlin:20251213T150000
LOCATION:Základní škola\, Liberec\, Sokolovská \, Sokolovská 328 Liberec - 
 Liberec XIII-Nové Pavlovice
SUMMARY:CP-U18Z-2C: Tělovýchovná jednota SLAVIA Liberec\, z.s.-Sokol Šlapan
 ice
END:VEVENT
BEGIN:VEVENT
UID:36383938-6162-4737-b438-363436633364
DTSTAMP:20260424T233611Z
DESCRIPTION:4/5 VAM Havířov - TJ Šumperk 0:2 (-23\,-19)
DTSTART;TZID=Europe/Berlin:20251213T141500
DTEND;TZID=Europe/Berlin:20251213T161500
LOCATION:Sportovní hala Žákovská\, Komunardů 1548 Havířov - Město
SUMMARY:CP-U18Z-2C: VAM Havířov-TJ Šumperk
END:VEVENT
BEGIN:VEVENT
UID:30663137-3666-4138-a433-643962656662
DTSTAMP:20260424T233611Z
DESCRIPTION:4/6 St.M.-Náchod - SK Třebín 0:2 (-21\,-18)
DTSTART;TZID=Europe/Berlin:20251213T141500
DTEND;TZID=Europe/Berlin:20251213T161500
LOCATION:Sportovni hala TJ. Sokol Staré Město - Náchod\, Na Skalce 263 Nách
 od - Staré Město nad Metují
SUMMARY:CP-U18Z-2C: St.M.-Náchod-SK Třebín
END:VEVENT
BEGIN:VEVENT
UID:65383664-6432-4133-b835-343364613363
DTSTAMP:20260424T233611Z
DESCRIPTION:5/7 SK Kometa Praha B - VAM Havířov 0:2 (-11\,-14)
DTSTART;TZID=Europe/Berlin:20251213T153000
DTEND;TZID=Europe/Berlin:20251213T173000
LOCATION:Tělocvična ZŠ Na Šutce\, Na Šutce 440 Praha - Troja
SUMMARY:CP-U18Z-2C: SK Kometa Praha B-VAM Havířov
END:VEVENT
BEGIN:VEVENT
UID:38356666-6537-4861-b364-356132656330
DTSTAMP:20260424T233611Z
DESCRIPTION:5/8 Tělovýchovná jednota SLAVIA Liberec\, z.s. - St.M.-Náchod 2
 :1 (18\,-11\,14)
DTSTART;TZID=Europe/Berlin:20251213T153000
DTEND;TZID=Europe/Berlin:20251213T173000
LOCATION:Základní škola\, Liberec\, Sokolovská \, Sokolovská 328 Liberec - 
 Liberec XIII-Nové Pavlovice
SUMMARY:CP-U18Z-2C: Tělovýchovná jednota SLAVIA Liberec\, z.s.-St.M.-Náchod
END:VEVENT
BEGIN:VEVENT
UID:38643034-3864-4032-a632-313765366662
DTSTAMP:20260424T233611Z
DESCRIPTION:5/9 SK Třebín - TJ Šumperk 2:0 (21\,17)
DTSTART;TZID=Europe/Berlin:20251213T153000
DTEND;TZID=Europe/Berlin:20251213T173000
SUMMARY:CP-U18Z-2C: SK Třebín-TJ Šumperk
END:VEVENT
BEGIN:VEVENT
UID:32626530-3862-4466-b665-373166396562
DTSTAMP:20260424T233611Z
DESCRIPTION:6/10 Sokol Šlapanice - St.M.-Náchod 2:0 (24\,18)
DTSTART;TZID=Europe/Berlin:20251213T164500
DTEND;TZID=Europe/Berlin:20251213T184500
LOCATION:ZŠ Na Zahrádkách \, Na Zahrádkách 1716 Šlapanice
SUMMARY:CP-U18Z-2C: Sokol Šlapanice-St.M.-Náchod
END:VEVENT
BEGIN:VEVENT
UID:35653431-3238-4364-a536-316435616638
DTSTAMP:20260424T233611Z
DESCRIPTION:7/11 SK Kometa Praha B - SK Třebín 0:2 (-22\,-16)
DTSTART;TZID=Europe/Berlin:20251213T180000
DTEND;TZID=Europe/Berlin:20251213T200000
LOCATION:Tělocvična ZŠ Na Šutce\, Na Šutce 440 Praha - Troja
SUMMARY:CP-U18Z-2C: SK Kometa Praha B-SK Třebín
END:VEVENT
BEGIN:VEVENT
UID:32666531-3539-4430-b561-306163326365
DTSTAMP:20260424T233611Z
DESCRIPTION:7/12 Tělovýchovná jednota SLAVIA Liberec\, z.s. - TJ Šumperk 2:
 1 (16\,-32\,6)
DTSTART;TZID=Europe/Berlin:20251213T180000
DTEND;TZID=Europe/Berlin:20251213T200000
LOCATION:Základní škola\, Liberec\, Sokolovská \, Sokolovská 328 Liberec - 
 Liberec XIII-Nové Pavlovice
SUMMARY:CP-U18Z-2C: Tělovýchovná jednota SLAVIA Liberec\, z.s.-TJ Šumperk
END:VEVENT
BEGIN:VEVENT
UID:66333863-6237-4630-a564-613962376232
DTSTAMP:20260424T233611Z
DESCRIPTION:8/13 VAM Havířov - SK Třebín 2:0 (8\,18)
DTSTART;TZID=Europe/Berlin:20251214T090000
DTEND;TZID=Europe/Berlin:20251214T110000
LOCATION:Sportovní hala Žákovská\, Komunardů 1548 Havířov - Město
SUMMARY:CP-U18Z-2C: VAM Havířov-SK Třebín
END:VEVENT
BEGIN:VEVENT
UID:38313433-3930-4630-b262-316461326434
DTSTAMP:20260424T233611Z
DESCRIPTION:8/14 Sokol Šlapanice - TJ Šumperk 2:0 (18\,21)
DTSTART;TZID=Europe/Berlin:20251214T090000
DTEND;TZID=Europe/Berlin:20251214T110000
LOCATION:ZŠ Na Zahrádkách \, Na Zahrádkách 1716 Šlapanice
SUMMARY:CP-U18Z-2C: Sokol Šlapanice-TJ Šumperk
END:VEVENT
BEGIN:VEVENT
UID:33396138-6234-4665-a635-363861353836
DTSTAMP:20260424T233611Z
DESCRIPTION:8/15 Tělovýchovná jednota SLAVIA Liberec\, z.s. - SK Kometa Pra
 ha B 0:2 (-18\,-12)
DTSTART;TZID=Europe/Berlin:20251214T090000
DTEND;TZID=Europe/Berlin:20251214T110000
LOCATION:Základní škola\, Liberec\, Sokolovská \, Sokolovská 328 Liberec - 
 Liberec XIII-Nové Pavlovice
SUMMARY:CP-U18Z-2C: Tělovýchovná jednota SLAVIA Liberec\, z.s.-SK Kometa Pr
 aha B
END:VEVENT
BEGIN:VEVENT
UID:39383638-3266-4462-a537-306266636264
DTSTAMP:20260424T233611Z
DESCRIPTION:9/16 St.M.-Náchod - TJ Šumperk 2:0 (20\,17)
DTSTART;TZID=Europe/Berlin:20251214T103000
DTEND;TZID=Europe/Berlin:20251214T123000
LOCATION:Sportovni hala TJ. Sokol Staré Město - Náchod\, Na Skalce 263 Nách
 od - Staré Město nad Metují
SUMMARY:CP-U18Z-2C: St.M.-Náchod-TJ Šumperk
END:VEVENT
BEGIN:VEVENT
UID:34643161-6235-4162-a165-636335636336
DTSTAMP:20260424T233611Z
DESCRIPTION:10/17 Tělovýchovná jednota SLAVIA Liberec\, z.s. - VAM Havířov 
 0:2 (-13\,-17)
DTSTART;TZID=Europe/Berlin:20251214T114500
DTEND;TZID=Europe/Berlin:20251214T134500
LOCATION:Základní škola\, Liberec\, Sokolovská \, Sokolovská 328 Liberec - 
 Liberec XIII-Nové Pavlovice
SUMMARY:CP-U18Z-2C: Tělovýchovná jednota SLAVIA Liberec\, z.s.-VAM Havířov
END:VEVENT
BEGIN:VEVENT
UID:30383335-6662-4164-a366-316562393937
DTSTAMP:20260424T233611Z
DESCRIPTION:10/18 SK Kometa Praha B - Sokol Šlapanice 2:1 (-12\,26\,13)
DTSTART;TZID=Europe/Berlin:20251214T114500
DTEND;TZID=Europe/Berlin:20251214T134500
LOCATION:Tělocvična ZŠ Na Šutce\, Na Šutce 440 Praha - Troja
SUMMARY:CP-U18Z-2C: SK Kometa Praha B-Sokol Šlapanice
END:VEVENT
BEGIN:VEVENT
UID:34663930-6264-4238-a538-396533386466
DTSTAMP:20260424T233611Z
DESCRIPTION:11/19 Tělovýchovná jednota SLAVIA Liberec\, z.s. - SK Třebín 0:
 2 (-6\,-23)
DTSTART;TZID=Europe/Berlin:20251214T130000
DTEND;TZID=Europe/Berlin:20251214T150000
LOCATION:Základní škola\, Liberec\, Sokolovská \, Sokolovská 328 Liberec - 
 Liberec XIII-Nové Pavlovice
SUMMARY:CP-U18Z-2C: Tělovýchovná jednota SLAVIA Liberec\, z.s.-SK Třebín
END:VEVENT
BEGIN:VEVENT
UID:39643733-3437-4335-b766-656238373264
DTSTAMP:20260424T233611Z
DESCRIPTION:11/20 SK Kometa Praha B - St.M.-Náchod 2:0 (22\,15)
DTSTART;TZID=Europe/Berlin:20251214T130000
DTEND;TZID=Europe/Berlin:20251214T150000
LOCATION:Tělocvična ZŠ Na Šutce\, Na Šutce 440 Praha - Troja
SUMMARY:CP-U18Z-2C: SK Kometa Praha B-St.M.-Náchod
END:VEVENT
BEGIN:VEVENT
UID:37343737-6535-4664-b634-356133366161
DTSTAMP:20260424T233611Z
DESCRIPTION:11/21 Sokol Šlapanice - VAM Havířov 0:2 (-21\,-15)
DTSTART;TZID=Europe/Berlin:20251214T130000
DTEND;TZID=Europe/Berlin:20251214T150000
LOCATION:ZŠ Na Zahrádkách \, Na Zahrádkách 1716 Šlapanice
SUMMARY:CP-U18Z-2C: Sokol Šlapanice-VAM Havířov
END:VEVENT
END:VCALENDAR
