BEGIN:VCALENDAR
VERSION:2.0
PRODID:-//HK-U16Z-6FB//NONSGML kigkonsult.se iCalcreator 2.41.80//
CALSCALE:GREGORIAN
UID:32343466-6465-4730-a265-316364333737
BEGIN:VEVENT
UID:31326436-6164-4364-b232-323162666136
DTSTAMP:20260421T223117Z
DESCRIPTION:1/1 Nechanice - Slavia H.Králové 1:2 (-22\,18\,-12)
DTSTART;TZID=Europe/Berlin:20260222T090000
DTEND;TZID=Europe/Berlin:20260222T110000
LOCATION:Tělocvičná jednota Sokol Nechanice\, Školská 348 Nechanice
SUMMARY:HK-U16Z-6FB: Nechanice-Slavia H.Králové
END:VEVENT
BEGIN:VEVENT
UID:30636634-6563-4134-b464-626364646133
DTSTAMP:20260421T223117Z
DESCRIPTION:1/2 Hronov - RÉMA Rychnov 1:2 (-14\,23\,-10)
DTSTART;TZID=Europe/Berlin:20260222T100000
DTEND;TZID=Europe/Berlin:20260222T120000
LOCATION:Tělocvičná jednota Sokol Nechanice\, Školská 348 Nechanice
SUMMARY:HK-U16Z-6FB: Hronov-RÉMA Rychnov
END:VEVENT
BEGIN:VEVENT
UID:38663264-6165-4537-b433-396232623336
DTSTAMP:20260421T223117Z
DESCRIPTION:1/3 Hronov - Nechanice 1:2 (-14\,19\,-6)
DTSTART;TZID=Europe/Berlin:20260222T110000
DTEND;TZID=Europe/Berlin:20260222T130000
LOCATION:Tělocvičná jednota Sokol Nechanice\, Školská 348 Nechanice
SUMMARY:HK-U16Z-6FB: Hronov-Nechanice
END:VEVENT
BEGIN:VEVENT
UID:36396166-6435-4632-b464-366434633766
DTSTAMP:20260421T223117Z
DESCRIPTION:1/4 Slavia H.Králové - RÉMA Rychnov 0:2 (-23\,-22)
DTSTART;TZID=Europe/Berlin:20260222T120000
DTEND;TZID=Europe/Berlin:20260222T140000
LOCATION:Tělocvičná jednota Sokol Nechanice\, Školská 348 Nechanice
SUMMARY:HK-U16Z-6FB: Slavia H.Králové-RÉMA Rychnov
END:VEVENT
BEGIN:VEVENT
UID:30353333-3130-4337-a637-616331313762
DTSTAMP:20260421T223117Z
DESCRIPTION:1/5 Hronov - Slavia H.Králové 1:2 (-10\,21\,-9)
DTSTART;TZID=Europe/Berlin:20260222T130000
DTEND;TZID=Europe/Berlin:20260222T150000
LOCATION:Tělocvičná jednota Sokol Nechanice\, Školská 348 Nechanice
SUMMARY:HK-U16Z-6FB: Hronov-Slavia H.Králové
END:VEVENT
BEGIN:VEVENT
UID:37633437-3165-4535-b363-386238663162
DTSTAMP:20260421T223117Z
DESCRIPTION:1/6 Nechanice - RÉMA Rychnov 2:0 (11\,20)
DTSTART;TZID=Europe/Berlin:20260222T140000
DTEND;TZID=Europe/Berlin:20260222T160000
LOCATION:Tělocvičná jednota Sokol Nechanice\, Školská 348 Nechanice
SUMMARY:HK-U16Z-6FB: Nechanice-RÉMA Rychnov
END:VEVENT
END:VCALENDAR
