BEGIN:VCALENDAR
VERSION:2.0
PRODID:-//CP-U16Z4E//NONSGML kigkonsult.se iCalcreator 2.41.80//
CALSCALE:GREGORIAN
UID:39356636-3837-4564-b134-393032393764
BEGIN:VEVENT
UID:38366663-3463-4138-b038-393233633463
DTSTAMP:20260425T031237Z
DESCRIPTION:1/1 Volejbal Tábor - SC Braník 2:0 (20\,23)
DTSTART;TZID=Europe/Berlin:20260117T090000
DTEND;TZID=Europe/Berlin:20260117T110000
LOCATION:Sportovní Hala Mír\, U Stadionu Míru 1579 Tábor
SUMMARY:CP-U16Z4E: Volejbal Tábor-SC Braník
END:VEVENT
BEGIN:VEVENT
UID:34623362-6232-4431-b064-316334383431
DTSTAMP:20260425T031237Z
DESCRIPTION:2/2 VSC Zlín - VK Slavia Plzeň 0:2 (-22\,-15)
DTSTART;TZID=Europe/Berlin:20260117T101500
DTEND;TZID=Europe/Berlin:20260117T121500
LOCATION:ZŠ Okružní Zlín\, Okružní 4685 Zlín
SUMMARY:CP-U16Z4E: VSC Zlín-VK Slavia Plzeň
END:VEVENT
BEGIN:VEVENT
UID:64383736-3161-4530-b763-666363663065
DTSTAMP:20260425T031237Z
DESCRIPTION:2/3 SVK Nový Jičín - VSK Baník Sokolov 2:0 (21\,17)
DTSTART;TZID=Europe/Berlin:20260117T101500
DTEND;TZID=Europe/Berlin:20260117T121500
LOCATION:Hala ABC\, Purkyňova 116 Nový Jičín
SUMMARY:CP-U16Z4E: SVK Nový Jičín-VSK Baník Sokolov
END:VEVENT
BEGIN:VEVENT
UID:65393134-6537-4032-a666-386438653038
DTSTAMP:20260425T031237Z
DESCRIPTION:2/4 Slavia H.Králové - TJ Spartak Polička 2:1 (22\,-21\,6)
DTSTART;TZID=Europe/Berlin:20260117T101500
DTEND;TZID=Europe/Berlin:20260117T121500
LOCATION:TJ Slavia Hradec Králové\, Víta Nejedlého 1216 Hradec Králové
SUMMARY:CP-U16Z4E: Slavia H.Králové-TJ Spartak Polička
END:VEVENT
BEGIN:VEVENT
UID:36613461-6237-4132-a534-393833643863
DTSTAMP:20260425T031237Z
DESCRIPTION:3/5 Slavia H.Králové - Volejbal Tábor 2:0 (13\,14)
DTSTART;TZID=Europe/Berlin:20260117T113000
DTEND;TZID=Europe/Berlin:20260117T133000
LOCATION:TJ Slavia Hradec Králové\, Víta Nejedlého 1216 Hradec Králové
SUMMARY:CP-U16Z4E: Slavia H.Králové-Volejbal Tábor
END:VEVENT
BEGIN:VEVENT
UID:38643162-3036-4731-b833-633330356234
DTSTAMP:20260425T031237Z
DESCRIPTION:3/6 VSC Zlín - SVK Nový Jičín 2:1 (-18\,21\,10)
DTSTART;TZID=Europe/Berlin:20260117T113000
DTEND;TZID=Europe/Berlin:20260117T133000
LOCATION:ZŠ Okružní Zlín\, Okružní 4685 Zlín
SUMMARY:CP-U16Z4E: VSC Zlín-SVK Nový Jičín
END:VEVENT
BEGIN:VEVENT
UID:37343964-3235-4535-a439-353766346364
DTSTAMP:20260425T031237Z
DESCRIPTION:3/7 TJ Spartak Polička - VSK Baník Sokolov 2:1 (12\,-24\,6)
DTSTART;TZID=Europe/Berlin:20260117T113000
DTEND;TZID=Europe/Berlin:20260117T133000
LOCATION:TJ Spartak Polička\, z.s. \, nábř. Svobody 447 Polička - Horní Pře
 dměstí
SUMMARY:CP-U16Z4E: TJ Spartak Polička-VSK Baník Sokolov
END:VEVENT
BEGIN:VEVENT
UID:61323030-3962-4930-b162-623561383238
DTSTAMP:20260425T031237Z
DESCRIPTION:4/8 Volejbal Tábor - TJ Spartak Polička 2:0 (16\,22)
DTSTART;TZID=Europe/Berlin:20260117T124500
DTEND;TZID=Europe/Berlin:20260117T144500
LOCATION:Sportovní Hala Mír\, U Stadionu Míru 1579 Tábor
SUMMARY:CP-U16Z4E: Volejbal Tábor-TJ Spartak Polička
END:VEVENT
BEGIN:VEVENT
UID:36343335-3263-4764-b837-313965666233
DTSTAMP:20260425T031237Z
DESCRIPTION:4/9 SC Braník - VK Slavia Plzeň 2:1 (-22\,19\,18)
DTSTART;TZID=Europe/Berlin:20260117T124500
DTEND;TZID=Europe/Berlin:20260117T144500
LOCATION:Sokolovna Braník\, Branická 275 Praha - Braník
SUMMARY:CP-U16Z4E: SC Braník-VK Slavia Plzeň
END:VEVENT
BEGIN:VEVENT
UID:66313037-3732-4332-b863-393532356166
DTSTAMP:20260425T031237Z
DESCRIPTION:4/10 VSK Baník Sokolov - VSC Zlín 0:2 (-18\,-15)
DTSTART;TZID=Europe/Berlin:20260117T124500
DTEND;TZID=Europe/Berlin:20260117T144500
LOCATION:Jiskra\, Maxima Gorkého 280 Sokolov
SUMMARY:CP-U16Z4E: VSK Baník Sokolov-VSC Zlín
END:VEVENT
BEGIN:VEVENT
UID:31336534-3835-4537-a537-623535636631
DTSTAMP:20260425T031237Z
DESCRIPTION:5/11 VSC Zlín - Volejbal Tábor 2:0 (16\,22)
DTSTART;TZID=Europe/Berlin:20260117T143000
DTEND;TZID=Europe/Berlin:20260117T163000
LOCATION:ZŠ Okružní Zlín\, Okružní 4685 Zlín
SUMMARY:CP-U16Z4E: VSC Zlín-Volejbal Tábor
END:VEVENT
BEGIN:VEVENT
UID:66336433-3564-4338-a334-356637393461
DTSTAMP:20260425T031237Z
DESCRIPTION:5/12 SVK Nový Jičín - SC Braník 2:1 (22\,-15\,13)
DTSTART;TZID=Europe/Berlin:20260117T143000
DTEND;TZID=Europe/Berlin:20260117T163000
LOCATION:Hala ABC\, Purkyňova 116 Nový Jičín
SUMMARY:CP-U16Z4E: SVK Nový Jičín-SC Braník
END:VEVENT
BEGIN:VEVENT
UID:30386362-3136-4362-a234-383535613337
DTSTAMP:20260425T031237Z
DESCRIPTION:5/13 Slavia H.Králové - VK Slavia Plzeň 2:1 (20\,-17\,16)
DTSTART;TZID=Europe/Berlin:20260117T143000
DTEND;TZID=Europe/Berlin:20260117T163000
LOCATION:TJ Slavia Hradec Králové\, Víta Nejedlého 1216 Hradec Králové
SUMMARY:CP-U16Z4E: Slavia H.Králové-VK Slavia Plzeň
END:VEVENT
BEGIN:VEVENT
UID:66613733-6437-4133-b731-333961333936
DTSTAMP:20260425T031237Z
DESCRIPTION:6/14 TJ Spartak Polička - SC Braník 2:0 (22\,20)
DTSTART;TZID=Europe/Berlin:20260117T154500
DTEND;TZID=Europe/Berlin:20260117T174500
LOCATION:TJ Spartak Polička\, z.s. \, nábř. Svobody 447 Polička - Horní Pře
 dměstí
SUMMARY:CP-U16Z4E: TJ Spartak Polička-SC Braník
END:VEVENT
BEGIN:VEVENT
UID:37623235-6530-4361-a237-306337623861
DTSTAMP:20260425T031237Z
DESCRIPTION:6/15 SVK Nový Jičín - Slavia H.Králové 0:2 (-17\,-21)
DTSTART;TZID=Europe/Berlin:20260117T154500
DTEND;TZID=Europe/Berlin:20260117T174500
LOCATION:Hala ABC\, Purkyňova 116 Nový Jičín
SUMMARY:CP-U16Z4E: SVK Nový Jičín-Slavia H.Králové
END:VEVENT
BEGIN:VEVENT
UID:32373538-3836-4465-a536-363838663137
DTSTAMP:20260425T031237Z
DESCRIPTION:6/16 VK Slavia Plzeň - VSK Baník Sokolov 2:0 (27\,15)
DTSTART;TZID=Europe/Berlin:20260117T154500
DTEND;TZID=Europe/Berlin:20260117T174500
LOCATION:Tělocvična 15.ZŠ\, Terezie Brzkové 863 Plzeň - Skvrňany
SUMMARY:CP-U16Z4E: VK Slavia Plzeň-VSK Baník Sokolov
END:VEVENT
BEGIN:VEVENT
UID:30656633-6234-4638-b538-373133373364
DTSTAMP:20260425T031237Z
DESCRIPTION:7/17 Volejbal Tábor - SVK Nový Jičín 1:2 (-20\,25\,-11)
DTSTART;TZID=Europe/Berlin:20260118T090000
DTEND;TZID=Europe/Berlin:20260118T110000
LOCATION:Sportovní Hala Mír\, U Stadionu Míru 1579 Tábor
SUMMARY:CP-U16Z4E: Volejbal Tábor-SVK Nový Jičín
END:VEVENT
BEGIN:VEVENT
UID:38336338-6262-4961-b632-343565346533
DTSTAMP:20260425T031237Z
DESCRIPTION:7/18 Slavia H.Králové - VSC Zlín 2:1 (17\,-22\,9)
DTSTART;TZID=Europe/Berlin:20260118T090000
DTEND;TZID=Europe/Berlin:20260118T110000
LOCATION:TJ Slavia Hradec Králové\, Víta Nejedlého 1216 Hradec Králové
SUMMARY:CP-U16Z4E: Slavia H.Králové-VSC Zlín
END:VEVENT
BEGIN:VEVENT
UID:39636365-3532-4234-b632-386164646432
DTSTAMP:20260425T031237Z
DESCRIPTION:7/19 VK Slavia Plzeň - TJ Spartak Polička 1:2 (21\,-14\,-14)
DTSTART;TZID=Europe/Berlin:20260118T090000
DTEND;TZID=Europe/Berlin:20260118T110000
LOCATION:Tělocvična 15.ZŠ\, Terezie Brzkové 863 Plzeň - Skvrňany
SUMMARY:CP-U16Z4E: VK Slavia Plzeň-TJ Spartak Polička
END:VEVENT
BEGIN:VEVENT
UID:31383366-3832-4562-b235-396661323835
DTSTAMP:20260425T031237Z
DESCRIPTION:8/20 VSK Baník Sokolov - SC Braník 1:2 (-16\,19\,-14)
DTSTART;TZID=Europe/Berlin:20260118T101500
DTEND;TZID=Europe/Berlin:20260118T121500
LOCATION:Jiskra\, Maxima Gorkého 280 Sokolov
SUMMARY:CP-U16Z4E: VSK Baník Sokolov-SC Braník
END:VEVENT
BEGIN:VEVENT
UID:32663036-3164-4464-b363-633833313064
DTSTAMP:20260425T031237Z
DESCRIPTION:8/21 TJ Spartak Polička - VSC Zlín 2:1 (19\,-15\,9)
DTSTART;TZID=Europe/Berlin:20260118T101500
DTEND;TZID=Europe/Berlin:20260118T121500
LOCATION:TJ Spartak Polička\, z.s. \, nábř. Svobody 447 Polička - Horní Pře
 dměstí
SUMMARY:CP-U16Z4E: TJ Spartak Polička-VSC Zlín
END:VEVENT
BEGIN:VEVENT
UID:32326237-3064-4332-b662-643465663032
DTSTAMP:20260425T031237Z
DESCRIPTION:8/22 VK Slavia Plzeň - SVK Nový Jičín 0:2 (-13\,-22)
DTSTART;TZID=Europe/Berlin:20260118T101500
DTEND;TZID=Europe/Berlin:20260118T121500
LOCATION:Tělocvična 15.ZŠ\, Terezie Brzkové 863 Plzeň - Skvrňany
SUMMARY:CP-U16Z4E: VK Slavia Plzeň-SVK Nový Jičín
END:VEVENT
BEGIN:VEVENT
UID:37323237-3931-4430-a336-643063613963
DTSTAMP:20260425T031237Z
DESCRIPTION:9/23 VSK Baník Sokolov - Volejbal Tábor 0:2 (-10\,-13)
DTSTART;TZID=Europe/Berlin:20260118T113000
DTEND;TZID=Europe/Berlin:20260118T133000
LOCATION:Jiskra\, Maxima Gorkého 280 Sokolov
SUMMARY:CP-U16Z4E: VSK Baník Sokolov-Volejbal Tábor
END:VEVENT
BEGIN:VEVENT
UID:33313737-3133-4338-a438-316163616133
DTSTAMP:20260425T031237Z
DESCRIPTION:9/24 SC Braník - Slavia H.Králové 1:2 (-14\,10\,-14)
DTSTART;TZID=Europe/Berlin:20260118T113000
DTEND;TZID=Europe/Berlin:20260118T133000
LOCATION:Sokolovna Braník\, Branická 275 Praha - Braník
SUMMARY:CP-U16Z4E: SC Braník-Slavia H.Králové
END:VEVENT
BEGIN:VEVENT
UID:65616163-6664-4436-a332-633634366131
DTSTAMP:20260425T031237Z
DESCRIPTION:9/25 SVK Nový Jičín - TJ Spartak Polička 0:2 (-21\,-17)
DTSTART;TZID=Europe/Berlin:20260118T113000
DTEND;TZID=Europe/Berlin:20260118T133000
LOCATION:Hala ABC\, Purkyňova 116 Nový Jičín
SUMMARY:CP-U16Z4E: SVK Nový Jičín-TJ Spartak Polička
END:VEVENT
BEGIN:VEVENT
UID:38626534-6634-4130-a664-326139663563
DTSTAMP:20260425T031237Z
DESCRIPTION:10/26 VK Slavia Plzeň - Volejbal Tábor 2:1 (-21\,18\,14)
DTSTART;TZID=Europe/Berlin:20260118T124500
DTEND;TZID=Europe/Berlin:20260118T144500
LOCATION:Tělocvična 15.ZŠ\, Terezie Brzkové 863 Plzeň - Skvrňany
SUMMARY:CP-U16Z4E: VK Slavia Plzeň-Volejbal Tábor
END:VEVENT
BEGIN:VEVENT
UID:38316338-6433-4434-b764-613931393763
DTSTAMP:20260425T031237Z
DESCRIPTION:10/27 SC Braník - VSC Zlín 0:2 (-16\,-21)
DTSTART;TZID=Europe/Berlin:20260118T124500
DTEND;TZID=Europe/Berlin:20260118T144500
LOCATION:Sokolovna Braník\, Branická 275 Praha - Braník
SUMMARY:CP-U16Z4E: SC Braník-VSC Zlín
END:VEVENT
BEGIN:VEVENT
UID:37616666-3064-4635-a661-343832376261
DTSTAMP:20260425T031237Z
DESCRIPTION:10/28 VSK Baník Sokolov - Slavia H.Králové 1:2 (-23\,23\,-10)
DTSTART;TZID=Europe/Berlin:20260118T124500
DTEND;TZID=Europe/Berlin:20260118T144500
LOCATION:Jiskra\, Maxima Gorkého 280 Sokolov
SUMMARY:CP-U16Z4E: VSK Baník Sokolov-Slavia H.Králové
END:VEVENT
END:VCALENDAR
