BEGIN:VCALENDAR
VERSION:2.0
PRODID:-//LIB-U22M-3//NONSGML kigkonsult.se iCalcreator 2.41.80//
CALSCALE:GREGORIAN
UID:65333637-6464-4165-b839-663637336534
BEGIN:VEVENT
UID:38353334-6638-4436-b434-623636386435
DTSTAMP:20260422T060924Z
DESCRIPTION:3/1 Tělovýchovná jednota SLAVIA Liberec\, z.s. 'B' - Tělovýchov
 ná jednota SLAVIA Liberec\, z.s. 'C' 2:0 (17\,9)\nZákladní škola\, Liberec
 \, Aloisina výšina 642/51
DTSTART;TZID=Europe/Berlin:20251220T090000
DTEND;TZID=Europe/Berlin:20251220T110000
LOCATION:Základní škola\, Liberec\, Švermova 403/40\, Švermova 403 Liberec 
 - Liberec X-Františkov
SUMMARY:LIB-U22M-3: Tělovýchovná jednota SLAVIA Liberec\, z.s. 'B'-Tělových
 ovná jednota SLAVIA Liberec\, z.s. 'C'
END:VEVENT
BEGIN:VEVENT
UID:65613036-6365-4661-a439-633165386133
DTSTAMP:20260422T060924Z
DESCRIPTION:3/2 TJ Zákupy\, z.s. - Tělovýchovná jednota Jiskra Nový Bor\, z
 .s. 2:0 (20\,19)\nZákladní škola\, Liberec\, Aloisina výšina 642/51
DTSTART;TZID=Europe/Berlin:20251220T090000
DTEND;TZID=Europe/Berlin:20251220T110000
LOCATION:Hala ZŠ Zákupy\, Školní 347 Zákupy
SUMMARY:LIB-U22M-3: TJ Zákupy\, z.s.-Tělovýchovná jednota Jiskra Nový Bor\,
  z.s.
END:VEVENT
BEGIN:VEVENT
UID:35386636-3365-4637-a637-663236613833
DTSTAMP:20260422T060924Z
DESCRIPTION:3/3 TJ Lokomotiva Česká Lípa\, z.s. - Tělovýchovná jednota SLAV
 IA Liberec\, z.s. 'B' 0:2 (-21\,-27)\nZákladní škola\, Liberec\, Aloisina 
 výšina 642/51
DTSTART;TZID=Europe/Berlin:20251220T100000
DTEND;TZID=Europe/Berlin:20251220T120000
LOCATION:ZŠ Lada\, Šluknovská 2904 Česká Lípa
SUMMARY:LIB-U22M-3: TJ Lokomotiva Česká Lípa\, z.s.-Tělovýchovná jednota SL
 AVIA Liberec\, z.s. 'B'
END:VEVENT
BEGIN:VEVENT
UID:37383431-3633-4264-b630-336138663630
DTSTAMP:20260422T060924Z
DESCRIPTION:3/4 Tělovýchovná jednota Jiskra Nový Bor\, z.s. - Tělovýchovná 
 jednota SLAVIA Liberec\, z.s. 'C' 2:0 (18\,12)\nZákladní škola\, Liberec\,
  Aloisina výšina 642/51
DTSTART;TZID=Europe/Berlin:20251220T100000
DTEND;TZID=Europe/Berlin:20251220T120000
LOCATION:Sportovní hala Františka Arnošta Nový Bor\, U hřiště 1391 Nový Bor
SUMMARY:LIB-U22M-3: Tělovýchovná jednota Jiskra Nový Bor\, z.s.-Tělovýchovn
 á jednota SLAVIA Liberec\, z.s. 'C'
END:VEVENT
BEGIN:VEVENT
UID:39623131-3434-4737-a231-393036646531
DTSTAMP:20260422T060924Z
DESCRIPTION:3/5 TJ Lokomotiva Česká Lípa\, z.s. - TJ Zákupy\, z.s. 2:0 (13\
 ,23)\nZákladní škola\, Liberec\, Aloisina výšina 642/51
DTSTART;TZID=Europe/Berlin:20251220T110000
DTEND;TZID=Europe/Berlin:20251220T130000
LOCATION:ZŠ Lada\, Šluknovská 2904 Česká Lípa
SUMMARY:LIB-U22M-3: TJ Lokomotiva Česká Lípa\, z.s.-TJ Zákupy\, z.s.
END:VEVENT
BEGIN:VEVENT
UID:34623230-3263-4265-b064-313639323139
DTSTAMP:20260422T060924Z
DESCRIPTION:3/6 Tělovýchovná jednota SLAVIA Liberec\, z.s. 'B' - Tělovýchov
 ná jednota Jiskra Nový Bor\, z.s. 2:1 (18\,-24\,7)\nZákladní škola\, Liber
 ec\, Aloisina výšina 642/51
DTSTART;TZID=Europe/Berlin:20251220T110000
DTEND;TZID=Europe/Berlin:20251220T130000
LOCATION:Základní škola\, Liberec\, Švermova 403/40\, Švermova 403 Liberec 
 - Liberec X-Františkov
SUMMARY:LIB-U22M-3: Tělovýchovná jednota SLAVIA Liberec\, z.s. 'B'-Tělových
 ovná jednota Jiskra Nový Bor\, z.s.
END:VEVENT
BEGIN:VEVENT
UID:37666637-3165-4738-b964-396663343765
DTSTAMP:20260422T060924Z
DESCRIPTION:3/7 TJ Zákupy\, z.s. - Tělovýchovná jednota SLAVIA Liberec\, z.
 s. 'C' 2:0 (16\,22)\nZákladní škola\, Liberec\, Aloisina výšina 642/51
DTSTART;TZID=Europe/Berlin:20251220T120000
DTEND;TZID=Europe/Berlin:20251220T140000
LOCATION:Hala ZŠ Zákupy\, Školní 347 Zákupy
SUMMARY:LIB-U22M-3: TJ Zákupy\, z.s.-Tělovýchovná jednota SLAVIA Liberec\, 
 z.s. 'C'
END:VEVENT
BEGIN:VEVENT
UID:64386361-6539-4538-b439-623632656130
DTSTAMP:20260422T060924Z
DESCRIPTION:3/8 TJ Lokomotiva Česká Lípa\, z.s. - Tělovýchovná jednota Jisk
 ra Nový Bor\, z.s. 0:2 (-23\,-19)\nZákladní škola\, Liberec\, Aloisina výš
 ina 642/51
DTSTART;TZID=Europe/Berlin:20251220T120000
DTEND;TZID=Europe/Berlin:20251220T140000
LOCATION:ZŠ Lada\, Šluknovská 2904 Česká Lípa
SUMMARY:LIB-U22M-3: TJ Lokomotiva Česká Lípa\, z.s.-Tělovýchovná jednota Ji
 skra Nový Bor\, z.s.
END:VEVENT
BEGIN:VEVENT
UID:35376132-3338-4038-b835-666463376137
DTSTAMP:20260422T060924Z
DESCRIPTION:3/9 Tělovýchovná jednota SLAVIA Liberec\, z.s. 'B' - TJ Zákupy\
 , z.s. 2:1 (-15\,16\,12)\nZákladní škola\, Liberec\, Aloisina výšina 642/5
 1
DTSTART;TZID=Europe/Berlin:20251220T130000
DTEND;TZID=Europe/Berlin:20251220T150000
LOCATION:Základní škola\, Liberec\, Švermova 403/40\, Švermova 403 Liberec 
 - Liberec X-Františkov
SUMMARY:LIB-U22M-3: Tělovýchovná jednota SLAVIA Liberec\, z.s. 'B'-TJ Zákup
 y\, z.s.
END:VEVENT
BEGIN:VEVENT
UID:62376537-3263-4461-b935-363963333931
DTSTAMP:20260422T060924Z
DESCRIPTION:3/10 TJ Lokomotiva Česká Lípa\, z.s. - Tělovýchovná jednota SLA
 VIA Liberec\, z.s. 'C' 2:0 (11\,11)\nZákladní škola\, Liberec\, Aloisina v
 ýšina 642/51
DTSTART;TZID=Europe/Berlin:20251220T130000
DTEND;TZID=Europe/Berlin:20251220T150000
LOCATION:ZŠ Lada\, Šluknovská 2904 Česká Lípa
SUMMARY:LIB-U22M-3: TJ Lokomotiva Česká Lípa\, z.s.-Tělovýchovná jednota SL
 AVIA Liberec\, z.s. 'C'
END:VEVENT
END:VCALENDAR
