BEGIN:VCALENDAR
VERSION:2.0
PRODID:-//MS-U14Z-T4C//NONSGML kigkonsult.se iCalcreator 2.41.80//
CALSCALE:GREGORIAN
UID:62343137-6330-4762-a337-353532356639
BEGIN:VEVENT
UID:62343631-3931-4830-b732-306565393062
DTSTAMP:20260422T075415Z
DESCRIPTION:1/1 VKB Frýdlant n.O. - TJ Ostrava A 2:0 (17\,21)
DTSTART;TZID=Europe/Berlin:20260110T090000
DTEND;TZID=Europe/Berlin:20260110T110000
LOCATION:Hala míčových sportů\, Varenská 3098 Ostrava - Moravská Ostrava
SUMMARY:MS-U14Z-T4C: VKB Frýdlant n.O.-TJ Ostrava A
END:VEVENT
BEGIN:VEVENT
UID:61366632-3937-4135-b938-353266353634
DTSTAMP:20260422T075415Z
DESCRIPTION:1/2 SVK Nový Jičín B - SVK Nový Jičín A 0:2 (-14\,-8)
DTSTART;TZID=Europe/Berlin:20260110T090000
DTEND;TZID=Europe/Berlin:20260110T110000
LOCATION:Hala míčových sportů\, Varenská 3098 Ostrava - Moravská Ostrava
SUMMARY:MS-U14Z-T4C: SVK Nový Jičín B-SVK Nový Jičín A
END:VEVENT
BEGIN:VEVENT
UID:36356639-3762-4464-b061-333366663439
DTSTAMP:20260422T075415Z
DESCRIPTION:2/3 SVK Nový Jičín B - VKB Frýdlant n.O. 0:2 (-8\,-12)
DTSTART;TZID=Europe/Berlin:20260110T103000
DTEND;TZID=Europe/Berlin:20260110T123000
LOCATION:Hala míčových sportů\, Varenská 3098 Ostrava - Moravská Ostrava
SUMMARY:MS-U14Z-T4C: SVK Nový Jičín B-VKB Frýdlant n.O.
END:VEVENT
BEGIN:VEVENT
UID:39306261-6234-4435-b664-346163313136
DTSTAMP:20260422T075415Z
DESCRIPTION:3/4 VKB Frýdlant n.O. - SVK Nový Jičín A 2:1 (29\,-23\,11)
DTSTART;TZID=Europe/Berlin:20260110T120000
DTEND;TZID=Europe/Berlin:20260110T140000
LOCATION:Hala míčových sportů\, Varenská 3098 Ostrava - Moravská Ostrava
SUMMARY:MS-U14Z-T4C: VKB Frýdlant n.O.-SVK Nový Jičín A
END:VEVENT
BEGIN:VEVENT
UID:36343336-3666-4632-a533-323662366237
DTSTAMP:20260422T075415Z
DESCRIPTION:3/5 SVK Nový Jičín B - TJ Ostrava A 0:2 (-8\,-16)
DTSTART;TZID=Europe/Berlin:20260110T120000
DTEND;TZID=Europe/Berlin:20260110T140000
LOCATION:Hala míčových sportů\, Varenská 3098 Ostrava - Moravská Ostrava
SUMMARY:MS-U14Z-T4C: SVK Nový Jičín B-TJ Ostrava A
END:VEVENT
BEGIN:VEVENT
UID:32653230-3038-4439-a564-313037653061
DTSTAMP:20260422T075415Z
DESCRIPTION:4/6 SVK Nový Jičín A - TJ Ostrava A 2:1 (-20\,19\,9)
DTSTART;TZID=Europe/Berlin:20260110T133000
DTEND;TZID=Europe/Berlin:20260110T153000
LOCATION:Hala míčových sportů\, Varenská 3098 Ostrava - Moravská Ostrava
SUMMARY:MS-U14Z-T4C: SVK Nový Jičín A-TJ Ostrava A
END:VEVENT
END:VCALENDAR
