BEGIN:VCALENDAR
VERSION:2.0
PRODID:-//PP-U16Z-4-E//NONSGML kigkonsult.se iCalcreator 2.41.80//
CALSCALE:GREGORIAN
UID:34643232-3038-4338-b932-353166643834
BEGIN:VEVENT
UID:62316638-3062-4438-a563-653437323039
DTSTAMP:20260421T210037Z
DESCRIPTION:1/1 SK Meteor Praha A - Orion Praha B 2:0 (19\,14)
DTSTART;TZID=Europe/Berlin:20260111T090000
DTEND;TZID=Europe/Berlin:20260111T110000
LOCATION:ZŠ Dolní Břežany\, Na Vršku 290 Dolní Břežany
SUMMARY:PP-U16Z-4-E: SK Meteor Praha A-Orion Praha B
END:VEVENT
BEGIN:VEVENT
UID:33623935-3533-4638-b032-303034396436
DTSTAMP:20260421T210037Z
DESCRIPTION:2/2 Studio Sport - Orion Praha C 0:2 (-21\,-15)
DTSTART;TZID=Europe/Berlin:20260111T100000
DTEND;TZID=Europe/Berlin:20260111T120000
LOCATION:ZŠ Dolní Břežany\, Na Vršku 290 Dolní Břežany
SUMMARY:PP-U16Z-4-E: Studio Sport-Orion Praha C
END:VEVENT
BEGIN:VEVENT
UID:31376632-6130-4338-a536-303632316332
DTSTAMP:20260421T210037Z
DESCRIPTION:3/3 Orion Praha B - Orion Praha C 1:2 (24\,-13\,-9)
DTSTART;TZID=Europe/Berlin:20260111T110000
DTEND;TZID=Europe/Berlin:20260111T130000
LOCATION:ZŠ Dolní Břežany\, Na Vršku 290 Dolní Břežany
SUMMARY:PP-U16Z-4-E: Orion Praha B-Orion Praha C
END:VEVENT
BEGIN:VEVENT
UID:34643963-6336-4938-b764-393664343433
DTSTAMP:20260421T210037Z
DESCRIPTION:4/4 SK Meteor Praha A - Studio Sport 2:1 (20\,-17\,7)
DTSTART;TZID=Europe/Berlin:20260111T120000
DTEND;TZID=Europe/Berlin:20260111T140000
LOCATION:ZŠ Dolní Břežany\, Na Vršku 290 Dolní Břežany
SUMMARY:PP-U16Z-4-E: SK Meteor Praha A-Studio Sport
END:VEVENT
BEGIN:VEVENT
UID:62393137-3434-4536-b639-326462343766
DTSTAMP:20260421T210037Z
DESCRIPTION:5/5 Studio Sport - Orion Praha B 2:0 (19\,20)
DTSTART;TZID=Europe/Berlin:20260111T130000
DTEND;TZID=Europe/Berlin:20260111T150000
LOCATION:ZŠ Dolní Břežany\, Na Vršku 290 Dolní Břežany
SUMMARY:PP-U16Z-4-E: Studio Sport-Orion Praha B
END:VEVENT
BEGIN:VEVENT
UID:31383930-6361-4434-b230-336661636163
DTSTAMP:20260421T210037Z
DESCRIPTION:6/6 Orion Praha C - SK Meteor Praha A 2:1 (8\,-21\,14)
DTSTART;TZID=Europe/Berlin:20260111T140000
DTEND;TZID=Europe/Berlin:20260111T160000
LOCATION:ZŠ Dolní Břežany\, Na Vršku 290 Dolní Břežany
SUMMARY:PP-U16Z-4-E: Orion Praha C-SK Meteor Praha A
END:VEVENT
END:VCALENDAR
