BEGIN:VCALENDAR
VERSION:2.0
PRODID:-//PP-U16Z-4-H//NONSGML kigkonsult.se iCalcreator 2.41.80//
CALSCALE:GREGORIAN
UID:37393663-6461-4564-a436-373165633238
BEGIN:VEVENT
UID:62613131-3366-4636-b135-303261643065
DTSTAMP:20260421T192005Z
DESCRIPTION:1/1 Mikulova C - Mikulova D 0:2 (-22\,-19)
DTSTART;TZID=Europe/Berlin:20260111T090000
DTEND;TZID=Europe/Berlin:20260111T110000
LOCATION:SKŠ ZŠ Mikulova Praha\, Mikulova 1594 Praha - Chodov
SUMMARY:PP-U16Z-4-H: Mikulova C-Mikulova D
END:VEVENT
BEGIN:VEVENT
UID:31333463-3930-4661-b864-363763643530
DTSTAMP:20260421T192005Z
DESCRIPTION:1/2 Wizards DDM Praha 10 - SK Dansport Praha B 2:0 (22\,19)
DTSTART;TZID=Europe/Berlin:20260111T090000
DTEND;TZID=Europe/Berlin:20260111T110000
LOCATION:SKŠ ZŠ Mikulova Praha\, Mikulova 1594 Praha - Chodov
SUMMARY:PP-U16Z-4-H: Wizards DDM Praha 10-SK Dansport Praha B
END:VEVENT
BEGIN:VEVENT
UID:31373836-6630-4931-a334-613437353436
DTSTAMP:20260421T192005Z
DESCRIPTION:2/3 Mikulova D - SK Dansport Praha B 2:0 (25\,11)
DTSTART;TZID=Europe/Berlin:20260111T100000
DTEND;TZID=Europe/Berlin:20260111T120000
LOCATION:SKŠ ZŠ Mikulova Praha\, Mikulova 1594 Praha - Chodov
SUMMARY:PP-U16Z-4-H: Mikulova D-SK Dansport Praha B
END:VEVENT
BEGIN:VEVENT
UID:34643863-6661-4334-a431-623361323864
DTSTAMP:20260421T192005Z
DESCRIPTION:2/4 Mikulova C - Wizards DDM Praha 10 2:0 (18\,21)
DTSTART;TZID=Europe/Berlin:20260111T100000
DTEND;TZID=Europe/Berlin:20260111T120000
LOCATION:SKŠ ZŠ Mikulova Praha\, Mikulova 1594 Praha - Chodov
SUMMARY:PP-U16Z-4-H: Mikulova C-Wizards DDM Praha 10
END:VEVENT
BEGIN:VEVENT
UID:38646138-6565-4332-b435-373130393162
DTSTAMP:20260421T192005Z
DESCRIPTION:3/5 Wizards DDM Praha 10 - Mikulova D 2:0 (13\,16)
DTSTART;TZID=Europe/Berlin:20260111T110000
DTEND;TZID=Europe/Berlin:20260111T130000
LOCATION:SKŠ ZŠ Mikulova Praha\, Mikulova 1594 Praha - Chodov
SUMMARY:PP-U16Z-4-H: Wizards DDM Praha 10-Mikulova D
END:VEVENT
BEGIN:VEVENT
UID:66393137-3737-4631-b337-636538336434
DTSTAMP:20260421T192005Z
DESCRIPTION:3/6 SK Dansport Praha B - Mikulova C 0:2 (-23\,-19)
DTSTART;TZID=Europe/Berlin:20260111T110000
DTEND;TZID=Europe/Berlin:20260111T130000
LOCATION:SKŠ ZŠ Mikulova Praha\, Mikulova 1594 Praha - Chodov
SUMMARY:PP-U16Z-4-H: SK Dansport Praha B-Mikulova C
END:VEVENT
END:VCALENDAR
