BEGIN:VCALENDAR
VERSION:2.0
PRODID:-//PP-U16Z-4-J//NONSGML kigkonsult.se iCalcreator 2.41.80//
CALSCALE:GREGORIAN
UID:66303731-6666-4738-a431-336631313739
BEGIN:VEVENT
UID:39633862-3233-4631-b563-333731303538
DTSTAMP:20260421T210042Z
DESCRIPTION:1/1 SK Kometa Praha D - SK Meteor Praha C 2:0 (23\,16)
DTSTART;TZID=Europe/Berlin:20260111T090000
DTEND;TZID=Europe/Berlin:20260111T110000
LOCATION:Sokol Bubeneč\, Korunovační 630 Praha - Bubeneč
SUMMARY:PP-U16Z-4-J: SK Kometa Praha D-SK Meteor Praha C
END:VEVENT
BEGIN:VEVENT
UID:31376566-6238-4630-b337-633535653738
DTSTAMP:20260421T210042Z
DESCRIPTION:1/2 VK Lvi Praha C - SK Kometa Praha D 2:0 (10\,9)
DTSTART;TZID=Europe/Berlin:20260111T100000
DTEND;TZID=Europe/Berlin:20260111T120000
LOCATION:Sokol Bubeneč\, Korunovační 630 Praha - Bubeneč
SUMMARY:PP-U16Z-4-J: VK Lvi Praha C-SK Kometa Praha D
END:VEVENT
BEGIN:VEVENT
UID:62363835-6633-4333-a534-346238383236
DTSTAMP:20260421T210042Z
DESCRIPTION:1/3 SK Meteor Praha C - VK Lvi Praha C 0:2 (-19\,-23)
DTSTART;TZID=Europe/Berlin:20260111T110000
DTEND;TZID=Europe/Berlin:20260111T130000
LOCATION:Sokol Bubeneč\, Korunovační 630 Praha - Bubeneč
SUMMARY:PP-U16Z-4-J: SK Meteor Praha C-VK Lvi Praha C
END:VEVENT
BEGIN:VEVENT
UID:33633562-3730-4761-b739-633837646330
DTSTAMP:20260421T210042Z
DESCRIPTION:2/4 SK Kometa Praha D - SK Meteor Praha C 2:0 (23\,17)
DTSTART;TZID=Europe/Berlin:20260111T120000
DTEND;TZID=Europe/Berlin:20260111T140000
LOCATION:Sokol Bubeneč\, Korunovační 630 Praha - Bubeneč
SUMMARY:PP-U16Z-4-J: SK Kometa Praha D-SK Meteor Praha C
END:VEVENT
BEGIN:VEVENT
UID:35653537-6566-4863-a566-346335363132
DTSTAMP:20260421T210042Z
DESCRIPTION:2/5 VK Lvi Praha C - SK Kometa Praha D 2:1 (-20\,14\,9)
DTSTART;TZID=Europe/Berlin:20260111T130000
DTEND;TZID=Europe/Berlin:20260111T150000
LOCATION:Sokol Bubeneč\, Korunovační 630 Praha - Bubeneč
SUMMARY:PP-U16Z-4-J: VK Lvi Praha C-SK Kometa Praha D
END:VEVENT
BEGIN:VEVENT
UID:34346334-3336-4963-b132-303062666536
DTSTAMP:20260421T210042Z
DESCRIPTION:2/6 SK Meteor Praha C - VK Lvi Praha C 0:2 (-23\,-14)
DTSTART;TZID=Europe/Berlin:20260111T140000
DTEND;TZID=Europe/Berlin:20260111T160000
LOCATION:Sokol Bubeneč\, Korunovační 630 Praha - Bubeneč
SUMMARY:PP-U16Z-4-J: SK Meteor Praha C-VK Lvi Praha C
END:VEVENT
END:VCALENDAR
