BEGIN:VCALENDAR
VERSION:2.0
PRODID:-//JC-U16Z2-5A//NONSGML kigkonsult.se iCalcreator 2.41.80//
CALSCALE:GREGORIAN
UID:66343066-3131-4133-a233-633063613434
BEGIN:VEVENT
UID:64643739-3537-4839-b165-643961313461
DTSTAMP:20260421T192000Z
DESCRIPTION:1/1 Sokol Písek - Volejbal Tábor C 1:2 (-20\,24\,-3)
DTSTART;TZID=Europe/Berlin:20260111T090000
DTEND;TZID=Europe/Berlin:20260111T110000
LOCATION:Hala Gymnázium Písek\, Komenského 89 Písek - Budějovické Předměstí
SUMMARY:JC-U16Z2-5A: Sokol Písek-Volejbal Tábor C
END:VEVENT
BEGIN:VEVENT
UID:65633732-6334-4035-b534-646265353037
DTSTAMP:20260421T192000Z
DESCRIPTION:1/2 Volejbal Rudolfov C - TJ Slovan J. Hradec\, z.s. B 2:0 (17\
 ,8)
DTSTART;TZID=Europe/Berlin:20260111T090000
DTEND;TZID=Europe/Berlin:20260111T110000
LOCATION:Hala Gymnázium Písek\, Komenského 89 Písek - Budějovické Předměstí
SUMMARY:JC-U16Z2-5A: Volejbal Rudolfov C-TJ Slovan J. Hradec\, z.s. B
END:VEVENT
BEGIN:VEVENT
UID:35626337-3661-4432-a133-633632626433
DTSTAMP:20260421T192000Z
DESCRIPTION:1/3 Volejbal Tábor C - Volejbal Rudolfov C 0:2 (-16\,-18)
DTSTART;TZID=Europe/Berlin:20260111T101500
DTEND;TZID=Europe/Berlin:20260111T121500
LOCATION:Hala Gymnázium Písek\, Komenského 89 Písek - Budějovické Předměstí
SUMMARY:JC-U16Z2-5A: Volejbal Tábor C-Volejbal Rudolfov C
END:VEVENT
BEGIN:VEVENT
UID:30376231-6261-4563-b865-323538306464
DTSTAMP:20260421T192000Z
DESCRIPTION:1/4 TJ Slovan J. Hradec\, z.s. B - VSK ČK B 2:1 (-21\,19\,7)
DTSTART;TZID=Europe/Berlin:20260111T101500
DTEND;TZID=Europe/Berlin:20260111T121500
LOCATION:Hala Gymnázium Písek\, Komenského 89 Písek - Budějovické Předměstí
SUMMARY:JC-U16Z2-5A: TJ Slovan J. Hradec\, z.s. B-VSK ČK B
END:VEVENT
BEGIN:VEVENT
UID:66393033-3335-4836-a431-396637613662
DTSTAMP:20260421T192000Z
DESCRIPTION:1/5 Sokol Písek - VSK ČK B 2:0 (23\,16)
DTSTART;TZID=Europe/Berlin:20260111T113000
DTEND;TZID=Europe/Berlin:20260111T133000
LOCATION:Hala Gymnázium Písek\, Komenského 89 Písek - Budějovické Předměstí
SUMMARY:JC-U16Z2-5A: Sokol Písek-VSK ČK B
END:VEVENT
BEGIN:VEVENT
UID:38343532-3934-4037-b238-316364373730
DTSTAMP:20260421T192000Z
DESCRIPTION:2/6 Volejbal Tábor C - TJ Slovan J. Hradec\, z.s. B 2:0 (13\,6)
DTSTART;TZID=Europe/Berlin:20260111T113000
DTEND;TZID=Europe/Berlin:20260111T133000
LOCATION:Hala Gymnázium Písek\, Komenského 89 Písek - Budějovické Předměstí
SUMMARY:JC-U16Z2-5A: Volejbal Tábor C-TJ Slovan J. Hradec\, z.s. B
END:VEVENT
BEGIN:VEVENT
UID:33353662-6331-4861-a562-373132626563
DTSTAMP:20260421T192000Z
DESCRIPTION:2/7 Volejbal Rudolfov C - Sokol Písek 2:0 (16\,8)
DTSTART;TZID=Europe/Berlin:20260111T124500
DTEND;TZID=Europe/Berlin:20260111T144500
LOCATION:Hala Gymnázium Písek\, Komenského 89 Písek - Budějovické Předměstí
SUMMARY:JC-U16Z2-5A: Volejbal Rudolfov C-Sokol Písek
END:VEVENT
BEGIN:VEVENT
UID:34383166-3035-4130-a166-346438326330
DTSTAMP:20260421T192000Z
DESCRIPTION:2/8 VSK ČK B - Volejbal Tábor C 0:2 (-19\,-21)
DTSTART;TZID=Europe/Berlin:20260111T124500
DTEND;TZID=Europe/Berlin:20260111T144500
LOCATION:Hala Gymnázium Písek\, Komenského 89 Písek - Budějovické Předměstí
SUMMARY:JC-U16Z2-5A: VSK ČK B-Volejbal Tábor C
END:VEVENT
BEGIN:VEVENT
UID:63326365-3939-4130-a538-623739356663
DTSTAMP:20260421T192000Z
DESCRIPTION:2/9 TJ Slovan J. Hradec\, z.s. B - Sokol Písek 2:1 (19\,-15\,14
 )
DTSTART;TZID=Europe/Berlin:20260111T140000
DTEND;TZID=Europe/Berlin:20260111T160000
LOCATION:Hala Gymnázium Písek\, Komenského 89 Písek - Budějovické Předměstí
SUMMARY:JC-U16Z2-5A: TJ Slovan J. Hradec\, z.s. B-Sokol Písek
END:VEVENT
BEGIN:VEVENT
UID:32313635-3039-4438-b739-666233623935
DTSTAMP:20260421T192000Z
DESCRIPTION:2/10 VSK ČK B - Volejbal Rudolfov C 0:2 (-15\,-15)
DTSTART;TZID=Europe/Berlin:20260111T140000
DTEND;TZID=Europe/Berlin:20260111T160000
LOCATION:Hala Gymnázium Písek\, Komenského 89 Písek - Budějovické Předměstí
SUMMARY:JC-U16Z2-5A: VSK ČK B-Volejbal Rudolfov C
END:VEVENT
END:VCALENDAR
