BEGIN:VCALENDAR
VERSION:2.0
PRODID:-//JC-U16Z2-5B//NONSGML kigkonsult.se iCalcreator 2.41.80//
CALSCALE:GREGORIAN
UID:36613333-3037-4861-b530-643938643635
BEGIN:VEVENT
UID:66323539-3363-4138-b362-663666316439
DTSTAMP:20260421T192010Z
DESCRIPTION:1/1 VSK Slavia JU CB - Volejbal Rudolfov B 0:2 (-10\,-17)
DTSTART;TZID=Europe/Berlin:20260111T090000
DTEND;TZID=Europe/Berlin:20260111T110000
LOCATION:ZŠ Oskara Nedbala České Budějovice\, O. Nedbala 882 České Budějovi
 ce - České Budějovice 2
SUMMARY:JC-U16Z2-5B: VSK Slavia JU CB-Volejbal Rudolfov B
END:VEVENT
BEGIN:VEVENT
UID:63333839-3862-4562-b666-316365376436
DTSTAMP:20260421T192010Z
DESCRIPTION:1/2 Madeta Jihostroj ČB C - SK Otava Písek B 2:1 (17\,-18\,12)
DTSTART;TZID=Europe/Berlin:20260111T090000
DTEND;TZID=Europe/Berlin:20260111T110000
LOCATION:ZŠ Oskara Nedbala České Budějovice\, O. Nedbala 882 České Budějovi
 ce - České Budějovice 2
SUMMARY:JC-U16Z2-5B: Madeta Jihostroj ČB C-SK Otava Písek B
END:VEVENT
BEGIN:VEVENT
UID:35636266-3339-4632-a538-363065346161
DTSTAMP:20260421T192010Z
DESCRIPTION:1/3 TJ Tatran Prachatice\, z.s. - VSK Slavia JU CB 2:1 (23\,-16
 \,13)
DTSTART;TZID=Europe/Berlin:20260111T101500
DTEND;TZID=Europe/Berlin:20260111T121500
LOCATION:ZŠ Oskara Nedbala České Budějovice\, O. Nedbala 882 České Budějovi
 ce - České Budějovice 2
SUMMARY:JC-U16Z2-5B: TJ Tatran Prachatice\, z.s.-VSK Slavia JU CB
END:VEVENT
BEGIN:VEVENT
UID:36636462-6236-4664-b366-623864333234
DTSTAMP:20260421T192010Z
DESCRIPTION:1/4 Volejbal Rudolfov B - Madeta Jihostroj ČB C 2:0 (17\,24)
DTSTART;TZID=Europe/Berlin:20260111T101500
DTEND;TZID=Europe/Berlin:20260111T121500
LOCATION:ZŠ Oskara Nedbala České Budějovice\, O. Nedbala 882 České Budějovi
 ce - České Budějovice 2
SUMMARY:JC-U16Z2-5B: Volejbal Rudolfov B-Madeta Jihostroj ČB C
END:VEVENT
BEGIN:VEVENT
UID:65333464-6135-4363-a161-396138376630
DTSTAMP:20260421T192010Z
DESCRIPTION:1/5 TJ Tatran Prachatice\, z.s. - SK Otava Písek B 0:2 (-18\,-1
 1)
DTSTART;TZID=Europe/Berlin:20260111T113000
DTEND;TZID=Europe/Berlin:20260111T133000
LOCATION:ZŠ Oskara Nedbala České Budějovice\, O. Nedbala 882 České Budějovi
 ce - České Budějovice 2
SUMMARY:JC-U16Z2-5B: TJ Tatran Prachatice\, z.s.-SK Otava Písek B
END:VEVENT
BEGIN:VEVENT
UID:38396238-3662-4334-a633-353230636133
DTSTAMP:20260421T192010Z
DESCRIPTION:2/6 VSK Slavia JU CB - Madeta Jihostroj ČB C 0:2 (-17\,-20)
DTSTART;TZID=Europe/Berlin:20260111T113000
DTEND;TZID=Europe/Berlin:20260111T133000
LOCATION:ZŠ Oskara Nedbala České Budějovice\, O. Nedbala 882 České Budějovi
 ce - České Budějovice 2
SUMMARY:JC-U16Z2-5B: VSK Slavia JU CB-Madeta Jihostroj ČB C
END:VEVENT
BEGIN:VEVENT
UID:33316362-3631-4837-b437-393663356330
DTSTAMP:20260421T192010Z
DESCRIPTION:2/7 Volejbal Rudolfov B - TJ Tatran Prachatice\, z.s. 2:0 (16\,
 12)
DTSTART;TZID=Europe/Berlin:20260111T124500
DTEND;TZID=Europe/Berlin:20260111T144500
LOCATION:ZŠ Oskara Nedbala České Budějovice\, O. Nedbala 882 České Budějovi
 ce - České Budějovice 2
SUMMARY:JC-U16Z2-5B: Volejbal Rudolfov B-TJ Tatran Prachatice\, z.s.
END:VEVENT
BEGIN:VEVENT
UID:36646131-6331-4433-b165-366135633639
DTSTAMP:20260421T192010Z
DESCRIPTION:2/8 SK Otava Písek B - VSK Slavia JU CB 2:0 (14\,19)
DTSTART;TZID=Europe/Berlin:20260111T124500
DTEND;TZID=Europe/Berlin:20260111T144500
LOCATION:ZŠ Oskara Nedbala České Budějovice\, O. Nedbala 882 České Budějovi
 ce - České Budějovice 2
SUMMARY:JC-U16Z2-5B: SK Otava Písek B-VSK Slavia JU CB
END:VEVENT
BEGIN:VEVENT
UID:34396562-6432-4131-a163-383333356339
DTSTAMP:20260421T192010Z
DESCRIPTION:2/9 Madeta Jihostroj ČB C - TJ Tatran Prachatice\, z.s. 2:0 (19
 \,19)
DTSTART;TZID=Europe/Berlin:20260111T140000
DTEND;TZID=Europe/Berlin:20260111T160000
LOCATION:ZŠ Oskara Nedbala České Budějovice\, O. Nedbala 882 České Budějovi
 ce - České Budějovice 2
SUMMARY:JC-U16Z2-5B: Madeta Jihostroj ČB C-TJ Tatran Prachatice\, z.s.
END:VEVENT
BEGIN:VEVENT
UID:64396566-3364-4436-a165-626138643631
DTSTAMP:20260421T192010Z
DESCRIPTION:2/10 SK Otava Písek B - Volejbal Rudolfov B 2:0 (24\,19)
DTSTART;TZID=Europe/Berlin:20260111T140000
DTEND;TZID=Europe/Berlin:20260111T160000
LOCATION:ZŠ Oskara Nedbala České Budějovice\, O. Nedbala 882 České Budějovi
 ce - České Budějovice 2
SUMMARY:JC-U16Z2-5B: SK Otava Písek B-Volejbal Rudolfov B
END:VEVENT
END:VCALENDAR
