BEGIN:VCALENDAR
VERSION:2.0
PRODID:-//PP-U20M-T4-1B//NONSGML kigkonsult.se iCalcreator 2.41.80//
CALSCALE:GREGORIAN
UID:33303531-3639-4463-b036-623137633561
BEGIN:VEVENT
UID:34373230-3430-4537-b063-306335643837
DTSTAMP:20260424T090008Z
DESCRIPTION:1/1 VK Lvi Praha B - SK Meteor Praha A 2:1 (-23\,22\,9)
DTSTART;TZID=Europe/Berlin:20260118T090000
DTEND;TZID=Europe/Berlin:20260118T110000
LOCATION:Sokol Bubeneč\, Korunovační 630 Praha - Bubeneč
SUMMARY:PP-U20M-T4-1B: VK Lvi Praha B-SK Meteor Praha A
END:VEVENT
BEGIN:VEVENT
UID:38306538-3735-4231-b664-343830616634
DTSTAMP:20260424T090008Z
DESCRIPTION:2/2 BVŠP - VK Lvi Praha B 0:2 (-20\,-18)
DTSTART;TZID=Europe/Berlin:20260118T100000
DTEND;TZID=Europe/Berlin:20260118T120000
LOCATION:Sokol Bubeneč\, Korunovační 630 Praha - Bubeneč
SUMMARY:PP-U20M-T4-1B: BVŠP-VK Lvi Praha B
END:VEVENT
BEGIN:VEVENT
UID:32623335-3665-4135-a137-613361306436
DTSTAMP:20260424T090008Z
DESCRIPTION:3/3 SK Meteor Praha A - BVŠP 2:0 (27\,20)
DTSTART;TZID=Europe/Berlin:20260118T110000
DTEND;TZID=Europe/Berlin:20260118T130000
LOCATION:Sokol Bubeneč\, Korunovační 630 Praha - Bubeneč
SUMMARY:PP-U20M-T4-1B: SK Meteor Praha A-BVŠP
END:VEVENT
END:VCALENDAR
