BEGIN:VCALENDAR
VERSION:2.0
PRODID:-//PP-U20M-T4-B//NONSGML kigkonsult.se iCalcreator 2.41.80//
CALSCALE:GREGORIAN
UID:39306565-6533-4933-b663-613430656437
BEGIN:VEVENT
UID:37656337-3764-4330-b930-333039623431
DTSTAMP:20260424T201801Z
DESCRIPTION:1/1 SK Meteor Praha C - Vršovice 1:2 (22\,-24\,-10)
DTSTART;TZID=Europe/Berlin:20260118T153000
DTEND;TZID=Europe/Berlin:20260118T173000
LOCATION:Sokol Bubeneč\, Korunovační 630 Praha - Bubeneč
SUMMARY:PP-U20M-T4-B: SK Meteor Praha C-Vršovice
END:VEVENT
BEGIN:VEVENT
UID:34333464-6466-4465-b331-333730366534
DTSTAMP:20260424T201801Z
DESCRIPTION:2/2 Ace Volleyball Academy z.s. - SK Meteor Praha B 2:0 (17\,20
 )
DTSTART;TZID=Europe/Berlin:20260118T153000
DTEND;TZID=Europe/Berlin:20260118T173000
LOCATION:Sokol Bubeneč\, Korunovační 630 Praha - Bubeneč
SUMMARY:PP-U20M-T4-B: Ace Volleyball Academy z.s.-SK Meteor Praha B
END:VEVENT
BEGIN:VEVENT
UID:35306239-6139-4437-b536-326461353865
DTSTAMP:20260424T201801Z
DESCRIPTION:3/3 Vršovice - SK Meteor Praha B 2:0 (20\,23)
DTSTART;TZID=Europe/Berlin:20260118T163000
DTEND;TZID=Europe/Berlin:20260118T183000
LOCATION:Sokol Bubeneč\, Korunovační 630 Praha - Bubeneč
SUMMARY:PP-U20M-T4-B: Vršovice-SK Meteor Praha B
END:VEVENT
BEGIN:VEVENT
UID:35383062-6335-4166-a362-383431643966
DTSTAMP:20260424T201801Z
DESCRIPTION:4/4 SK Meteor Praha C - Ace Volleyball Academy z.s. 0:2 (-23\,-
 22)
DTSTART;TZID=Europe/Berlin:20260118T163000
DTEND;TZID=Europe/Berlin:20260118T183000
LOCATION:Sokol Bubeneč\, Korunovační 630 Praha - Bubeneč
SUMMARY:PP-U20M-T4-B: SK Meteor Praha C-Ace Volleyball Academy z.s.
END:VEVENT
BEGIN:VEVENT
UID:35613739-6464-4637-b732-306436356635
DTSTAMP:20260424T201801Z
DESCRIPTION:5/5 Ace Volleyball Academy z.s. - Vršovice 2:1 (-19\,23\,10)
DTSTART;TZID=Europe/Berlin:20260118T173000
DTEND;TZID=Europe/Berlin:20260118T193000
LOCATION:Sokol Bubeneč\, Korunovační 630 Praha - Bubeneč
SUMMARY:PP-U20M-T4-B: Ace Volleyball Academy z.s.-Vršovice
END:VEVENT
BEGIN:VEVENT
UID:62333064-6439-4937-b539-386261386566
DTSTAMP:20260424T201801Z
DESCRIPTION:6/6 SK Meteor Praha B - SK Meteor Praha C 0:2 (-20\,-23)
DTSTART;TZID=Europe/Berlin:20260118T173000
DTEND;TZID=Europe/Berlin:20260118T193000
LOCATION:Sokol Bubeneč\, Korunovační 630 Praha - Bubeneč
SUMMARY:PP-U20M-T4-B: SK Meteor Praha B-SK Meteor Praha C
END:VEVENT
END:VCALENDAR
