BEGIN:VCALENDAR
VERSION:2.0
PRODID:-//JC-U18Z-1B5//NONSGML kigkonsult.se iCalcreator 2.41.80//
CALSCALE:GREGORIAN
UID:30633539-3565-4966-b136-633061363735
BEGIN:VEVENT
UID:38326339-3762-4639-b736-313131656535
DTSTAMP:20260424T201809Z
DESCRIPTION:1/1 Madeta Jihostroj ČB B - Volejbal Rudolfov 3:0 (18\,14\,20)
DTSTART;TZID=Europe/Berlin:20260124T090000
DTEND;TZID=Europe/Berlin:20260124T110000
LOCATION:Sportovní Hala Mír\, U Stadionu Míru 1579 Tábor
SUMMARY:JC-U18Z-1B5: Madeta Jihostroj ČB B-Volejbal Rudolfov
END:VEVENT
BEGIN:VEVENT
UID:61313763-3936-4237-a364-343538613337
DTSTAMP:20260424T201809Z
DESCRIPTION:1/2 Prachatice A - Volejbal Rudolfov 0:3 (-14\,-15\,-18)
DTSTART;TZID=Europe/Berlin:20260124T103000
DTEND;TZID=Europe/Berlin:20260124T123000
LOCATION:Sportovní Hala Mír\, U Stadionu Míru 1579 Tábor
SUMMARY:JC-U18Z-1B5: Prachatice A-Volejbal Rudolfov
END:VEVENT
BEGIN:VEVENT
UID:34663166-6635-4264-b662-393534636632
DTSTAMP:20260424T201809Z
DESCRIPTION:1/3 Madeta Jihostroj ČB B - Prachatice A 3:0 (6\,10\,19)
DTSTART;TZID=Europe/Berlin:20260124T120000
DTEND;TZID=Europe/Berlin:20260124T140000
LOCATION:Sportovní Hala Mír\, U Stadionu Míru 1579 Tábor
SUMMARY:JC-U18Z-1B5: Madeta Jihostroj ČB B-Prachatice A
END:VEVENT
END:VCALENDAR
