BEGIN:VCALENDAR
VERSION:2.0
PRODID:-//PP-U18Z-4-B//NONSGML kigkonsult.se iCalcreator 2.41.80//
CALSCALE:GREGORIAN
UID:30346364-6430-4739-a135-353936336438
BEGIN:VEVENT
UID:62616562-3131-4432-b235-333161663938
DTSTAMP:20260421T192005Z
DESCRIPTION:1/1 Španielka A - Radotín 1:2 (-23\,21\,-8)
DTSTART;TZID=Europe/Berlin:20260124T090000
DTEND;TZID=Europe/Berlin:20260124T110000
LOCATION:Tělocvična ZŠ\, Španielova 1111 Praha - Řepy
SUMMARY:PP-U18Z-4-B: Španielka A-Radotín
END:VEVENT
BEGIN:VEVENT
UID:63316239-6262-4762-b238-626663626339
DTSTAMP:20260421T192005Z
DESCRIPTION:2/2 Orion Praha B - VK Lvi Praha B 0:2 (-13\,-17)
DTSTART;TZID=Europe/Berlin:20260124T090000
DTEND;TZID=Europe/Berlin:20260124T110000
LOCATION:Tělocvična ZŠ\, Španielova 1111 Praha - Řepy
SUMMARY:PP-U18Z-4-B: Orion Praha B-VK Lvi Praha B
END:VEVENT
BEGIN:VEVENT
UID:35333361-3866-4635-b735-613836313537
DTSTAMP:20260421T192005Z
DESCRIPTION:3/3 Radotín - VK Lvi Praha B 2:1 (-20\,12\,10)
DTSTART;TZID=Europe/Berlin:20260124T100000
DTEND;TZID=Europe/Berlin:20260124T120000
LOCATION:Tělocvična ZŠ\, Španielova 1111 Praha - Řepy
SUMMARY:PP-U18Z-4-B: Radotín-VK Lvi Praha B
END:VEVENT
BEGIN:VEVENT
UID:36623137-6238-4564-b436-616637383864
DTSTAMP:20260421T192005Z
DESCRIPTION:4/4 Španielka A - Orion Praha B 2:0 (8\,23)
DTSTART;TZID=Europe/Berlin:20260124T100000
DTEND;TZID=Europe/Berlin:20260124T120000
LOCATION:Tělocvična ZŠ\, Španielova 1111 Praha - Řepy
SUMMARY:PP-U18Z-4-B: Španielka A-Orion Praha B
END:VEVENT
BEGIN:VEVENT
UID:39636635-6561-4665-b330-373330313334
DTSTAMP:20260421T192005Z
DESCRIPTION:5/5 Orion Praha B - Radotín 0:2 (-22\,-14)
DTSTART;TZID=Europe/Berlin:20260124T110000
DTEND;TZID=Europe/Berlin:20260124T130000
LOCATION:Tělocvična ZŠ\, Španielova 1111 Praha - Řepy
SUMMARY:PP-U18Z-4-B: Orion Praha B-Radotín
END:VEVENT
BEGIN:VEVENT
UID:32323433-6165-4734-b866-393963366633
DTSTAMP:20260421T192005Z
DESCRIPTION:6/6 VK Lvi Praha B - Španielka A 0:2 (-24\,-18)
DTSTART;TZID=Europe/Berlin:20260124T110000
DTEND;TZID=Europe/Berlin:20260124T130000
LOCATION:Tělocvična ZŠ\, Španielova 1111 Praha - Řepy
SUMMARY:PP-U18Z-4-B: VK Lvi Praha B-Španielka A
END:VEVENT
END:VCALENDAR
