BEGIN:VCALENDAR
VERSION:2.0
PRODID:-//MS-U16M-T4B//NONSGML kigkonsult.se iCalcreator 2.41.80//
CALSCALE:GREGORIAN
UID:35646532-3535-4334-b832-356265616435
BEGIN:VEVENT
UID:37313338-6239-4532-a130-303464383636
DTSTAMP:20260422T202241Z
DESCRIPTION:1/1 SK Kojetín 2016 - Blue Ostrava 2:0 (17\,19)
DTSTART;TZID=Europe/Berlin:20260125T090000
DTEND;TZID=Europe/Berlin:20260125T110000
LOCATION:Sportovní hala Ostrava -Třebovice\, 5. května 5649 Ostrava - Třebo
 vice
SUMMARY:MS-U16M-T4B: SK Kojetín 2016-Blue Ostrava
END:VEVENT
BEGIN:VEVENT
UID:34386261-3565-4839-a162-613938663263
DTSTAMP:20260422T202241Z
DESCRIPTION:1/2 VAM Olomouc - VK Valašské Meziříčí 1:2 (-13\,23\,-13)
DTSTART;TZID=Europe/Berlin:20260125T090000
DTEND;TZID=Europe/Berlin:20260125T110000
LOCATION:Sportovní hala Ostrava -Třebovice\, 5. května 5649 Ostrava - Třebo
 vice
SUMMARY:MS-U16M-T4B: VAM Olomouc-VK Valašské Meziříčí
END:VEVENT
BEGIN:VEVENT
UID:34376561-6330-4638-b035-363633653133
DTSTAMP:20260422T202241Z
DESCRIPTION:2/3 VAM Olomouc - Blue Ostrava 2:0 (21\,18)
DTSTART;TZID=Europe/Berlin:20260125T100000
DTEND;TZID=Europe/Berlin:20260125T120000
LOCATION:Sportovní hala Ostrava -Třebovice\, 5. května 5649 Ostrava - Třebo
 vice
SUMMARY:MS-U16M-T4B: VAM Olomouc-Blue Ostrava
END:VEVENT
BEGIN:VEVENT
UID:35356265-6435-4532-a632-626164653361
DTSTAMP:20260422T202241Z
DESCRIPTION:2/4 SK Kojetín 2016 - VK Valašské Meziříčí 2:0 (19\,8)
DTSTART;TZID=Europe/Berlin:20260125T100000
DTEND;TZID=Europe/Berlin:20260125T120000
LOCATION:Sportovní hala Ostrava -Třebovice\, 5. května 5649 Ostrava - Třebo
 vice
SUMMARY:MS-U16M-T4B: SK Kojetín 2016-VK Valašské Meziříčí
END:VEVENT
BEGIN:VEVENT
UID:37386237-3761-4934-b633-396338613565
DTSTAMP:20260422T202241Z
DESCRIPTION:3/5 SK Kojetín 2016 - VAM Olomouc 2:0 (19\,9)
DTSTART;TZID=Europe/Berlin:20260125T110000
DTEND;TZID=Europe/Berlin:20260125T130000
LOCATION:Sportovní hala Ostrava -Třebovice\, 5. května 5649 Ostrava - Třebo
 vice
SUMMARY:MS-U16M-T4B: SK Kojetín 2016-VAM Olomouc
END:VEVENT
BEGIN:VEVENT
UID:35356534-6231-4636-b964-366136333065
DTSTAMP:20260422T202241Z
DESCRIPTION:3/6 VK Valašské Meziříčí - Blue Ostrava 1:2 (-21\,19\,-12)
DTSTART;TZID=Europe/Berlin:20260125T110000
DTEND;TZID=Europe/Berlin:20260125T130000
LOCATION:Sportovní hala Ostrava -Třebovice\, 5. května 5649 Ostrava - Třebo
 vice
SUMMARY:MS-U16M-T4B: VK Valašské Meziříčí-Blue Ostrava
END:VEVENT
END:VCALENDAR
