BEGIN:VCALENDAR
VERSION:2.0
PRODID:-//MS-U16M-T4C//NONSGML kigkonsult.se iCalcreator 2.41.80//
CALSCALE:GREGORIAN
UID:63306535-6439-4464-b962-366236323137
BEGIN:VEVENT
UID:39633134-6132-4635-b331-653937353935
DTSTAMP:20260424T090845Z
DESCRIPTION:1/1 Happy Sport Opava - Vlci Nový Jičín B 3:X
DTSTART;TZID=Europe/Berlin:20260125T090000
DTEND;TZID=Europe/Berlin:20260125T110000
LOCATION:ZŠ Ed. Beneše\, Edvarda Beneše 961 Opava - Kateřinky
SUMMARY:MS-U16M-T4C: Happy Sport Opava-Vlci Nový Jičín B
END:VEVENT
BEGIN:VEVENT
UID:36396266-3036-4530-b566-373432313161
DTSTAMP:20260424T090845Z
DESCRIPTION:2/2 TJ Hlučín - Vlci Nový Jičín B 3:X
DTSTART;TZID=Europe/Berlin:20260125T100000
DTEND;TZID=Europe/Berlin:20260125T120000
LOCATION:ZŠ Ed. Beneše\, Edvarda Beneše 961 Opava - Kateřinky
SUMMARY:MS-U16M-T4C: TJ Hlučín-Vlci Nový Jičín B
END:VEVENT
BEGIN:VEVENT
UID:33323238-6539-4462-a664-336562643431
DTSTAMP:20260424T090845Z
DESCRIPTION:3/3 Happy Sport Opava - TJ Hlučín 3:0 (18\,17\,12)
DTSTART;TZID=Europe/Berlin:20260125T110000
DTEND;TZID=Europe/Berlin:20260125T130000
LOCATION:ZŠ Ed. Beneše\, Edvarda Beneše 961 Opava - Kateřinky
SUMMARY:MS-U16M-T4C: Happy Sport Opava-TJ Hlučín
END:VEVENT
END:VCALENDAR
