BEGIN:VCALENDAR
VERSION:2.0
PRODID:-//MS-U16M-T4D//NONSGML kigkonsult.se iCalcreator 2.41.80//
CALSCALE:GREGORIAN
UID:66363961-3435-4662-b831-366466333762
BEGIN:VEVENT
UID:64376365-3637-4461-b832-333836363965
DTSTAMP:20260422T202254Z
DESCRIPTION:1/1 Volejbal Ostrava - VAM Havířov 3:0 (10\,5\,6)
DTSTART;TZID=Europe/Berlin:20260125T090000
DTEND;TZID=Europe/Berlin:20260125T110000
LOCATION:Sportovní hala Ostrava -Třebovice\, 5. května 5649 Ostrava - Třebo
 vice
SUMMARY:MS-U16M-T4D: Volejbal Ostrava-VAM Havířov
END:VEVENT
BEGIN:VEVENT
UID:65323431-3565-4437-a263-383162633336
DTSTAMP:20260422T202254Z
DESCRIPTION:2/2 Blue Ostrava 'B' - VAM Havířov 2:1 (-22\,19\,23)
DTSTART;TZID=Europe/Berlin:20260125T100000
DTEND;TZID=Europe/Berlin:20260125T120000
LOCATION:Sportovní hala Ostrava -Třebovice\, 5. května 5649 Ostrava - Třebo
 vice
SUMMARY:MS-U16M-T4D: Blue Ostrava 'B'-VAM Havířov
END:VEVENT
BEGIN:VEVENT
UID:64343831-3065-4166-b766-366437613864
DTSTAMP:20260422T202254Z
DESCRIPTION:3/3 Volejbal Ostrava - Blue Ostrava 'B' 3:0 (7\,10\,15)
DTSTART;TZID=Europe/Berlin:20260125T110000
DTEND;TZID=Europe/Berlin:20260125T130000
LOCATION:Sportovní hala Ostrava -Třebovice\, 5. května 5649 Ostrava - Třebo
 vice
SUMMARY:MS-U16M-T4D: Volejbal Ostrava-Blue Ostrava 'B'
END:VEVENT
END:VCALENDAR
