BEGIN:VCALENDAR
VERSION:2.0
PRODID:-//HK-U18Z-FB//NONSGML kigkonsult.se iCalcreator 2.41.80//
CALSCALE:GREGORIAN
UID:32363061-6239-4666-b161-613430343861
BEGIN:VEVENT
UID:34653632-3337-4232-a566-663735393663
DTSTAMP:20260421T125055Z
DESCRIPTION:1/1 Dvůr Králové - LOKO Trutnov 0:2 (-19\,-17)\npoř: Dvůr K\, 5
 .května
DTSTART;TZID=Europe/Berlin:20260322T090000
DTEND;TZID=Europe/Berlin:20260322T110000
LOCATION:Sportovni hala TJ. Sokol Staré Město - Náchod\, Na Skalce 263 Nách
 od - Staré Město nad Metují
SUMMARY:HK-U18Z-FB: Dvůr Králové-LOKO Trutnov
END:VEVENT
BEGIN:VEVENT
UID:61343661-3835-4662-b262-346662386531
DTSTAMP:20260421T125055Z
DESCRIPTION:1/2 Pouchov - St.M.-Náchod 2:1 (-20\,15\,10)
DTSTART;TZID=Europe/Berlin:20260322T100000
DTEND;TZID=Europe/Berlin:20260322T120000
LOCATION:Sportovni hala TJ. Sokol Staré Město - Náchod\, Na Skalce 263 Nách
 od - Staré Město nad Metují
SUMMARY:HK-U18Z-FB: Pouchov-St.M.-Náchod
END:VEVENT
BEGIN:VEVENT
UID:62303834-3861-4063-b363-643835346161
DTSTAMP:20260421T125055Z
DESCRIPTION:1/3 St.M.-Náchod - Dvůr Králové 2:0 (22\,10)
DTSTART;TZID=Europe/Berlin:20260322T110000
DTEND;TZID=Europe/Berlin:20260322T130000
LOCATION:Sportovni hala TJ. Sokol Staré Město - Náchod\, Na Skalce 263 Nách
 od - Staré Město nad Metují
SUMMARY:HK-U18Z-FB: St.M.-Náchod-Dvůr Králové
END:VEVENT
BEGIN:VEVENT
UID:63663538-6636-4638-a262-663861326162
DTSTAMP:20260421T125055Z
DESCRIPTION:1/4 LOKO Trutnov - Pouchov 0:2 (-15\,-18)
DTSTART;TZID=Europe/Berlin:20260322T120000
DTEND;TZID=Europe/Berlin:20260322T140000
LOCATION:Sportovni hala TJ. Sokol Staré Město - Náchod\, Na Skalce 263 Nách
 od - Staré Město nad Metují
SUMMARY:HK-U18Z-FB: LOKO Trutnov-Pouchov
END:VEVENT
BEGIN:VEVENT
UID:63343530-3964-4537-b139-653237336331
DTSTAMP:20260421T125055Z
DESCRIPTION:1/5 St.M.-Náchod - LOKO Trutnov 2:0 (20\,16)
DTSTART;TZID=Europe/Berlin:20260322T130000
DTEND;TZID=Europe/Berlin:20260322T150000
LOCATION:Sportovni hala TJ. Sokol Staré Město - Náchod\, Na Skalce 263 Nách
 od - Staré Město nad Metují
SUMMARY:HK-U18Z-FB: St.M.-Náchod-LOKO Trutnov
END:VEVENT
BEGIN:VEVENT
UID:36666462-3333-4361-a461-643239346464
DTSTAMP:20260421T125055Z
DESCRIPTION:1/6 Dvůr Králové - Pouchov 0:2 (-16\,-18)
DTSTART;TZID=Europe/Berlin:20260322T140000
DTEND;TZID=Europe/Berlin:20260322T160000
LOCATION:Sportovni hala TJ. Sokol Staré Město - Náchod\, Na Skalce 263 Nách
 od - Staré Město nad Metují
SUMMARY:HK-U18Z-FB: Dvůr Králové-Pouchov
END:VEVENT
BEGIN:VEVENT
UID:37366334-3531-4462-b334-383961663830
DTSTAMP:20260421T125055Z
DESCRIPTION:2/7 Pouchov - St.M.-Náchod 2:0 (19\,21)\npoř: Pouchov
DTSTART;TZID=Europe/Berlin:20260131T090000
DTEND;TZID=Europe/Berlin:20260131T110000
LOCATION:Sportovni hala TJ. Sokol Staré Město - Náchod\, Na Skalce 263 Nách
 od - Staré Město nad Metují
SUMMARY:HK-U18Z-FB: Pouchov-St.M.-Náchod
END:VEVENT
BEGIN:VEVENT
UID:66623762-3763-4138-b563-336465353535
DTSTAMP:20260421T125055Z
DESCRIPTION:2/8 Dvůr Králové - LOKO Trutnov 2:0 (20\,15)
DTSTART;TZID=Europe/Berlin:20260131T100000
DTEND;TZID=Europe/Berlin:20260131T120000
LOCATION:Sportovni hala TJ. Sokol Staré Město - Náchod\, Na Skalce 263 Nách
 od - Staré Město nad Metují
SUMMARY:HK-U18Z-FB: Dvůr Králové-LOKO Trutnov
END:VEVENT
BEGIN:VEVENT
UID:65363162-3265-4630-b330-353437393334
DTSTAMP:20260421T125055Z
DESCRIPTION:2/9 St.M.-Náchod - Dvůr Králové 1:2 (18\,-18\,-9)
DTSTART;TZID=Europe/Berlin:20260131T110000
DTEND;TZID=Europe/Berlin:20260131T130000
LOCATION:Sportovni hala TJ. Sokol Staré Město - Náchod\, Na Skalce 263 Nách
 od - Staré Město nad Metují
SUMMARY:HK-U18Z-FB: St.M.-Náchod-Dvůr Králové
END:VEVENT
BEGIN:VEVENT
UID:62643764-3265-4264-b630-383565646436
DTSTAMP:20260421T125055Z
DESCRIPTION:2/10 LOKO Trutnov - Pouchov 0:2 (-20\,-20)
DTSTART;TZID=Europe/Berlin:20260131T120000
DTEND;TZID=Europe/Berlin:20260131T140000
LOCATION:Sportovni hala TJ. Sokol Staré Město - Náchod\, Na Skalce 263 Nách
 od - Staré Město nad Metují
SUMMARY:HK-U18Z-FB: LOKO Trutnov-Pouchov
END:VEVENT
BEGIN:VEVENT
UID:38626436-6365-4666-b239-373636323835
DTSTAMP:20260421T125055Z
DESCRIPTION:2/11 St.M.-Náchod - LOKO Trutnov 2:0 (18\,19)
DTSTART;TZID=Europe/Berlin:20260131T130000
DTEND;TZID=Europe/Berlin:20260131T150000
LOCATION:Sportovni hala TJ. Sokol Staré Město - Náchod\, Na Skalce 263 Nách
 od - Staré Město nad Metují
SUMMARY:HK-U18Z-FB: St.M.-Náchod-LOKO Trutnov
END:VEVENT
BEGIN:VEVENT
UID:63616236-3963-4365-b066-353530356333
DTSTAMP:20260421T125055Z
DESCRIPTION:2/12 Pouchov - Dvůr Králové 2:1 (15\,-15\,13)
DTSTART;TZID=Europe/Berlin:20260131T140000
DTEND;TZID=Europe/Berlin:20260131T160000
LOCATION:Sportovni hala TJ. Sokol Staré Město - Náchod\, Na Skalce 263 Nách
 od - Staré Město nad Metují
SUMMARY:HK-U18Z-FB: Pouchov-Dvůr Králové
END:VEVENT
BEGIN:VEVENT
UID:32346638-6639-4564-b337-386661626462
DTSTAMP:20260421T125055Z
DESCRIPTION:3/13 LOKO Trutnov - Dvůr Králové 2:0 (20\,24)\npoř: Trutnov
DTSTART;TZID=Europe/Berlin:20260221T084500
DTEND;TZID=Europe/Berlin:20260221T104500
LOCATION:Sportovni hala TJ. Sokol Staré Město - Náchod\, Na Skalce 263 Nách
 od - Staré Město nad Metují
SUMMARY:HK-U18Z-FB: LOKO Trutnov-Dvůr Králové
END:VEVENT
BEGIN:VEVENT
UID:36646262-3532-4331-a538-663237646364
DTSTAMP:20260421T125055Z
DESCRIPTION:3/14 Pouchov - St.M.-Náchod 2:0 (24\,22)
DTSTART;TZID=Europe/Berlin:20260221T084500
DTEND;TZID=Europe/Berlin:20260221T104500
LOCATION:Sportovni hala TJ. Sokol Staré Město - Náchod\, Na Skalce 263 Nách
 od - Staré Město nad Metují
SUMMARY:HK-U18Z-FB: Pouchov-St.M.-Náchod
END:VEVENT
BEGIN:VEVENT
UID:31656166-3836-4763-b239-646634396666
DTSTAMP:20260421T125055Z
DESCRIPTION:3/15 St.M.-Náchod - Dvůr Králové 2:1 (-23\,25\,4)
DTSTART;TZID=Europe/Berlin:20260221T100000
DTEND;TZID=Europe/Berlin:20260221T120000
LOCATION:Sportovni hala TJ. Sokol Staré Město - Náchod\, Na Skalce 263 Nách
 od - Staré Město nad Metují
SUMMARY:HK-U18Z-FB: St.M.-Náchod-Dvůr Králové
END:VEVENT
BEGIN:VEVENT
UID:31303339-3466-4439-a366-616166313562
DTSTAMP:20260421T125055Z
DESCRIPTION:3/16 LOKO Trutnov - Pouchov 1:2 (19\,-23\,-10)
DTSTART;TZID=Europe/Berlin:20260221T111500
DTEND;TZID=Europe/Berlin:20260221T131500
LOCATION:Sportovni hala TJ. Sokol Staré Město - Náchod\, Na Skalce 263 Nách
 od - Staré Město nad Metují
SUMMARY:HK-U18Z-FB: LOKO Trutnov-Pouchov
END:VEVENT
BEGIN:VEVENT
UID:36336438-6136-4338-b461-336536623561
DTSTAMP:20260421T125055Z
DESCRIPTION:3/17 Dvůr Králové - Pouchov 2:1 (21\,-23\,9)
DTSTART;TZID=Europe/Berlin:20260221T123000
DTEND;TZID=Europe/Berlin:20260221T143000
LOCATION:Sportovni hala TJ. Sokol Staré Město - Náchod\, Na Skalce 263 Nách
 od - Staré Město nad Metují
SUMMARY:HK-U18Z-FB: Dvůr Králové-Pouchov
END:VEVENT
BEGIN:VEVENT
UID:33343066-6639-4232-b765-316265393833
DTSTAMP:20260421T125055Z
DESCRIPTION:3/18 LOKO Trutnov - St.M.-Náchod 0:2 (-14\,-20)
DTSTART;TZID=Europe/Berlin:20260221T134500
DTEND;TZID=Europe/Berlin:20260221T154500
LOCATION:Sportovni hala TJ. Sokol Staré Město - Náchod\, Na Skalce 263 Nách
 od - Staré Město nad Metují
SUMMARY:HK-U18Z-FB: LOKO Trutnov-St.M.-Náchod
END:VEVENT
BEGIN:VEVENT
UID:65353836-3530-4433-b966-333137656435
DTSTAMP:20260421T125055Z
DESCRIPTION:4/19 St.M.-Náchod - Pouchov 2:0 (20\,15)\npoř: St.M.-Náchod
DTSTART;TZID=Europe/Berlin:20260314T090000
DTEND;TZID=Europe/Berlin:20260314T110000
LOCATION:Sportovni hala TJ. Sokol Staré Město - Náchod\, Na Skalce 263 Nách
 od - Staré Město nad Metují
SUMMARY:HK-U18Z-FB: St.M.-Náchod-Pouchov
END:VEVENT
BEGIN:VEVENT
UID:33663434-3332-4830-a662-316439393934
DTSTAMP:20260421T125055Z
DESCRIPTION:4/20 LOKO Trutnov - Dvůr Králové 0:2 (-13\,-13)
DTSTART;TZID=Europe/Berlin:20260314T100000
DTEND;TZID=Europe/Berlin:20260314T120000
LOCATION:Sportovni hala TJ. Sokol Staré Město - Náchod\, Na Skalce 263 Nách
 od - Staré Město nad Metují
SUMMARY:HK-U18Z-FB: LOKO Trutnov-Dvůr Králové
END:VEVENT
BEGIN:VEVENT
UID:31626337-6164-4831-a137-303838333338
DTSTAMP:20260421T125055Z
DESCRIPTION:4/21 St.M.-Náchod - Dvůr Králové 1:2 (15\,-19\,-10)
DTSTART;TZID=Europe/Berlin:20260314T110000
DTEND;TZID=Europe/Berlin:20260314T130000
LOCATION:Sportovni hala TJ. Sokol Staré Město - Náchod\, Na Skalce 263 Nách
 od - Staré Město nad Metují
SUMMARY:HK-U18Z-FB: St.M.-Náchod-Dvůr Králové
END:VEVENT
BEGIN:VEVENT
UID:31346235-3236-4339-a533-663332356564
DTSTAMP:20260421T125055Z
DESCRIPTION:4/22 LOKO Trutnov - Pouchov 2:0 (22\,23)
DTSTART;TZID=Europe/Berlin:20260314T120000
DTEND;TZID=Europe/Berlin:20260314T140000
LOCATION:Sportovni hala TJ. Sokol Staré Město - Náchod\, Na Skalce 263 Nách
 od - Staré Město nad Metují
SUMMARY:HK-U18Z-FB: LOKO Trutnov-Pouchov
END:VEVENT
BEGIN:VEVENT
UID:61386561-3330-4436-b533-383736356564
DTSTAMP:20260421T125055Z
DESCRIPTION:4/23 Dvůr Králové - Pouchov 2:0 (20\,16)
DTSTART;TZID=Europe/Berlin:20260314T130000
DTEND;TZID=Europe/Berlin:20260314T150000
LOCATION:Sportovni hala TJ. Sokol Staré Město - Náchod\, Na Skalce 263 Nách
 od - Staré Město nad Metují
SUMMARY:HK-U18Z-FB: Dvůr Králové-Pouchov
END:VEVENT
BEGIN:VEVENT
UID:32313333-3461-4663-a165-373438306463
DTSTAMP:20260421T125055Z
DESCRIPTION:4/24 St.M.-Náchod - LOKO Trutnov 2:1 (-23\,19\,12)
DTSTART;TZID=Europe/Berlin:20260314T140000
DTEND;TZID=Europe/Berlin:20260314T160000
LOCATION:Sportovni hala TJ. Sokol Staré Město - Náchod\, Na Skalce 263 Nách
 od - Staré Město nad Metují
SUMMARY:HK-U18Z-FB: St.M.-Náchod-LOKO Trutnov
END:VEVENT
END:VCALENDAR
