BEGIN:VCALENDAR
VERSION:2.0
PRODID:-//HK-U18Z-FC//NONSGML kigkonsult.se iCalcreator 2.41.80//
CALSCALE:GREGORIAN
UID:34326135-3139-4031-b238-363032626632
BEGIN:VEVENT
UID:35623238-3165-4461-a137-396331623666
DTSTAMP:20260421T125055Z
DESCRIPTION:1/1 TJ Jičín B - Nechanice 2:0 (22\,14)\npoř.Jičín
DTSTART;TZID=Europe/Berlin:20260117T090000
DTEND;TZID=Europe/Berlin:20260117T110000
LOCATION:Tělocvičná jednota Sokol Nechanice\, Školská 348 Nechanice
SUMMARY:HK-U18Z-FC: TJ Jičín B-Nechanice
END:VEVENT
BEGIN:VEVENT
UID:35383363-6561-4338-b665-323131373863
DTSTAMP:20260421T125055Z
DESCRIPTION:1/2 Broumov - Chlumec/C. 2:0 (30\,20)
DTSTART;TZID=Europe/Berlin:20260117T090000
DTEND;TZID=Europe/Berlin:20260117T110000
LOCATION:Tělocvičná jednota Sokol Nechanice\, Školská 348 Nechanice
SUMMARY:HK-U18Z-FC: Broumov-Chlumec/C.
END:VEVENT
BEGIN:VEVENT
UID:66303434-3439-4362-a661-313734373233
DTSTAMP:20260421T125055Z
DESCRIPTION:1/3 Chlumec/C. - TJ Jičín B 1:2 (19\,-22\,-10)
DTSTART;TZID=Europe/Berlin:20260117T090000
DTEND;TZID=Europe/Berlin:20260117T110000
LOCATION:Tělocvičná jednota Sokol Nechanice\, Školská 348 Nechanice
SUMMARY:HK-U18Z-FC: Chlumec/C.-TJ Jičín B
END:VEVENT
BEGIN:VEVENT
UID:34373465-3363-4737-b566-613939646330
DTSTAMP:20260421T125055Z
DESCRIPTION:1/4 Nechanice - Broumov 2:0 (16\,14)
DTSTART;TZID=Europe/Berlin:20260117T090000
DTEND;TZID=Europe/Berlin:20260117T110000
LOCATION:Tělocvičná jednota Sokol Nechanice\, Školská 348 Nechanice
SUMMARY:HK-U18Z-FC: Nechanice-Broumov
END:VEVENT
BEGIN:VEVENT
UID:62316362-6238-4232-b533-393865373332
DTSTAMP:20260421T125055Z
DESCRIPTION:1/5 Chlumec/C. - Nechanice 1:2 (-15\,19\,-14)
DTSTART;TZID=Europe/Berlin:20260117T090000
DTEND;TZID=Europe/Berlin:20260117T110000
LOCATION:Tělocvičná jednota Sokol Nechanice\, Školská 348 Nechanice
SUMMARY:HK-U18Z-FC: Chlumec/C.-Nechanice
END:VEVENT
BEGIN:VEVENT
UID:36373739-6535-4561-a131-323038653739
DTSTAMP:20260421T125055Z
DESCRIPTION:1/6 TJ Jičín B - Broumov 0:2 (-20\,-14)
DTSTART;TZID=Europe/Berlin:20260117T090000
DTEND;TZID=Europe/Berlin:20260117T110000
LOCATION:Tělocvičná jednota Sokol Nechanice\, Školská 348 Nechanice
SUMMARY:HK-U18Z-FC: TJ Jičín B-Broumov
END:VEVENT
BEGIN:VEVENT
UID:66393035-3131-4938-b831-353439376633
DTSTAMP:20260421T125055Z
DESCRIPTION:2/7 Broumov - Chlumec/C. 2:0 (22\,23)\npoř: BROUMOV
DTSTART;TZID=Europe/Berlin:20260131T090000
DTEND;TZID=Europe/Berlin:20260131T110000
LOCATION:Tělocvičná jednota Sokol Nechanice\, Školská 348 Nechanice
SUMMARY:HK-U18Z-FC: Broumov-Chlumec/C.
END:VEVENT
BEGIN:VEVENT
UID:31636564-3337-4332-b765-326362636439
DTSTAMP:20260421T125055Z
DESCRIPTION:2/8 TJ Jičín B - Nechanice 1:2 (-23\,18\,-13)
DTSTART;TZID=Europe/Berlin:20260131T090000
DTEND;TZID=Europe/Berlin:20260131T110000
LOCATION:Tělocvičná jednota Sokol Nechanice\, Školská 348 Nechanice
SUMMARY:HK-U18Z-FC: TJ Jičín B-Nechanice
END:VEVENT
BEGIN:VEVENT
UID:63316433-6136-4330-a137-386234336363
DTSTAMP:20260421T125055Z
DESCRIPTION:2/9 Chlumec/C. - TJ Jičín B 0:2 (-19\,-22)
DTSTART;TZID=Europe/Berlin:20260131T090000
DTEND;TZID=Europe/Berlin:20260131T110000
LOCATION:Tělocvičná jednota Sokol Nechanice\, Školská 348 Nechanice
SUMMARY:HK-U18Z-FC: Chlumec/C.-TJ Jičín B
END:VEVENT
BEGIN:VEVENT
UID:31333166-3664-4131-b131-323461376562
DTSTAMP:20260421T125055Z
DESCRIPTION:2/10 Nechanice - Broumov 2:1 (-23\,14\,7)
DTSTART;TZID=Europe/Berlin:20260131T090000
DTEND;TZID=Europe/Berlin:20260131T110000
LOCATION:Tělocvičná jednota Sokol Nechanice\, Školská 348 Nechanice
SUMMARY:HK-U18Z-FC: Nechanice-Broumov
END:VEVENT
BEGIN:VEVENT
UID:61663166-3331-4864-a636-653134316430
DTSTAMP:20260421T125055Z
DESCRIPTION:2/11 Chlumec/C. - Nechanice 2:1 (-20\,23\,13)
DTSTART;TZID=Europe/Berlin:20260131T090000
DTEND;TZID=Europe/Berlin:20260131T110000
LOCATION:Tělocvičná jednota Sokol Nechanice\, Školská 348 Nechanice
SUMMARY:HK-U18Z-FC: Chlumec/C.-Nechanice
END:VEVENT
BEGIN:VEVENT
UID:34303036-6334-4961-b239-333236333465
DTSTAMP:20260421T125055Z
DESCRIPTION:2/12 Broumov - TJ Jičín B 1:2 (-18\,26\,-14)
DTSTART;TZID=Europe/Berlin:20260131T090000
DTEND;TZID=Europe/Berlin:20260131T110000
LOCATION:Tělocvičná jednota Sokol Nechanice\, Školská 348 Nechanice
SUMMARY:HK-U18Z-FC: Broumov-TJ Jičín B
END:VEVENT
BEGIN:VEVENT
UID:37373362-3737-4535-b338-643934323635
DTSTAMP:20260421T125055Z
DESCRIPTION:3/13 Nechanice - TJ Jičín B 2:0 (18\,25)\npoř: CHL v NECHANICÍC
 H
DTSTART;TZID=Europe/Berlin:20260221T090000
DTEND;TZID=Europe/Berlin:20260221T110000
LOCATION:Tělocvičná jednota Sokol Nechanice\, Školská 348 Nechanice
SUMMARY:HK-U18Z-FC: Nechanice-TJ Jičín B
END:VEVENT
BEGIN:VEVENT
UID:61373238-3566-4165-a537-613530623566
DTSTAMP:20260421T125055Z
DESCRIPTION:3/14 Broumov - Chlumec/C. 0:2 (-12\,-24)
DTSTART;TZID=Europe/Berlin:20260221T100000
DTEND;TZID=Europe/Berlin:20260221T120000
LOCATION:Tělocvičná jednota Sokol Nechanice\, Školská 348 Nechanice
SUMMARY:HK-U18Z-FC: Broumov-Chlumec/C.
END:VEVENT
BEGIN:VEVENT
UID:63656339-3833-4631-b837-626238613364
DTSTAMP:20260421T125055Z
DESCRIPTION:3/15 Chlumec/C. - TJ Jičín B 0:2 (-20\,-10)
DTSTART;TZID=Europe/Berlin:20260221T110000
DTEND;TZID=Europe/Berlin:20260221T130000
LOCATION:Tělocvičná jednota Sokol Nechanice\, Školská 348 Nechanice
SUMMARY:HK-U18Z-FC: Chlumec/C.-TJ Jičín B
END:VEVENT
BEGIN:VEVENT
UID:66346263-6265-4030-b136-356134653331
DTSTAMP:20260421T125055Z
DESCRIPTION:3/16 Nechanice - Broumov 2:0 (11\,15)
DTSTART;TZID=Europe/Berlin:20260221T120000
DTEND;TZID=Europe/Berlin:20260221T140000
LOCATION:Tělocvičná jednota Sokol Nechanice\, Školská 348 Nechanice
SUMMARY:HK-U18Z-FC: Nechanice-Broumov
END:VEVENT
BEGIN:VEVENT
UID:62616635-3862-4430-b237-306232666463
DTSTAMP:20260421T125055Z
DESCRIPTION:3/17 TJ Jičín B - Broumov 2:1 (16\,-22\,8)
DTSTART;TZID=Europe/Berlin:20260221T130000
DTEND;TZID=Europe/Berlin:20260221T150000
LOCATION:Tělocvičná jednota Sokol Nechanice\, Školská 348 Nechanice
SUMMARY:HK-U18Z-FC: TJ Jičín B-Broumov
END:VEVENT
BEGIN:VEVENT
UID:66363533-3733-4163-b436-633333333161
DTSTAMP:20260421T125055Z
DESCRIPTION:3/18 Chlumec/C. - Nechanice 0:2 (-17\,-11)
DTSTART;TZID=Europe/Berlin:20260221T140000
DTEND;TZID=Europe/Berlin:20260221T160000
LOCATION:Tělocvičná jednota Sokol Nechanice\, Školská 348 Nechanice
SUMMARY:HK-U18Z-FC: Chlumec/C.-Nechanice
END:VEVENT
BEGIN:VEVENT
UID:38663766-3261-4935-b236-306437633361
DTSTAMP:20260421T125055Z
DESCRIPTION:4/19 Nechanice - TJ Jičín B 2:0 (23\,19)\npoř: NECHANICE
DTSTART;TZID=Europe/Berlin:20260314T090000
DTEND;TZID=Europe/Berlin:20260314T110000
LOCATION:Tělocvičná jednota Sokol Nechanice\, Školská 348 Nechanice
SUMMARY:HK-U18Z-FC: Nechanice-TJ Jičín B
END:VEVENT
BEGIN:VEVENT
UID:63363263-6464-4636-a337-303461313435
DTSTAMP:20260421T125055Z
DESCRIPTION:4/20 Broumov - Chlumec/C. 1:2 (-22\,19\,-12)
DTSTART;TZID=Europe/Berlin:20260314T090000
DTEND;TZID=Europe/Berlin:20260314T110000
LOCATION:Tělocvičná jednota Sokol Nechanice\, Školská 348 Nechanice
SUMMARY:HK-U18Z-FC: Broumov-Chlumec/C.
END:VEVENT
BEGIN:VEVENT
UID:66663461-3831-4637-a638-666332656134
DTSTAMP:20260421T125055Z
DESCRIPTION:4/21 Chlumec/C. - TJ Jičín B 1:2 (17\,-11\,-12)
DTSTART;TZID=Europe/Berlin:20260314T090000
DTEND;TZID=Europe/Berlin:20260314T110000
LOCATION:Tělocvičná jednota Sokol Nechanice\, Školská 348 Nechanice
SUMMARY:HK-U18Z-FC: Chlumec/C.-TJ Jičín B
END:VEVENT
BEGIN:VEVENT
UID:63316564-3235-4635-b733-613065323430
DTSTAMP:20260421T125055Z
DESCRIPTION:4/22 Nechanice - Broumov 2:0 (19\,17)
DTSTART;TZID=Europe/Berlin:20260314T090000
DTEND;TZID=Europe/Berlin:20260314T110000
LOCATION:Tělocvičná jednota Sokol Nechanice\, Školská 348 Nechanice
SUMMARY:HK-U18Z-FC: Nechanice-Broumov
END:VEVENT
BEGIN:VEVENT
UID:63303436-6533-4463-b631-626465383631
DTSTAMP:20260421T125055Z
DESCRIPTION:4/23 TJ Jičín B - Broumov 2:0 (10\,7)
DTSTART;TZID=Europe/Berlin:20260314T090000
DTEND;TZID=Europe/Berlin:20260314T110000
LOCATION:Tělocvičná jednota Sokol Nechanice\, Školská 348 Nechanice
SUMMARY:HK-U18Z-FC: TJ Jičín B-Broumov
END:VEVENT
BEGIN:VEVENT
UID:64646561-3563-4738-a263-313862666165
DTSTAMP:20260421T125055Z
DESCRIPTION:4/24 Nechanice - Chlumec/C. 1:2 (17\,-9\,-5)
DTSTART;TZID=Europe/Berlin:20260314T090000
DTEND;TZID=Europe/Berlin:20260314T110000
LOCATION:Tělocvičná jednota Sokol Nechanice\, Školská 348 Nechanice
SUMMARY:HK-U18Z-FC: Nechanice-Chlumec/C.
END:VEVENT
END:VCALENDAR
