BEGIN:VCALENDAR
VERSION:2.0
PRODID:-//PP-U20Z-4-A//NONSGML kigkonsult.se iCalcreator 2.41.80//
CALSCALE:GREGORIAN
UID:30626435-3931-4539-b133-353930646534
BEGIN:VEVENT
UID:65613232-3862-4434-a235-363034396534
DTSTAMP:20260424T090854Z
DESCRIPTION:1/1 SK HAMR\, z.s. - SK Meteor Praha B 2:0 (14\,13)
DTSTART;TZID=Europe/Berlin:20260118T090000
DTEND;TZID=Europe/Berlin:20260118T110000
LOCATION:ZŠ Dolní Břežany\, Na Vršku 290 Dolní Břežany
SUMMARY:PP-U20Z-4-A: SK HAMR\, z.s.-SK Meteor Praha B
END:VEVENT
BEGIN:VEVENT
UID:30386263-6463-4962-a261-353266346335
DTSTAMP:20260424T090854Z
DESCRIPTION:2/2 BVŠP Koráb - Braník 2:1 (16\,-16\,11)
DTSTART;TZID=Europe/Berlin:20260118T090000
DTEND;TZID=Europe/Berlin:20260118T110000
LOCATION:ZŠ Dolní Břežany\, Na Vršku 290 Dolní Břežany
SUMMARY:PP-U20Z-4-A: BVŠP Koráb-Braník
END:VEVENT
BEGIN:VEVENT
UID:31653937-3361-4532-b439-663463303038
DTSTAMP:20260424T090854Z
DESCRIPTION:3/3 SK HAMR\, z.s. - Braník 2:0 (18\,21)
DTSTART;TZID=Europe/Berlin:20260118T100000
DTEND;TZID=Europe/Berlin:20260118T120000
LOCATION:ZŠ Dolní Břežany\, Na Vršku 290 Dolní Břežany
SUMMARY:PP-U20Z-4-A: SK HAMR\, z.s.-Braník
END:VEVENT
BEGIN:VEVENT
UID:63373237-3638-4534-b761-663563623834
DTSTAMP:20260424T090854Z
DESCRIPTION:4/4 BVŠP Koráb - SK HAMR\, z.s. 0:2 (-9\,-20)
DTSTART;TZID=Europe/Berlin:20260118T110000
DTEND;TZID=Europe/Berlin:20260118T130000
LOCATION:ZŠ Dolní Břežany\, Na Vršku 290 Dolní Břežany
SUMMARY:PP-U20Z-4-A: BVŠP Koráb-SK HAMR\, z.s.
END:VEVENT
BEGIN:VEVENT
UID:38653837-3265-4533-a330-646631366131
DTSTAMP:20260424T090854Z
DESCRIPTION:5/5 Braník - SK Meteor Praha B 2:1 (-22\,16\,12)
DTSTART;TZID=Europe/Berlin:20260118T110000
DTEND;TZID=Europe/Berlin:20260118T130000
LOCATION:ZŠ Dolní Břežany\, Na Vršku 290 Dolní Břežany
SUMMARY:PP-U20Z-4-A: Braník-SK Meteor Praha B
END:VEVENT
BEGIN:VEVENT
UID:37356438-3166-4235-a462-366431616536
DTSTAMP:20260424T090854Z
DESCRIPTION:6/6 BVŠP Koráb - SK Meteor Praha B 2:0 (18\,15)
DTSTART;TZID=Europe/Berlin:20260118T120000
DTEND;TZID=Europe/Berlin:20260118T140000
LOCATION:ZŠ Dolní Břežany\, Na Vršku 290 Dolní Břežany
SUMMARY:PP-U20Z-4-A: BVŠP Koráb-SK Meteor Praha B
END:VEVENT
END:VCALENDAR
