BEGIN:VCALENDAR
VERSION:2.0
PRODID:-//PP-U20Z-4-B//NONSGML kigkonsult.se iCalcreator 2.41.80//
CALSCALE:GREGORIAN
UID:63343536-3136-4332-b236-353630653761
BEGIN:VEVENT
UID:38303061-3734-4865-b061-613263333963
DTSTAMP:20260422T202238Z
DESCRIPTION:1/1 Sokol HP - Orion Praha B 2:1 (22\,-11\,12)
DTSTART;TZID=Europe/Berlin:20260118T090000
DTEND;TZID=Europe/Berlin:20260118T110000
LOCATION:Tělocvična ZŠ\, Španielova 1111 Praha - Řepy
SUMMARY:PP-U20Z-4-B: Sokol HP-Orion Praha B
END:VEVENT
BEGIN:VEVENT
UID:36393231-6466-4235-b736-356637386565
DTSTAMP:20260422T202238Z
DESCRIPTION:2/2 SK Španielka Řepy - B - VK Lvi Praha B 2:1 (25\,-20\,11)
DTSTART;TZID=Europe/Berlin:20260118T100000
DTEND;TZID=Europe/Berlin:20260118T120000
LOCATION:Tělocvična ZŠ\, Španielova 1111 Praha - Řepy
SUMMARY:PP-U20Z-4-B: SK Španielka Řepy - B-VK Lvi Praha B
END:VEVENT
BEGIN:VEVENT
UID:33643962-3266-4263-a132-326236303561
DTSTAMP:20260422T202238Z
DESCRIPTION:3/3 Orion Praha B - VK Lvi Praha B 2:0 (16\,17)
DTSTART;TZID=Europe/Berlin:20260118T110000
DTEND;TZID=Europe/Berlin:20260118T130000
LOCATION:Tělocvična ZŠ\, Španielova 1111 Praha - Řepy
SUMMARY:PP-U20Z-4-B: Orion Praha B-VK Lvi Praha B
END:VEVENT
BEGIN:VEVENT
UID:35373030-3330-4039-a432-393562626632
DTSTAMP:20260422T202238Z
DESCRIPTION:4/4 Sokol HP - SK Španielka Řepy - B 2:0 (21\,21)
DTSTART;TZID=Europe/Berlin:20260118T120000
DTEND;TZID=Europe/Berlin:20260118T140000
LOCATION:Tělocvična ZŠ\, Španielova 1111 Praha - Řepy
SUMMARY:PP-U20Z-4-B: Sokol HP-SK Španielka Řepy - B
END:VEVENT
BEGIN:VEVENT
UID:66663165-6462-4066-b361-663131633439
DTSTAMP:20260422T202238Z
DESCRIPTION:5/5 SK Španielka Řepy - B - Orion Praha B 2:1 (-22\,19\,13)
DTSTART;TZID=Europe/Berlin:20260118T130000
DTEND;TZID=Europe/Berlin:20260118T150000
LOCATION:Tělocvična ZŠ\, Španielova 1111 Praha - Řepy
SUMMARY:PP-U20Z-4-B: SK Španielka Řepy - B-Orion Praha B
END:VEVENT
BEGIN:VEVENT
UID:61303036-3534-4434-b139-323866366162
DTSTAMP:20260422T202238Z
DESCRIPTION:6/6 VK Lvi Praha B - Sokol HPGlogar Andreas
DTSTART;TZID=Europe/Berlin:20260118T140000
DTEND;TZID=Europe/Berlin:20260118T160000
LOCATION:Tělocvična ZŠ\, Španielova 1111 Praha - Řepy
SUMMARY:PP-U20Z-4-B: VK Lvi Praha B-Sokol HP
END:VEVENT
END:VCALENDAR
