BEGIN:VCALENDAR
VERSION:2.0
PRODID:-//CP-U20M-2C//NONSGML kigkonsult.se iCalcreator 2.41.80//
CALSCALE:GREGORIAN
UID:66616639-3162-4732-b738-306537323536
BEGIN:VEVENT
UID:30373830-3931-4366-b132-613933353531
DTSTAMP:20260424T075811Z
DESCRIPTION:1/1 VK SPORT RK - VKM Nová Paka 3:0 (14\,20\,15)
DTSTART;TZID=Europe/Berlin:20260111T100000
DTEND;TZID=Europe/Berlin:20260111T120000
LOCATION:Sportovní hala ČESTICE\,  Čestice29
SUMMARY:CP-U20M-2C: VK SPORT RK-VKM Nová Paka
END:VEVENT
BEGIN:VEVENT
UID:33383565-6561-4230-b532-633730633433
DTSTAMP:20260424T075811Z
DESCRIPTION:2/2 Tělovýchovná jednota Jiskra Nový Bor\, z.s. - VKM Nová Paka
  3:0 (19\,20\,13)
DTSTART;TZID=Europe/Berlin:20260111T120000
DTEND;TZID=Europe/Berlin:20260111T140000
LOCATION:Sportovní hala ČESTICE\,  Čestice29
SUMMARY:CP-U20M-2C: Tělovýchovná jednota Jiskra Nový Bor\, z.s.-VKM Nová Pa
 ka
END:VEVENT
BEGIN:VEVENT
UID:35613938-3231-4435-b238-653235366638
DTSTAMP:20260424T075811Z
DESCRIPTION:3/3 VK SPORT RK - Tělovýchovná jednota Jiskra Nový Bor\, z.s. 3
 :2 (-19\,21\,20\,-16\,11)
DTSTART;TZID=Europe/Berlin:20260111T140000
DTEND;TZID=Europe/Berlin:20260111T160000
LOCATION:Sportovní hala ČESTICE\,  Čestice29
SUMMARY:CP-U20M-2C: VK SPORT RK-Tělovýchovná jednota Jiskra Nový Bor\, z.s.
END:VEVENT
END:VCALENDAR
