BEGIN:VCALENDAR
VERSION:2.0
PRODID:-//PP-U14Z-5-B//NONSGML kigkonsult.se iCalcreator 2.41.80//
CALSCALE:GREGORIAN
UID:64613538-3963-4837-b638-623838646135
BEGIN:VEVENT
UID:65323033-6435-4466-a439-353037383638
DTSTAMP:20260421T210047Z
DESCRIPTION:1/1 SK Kometa Praha A - SC Braník 2:1 (12\,-18\,10)
DTSTART;TZID=Europe/Berlin:20260110T090000
DTEND;TZID=Europe/Berlin:20260110T110000
LOCATION:Tělocvična ZŠ\, Španielova 1111 Praha - Řepy
SUMMARY:PP-U14Z-5-B: SK Kometa Praha A-SC Braník
END:VEVENT
BEGIN:VEVENT
UID:64666638-6131-4631-b537-396266343033
DTSTAMP:20260421T210047Z
DESCRIPTION:2/2 Španielka - VK Lvi Praha A 1:2 (18\,-21\,-8)
DTSTART;TZID=Europe/Berlin:20260110T100000
DTEND;TZID=Europe/Berlin:20260110T120000
LOCATION:Tělocvična ZŠ\, Španielova 1111 Praha - Řepy
SUMMARY:PP-U14Z-5-B: Španielka-VK Lvi Praha A
END:VEVENT
BEGIN:VEVENT
UID:31393535-3462-4931-a237-313331363665
DTSTAMP:20260421T210047Z
DESCRIPTION:3/3 SC Braník - VK Lvi Praha A 0:2 (-19\,-18)
DTSTART;TZID=Europe/Berlin:20260110T110000
DTEND;TZID=Europe/Berlin:20260110T130000
LOCATION:Tělocvična ZŠ\, Španielova 1111 Praha - Řepy
SUMMARY:PP-U14Z-5-B: SC Braník-VK Lvi Praha A
END:VEVENT
BEGIN:VEVENT
UID:35656337-3561-4535-b130-353939323536
DTSTAMP:20260421T210047Z
DESCRIPTION:4/4 SK Kometa Praha A - Španielka 2:1 (-22\,15\,10)
DTSTART;TZID=Europe/Berlin:20260110T120000
DTEND;TZID=Europe/Berlin:20260110T140000
LOCATION:Tělocvična ZŠ\, Španielova 1111 Praha - Řepy
SUMMARY:PP-U14Z-5-B: SK Kometa Praha A-Španielka
END:VEVENT
BEGIN:VEVENT
UID:31373735-6261-4238-b133-366639656532
DTSTAMP:20260421T210047Z
DESCRIPTION:5/5 Španielka - SC Braník 2:0 (12\,14)
DTSTART;TZID=Europe/Berlin:20260110T130000
DTEND;TZID=Europe/Berlin:20260110T150000
LOCATION:Tělocvična ZŠ\, Španielova 1111 Praha - Řepy
SUMMARY:PP-U14Z-5-B: Španielka-SC Braník
END:VEVENT
BEGIN:VEVENT
UID:63326662-3764-4638-a536-613430333935
DTSTAMP:20260421T210047Z
DESCRIPTION:6/6 VK Lvi Praha A - SK Kometa Praha A 1:2 (14\,-12\,-12)
DTSTART;TZID=Europe/Berlin:20260110T140000
DTEND;TZID=Europe/Berlin:20260110T160000
LOCATION:Tělocvična ZŠ\, Španielova 1111 Praha - Řepy
SUMMARY:PP-U14Z-5-B: VK Lvi Praha A-SK Kometa Praha A
END:VEVENT
END:VCALENDAR
