BEGIN:VCALENDAR
VERSION:2.0
PRODID:-//OLK-U16Z-6A//NONSGML kigkonsult.se iCalcreator 2.41.80//
CALSCALE:GREGORIAN
UID:36663865-3766-4038-b563-383635303031
BEGIN:VEVENT
UID:30303361-3731-4339-b365-666363663266
DTSTAMP:20260422T000319Z
DESCRIPTION:1/1 Prostějov - VAM Olomouc 2:0 (22\,14)
DTSTART;TZID=Europe/Berlin:20260125T090000
DTEND;TZID=Europe/Berlin:20260125T110000
LOCATION:Letní tělocvična\, Za velodromem 4205 Prostějov
SUMMARY:OLK-U16Z-6A: Prostějov-VAM Olomouc
END:VEVENT
BEGIN:VEVENT
UID:65373164-3966-4331-b337-656134383738
DTSTAMP:20260422T000319Z
DESCRIPTION:2/2 Olomouc - VK Olomouc B 2:0 (15\,11)
DTSTART;TZID=Europe/Berlin:20260125T100000
DTEND;TZID=Europe/Berlin:20260125T120000
LOCATION:Letní tělocvična\, Za velodromem 4205 Prostějov
SUMMARY:OLK-U16Z-6A: Olomouc-VK Olomouc B
END:VEVENT
BEGIN:VEVENT
UID:61333962-6339-4234-b333-666337383862
DTSTAMP:20260422T000319Z
DESCRIPTION:3/3 VAM Olomouc - VK Olomouc B 2:0 (19\,15)
DTSTART;TZID=Europe/Berlin:20260125T110000
DTEND;TZID=Europe/Berlin:20260125T130000
LOCATION:Letní tělocvična\, Za velodromem 4205 Prostějov
SUMMARY:OLK-U16Z-6A: VAM Olomouc-VK Olomouc B
END:VEVENT
BEGIN:VEVENT
UID:63316163-6135-4734-b736-633138326362
DTSTAMP:20260422T000319Z
DESCRIPTION:4/4 Prostějov - Olomouc 2:1 (21\,-28\,11)
DTSTART;TZID=Europe/Berlin:20260125T120000
DTEND;TZID=Europe/Berlin:20260125T140000
LOCATION:Letní tělocvična\, Za velodromem 4205 Prostějov
SUMMARY:OLK-U16Z-6A: Prostějov-Olomouc
END:VEVENT
BEGIN:VEVENT
UID:63393232-3263-4330-a665-653462643337
DTSTAMP:20260422T000319Z
DESCRIPTION:5/5 Olomouc - VAM Olomouc 2:0 (17\,14)
DTSTART;TZID=Europe/Berlin:20260125T130000
DTEND;TZID=Europe/Berlin:20260125T150000
LOCATION:Letní tělocvična\, Za velodromem 4205 Prostějov
SUMMARY:OLK-U16Z-6A: Olomouc-VAM Olomouc
END:VEVENT
BEGIN:VEVENT
UID:62383161-3431-4661-b738-316363633737
DTSTAMP:20260422T000319Z
DESCRIPTION:6/6 VK Olomouc B - Prostějov 2:1 (18\,-21\,13)
DTSTART;TZID=Europe/Berlin:20260125T140000
DTEND;TZID=Europe/Berlin:20260125T160000
LOCATION:Letní tělocvična\, Za velodromem 4205 Prostějov
SUMMARY:OLK-U16Z-6A: VK Olomouc B-Prostějov
END:VEVENT
END:VCALENDAR
