BEGIN:VCALENDAR
VERSION:2.0
PRODID:-//MS-U16Z-T5D//NONSGML kigkonsult.se iCalcreator 2.41.80//
CALSCALE:GREGORIAN
UID:32363435-6162-4738-a238-366364653434
BEGIN:VEVENT
UID:32393334-3837-4135-b039-366562346337
DTSTAMP:20260424T233317Z
DESCRIPTION:1/1 VAM Havířov - TJ Sokol Vratimov 2:1 (22\,-13\,7)
DTSTART;TZID=Europe/Berlin:20260215T090000
DTEND;TZID=Europe/Berlin:20260215T110000
LOCATION:Sportovní hala\, Heleny Salichové 1275 Ostrava - Polanka nad Odrou
SUMMARY:MS-U16Z-T5D: VAM Havířov-TJ Sokol Vratimov
END:VEVENT
BEGIN:VEVENT
UID:35333034-6232-4135-b237-386666393130
DTSTAMP:20260424T233317Z
DESCRIPTION:1/2 TJ Sokol FM B - VK Polanka 'B' 2:0 (17\,13)
DTSTART;TZID=Europe/Berlin:20260215T090000
DTEND;TZID=Europe/Berlin:20260215T110000
LOCATION:Sportovní hala\, Heleny Salichové 1275 Ostrava - Polanka nad Odrou
SUMMARY:MS-U16Z-T5D: TJ Sokol FM B-VK Polanka 'B'
END:VEVENT
BEGIN:VEVENT
UID:62343231-3235-4863-a235-626463306539
DTSTAMP:20260424T233317Z
DESCRIPTION:2/3 VAM Havířov - VK Polanka 'B' 2:0 (13\,22)
DTSTART;TZID=Europe/Berlin:20260215T103000
DTEND;TZID=Europe/Berlin:20260215T123000
LOCATION:Sportovní hala\, Heleny Salichové 1275 Ostrava - Polanka nad Odrou
SUMMARY:MS-U16Z-T5D: VAM Havířov-VK Polanka 'B'
END:VEVENT
BEGIN:VEVENT
UID:33623939-3034-4538-a433-393665363261
DTSTAMP:20260424T233317Z
DESCRIPTION:2/4 TJ Sokol FM B - TJ Sokol Vratimov 2:0 (17\,17)
DTSTART;TZID=Europe/Berlin:20260215T103000
DTEND;TZID=Europe/Berlin:20260215T123000
LOCATION:Sportovní hala\, Heleny Salichové 1275 Ostrava - Polanka nad Odrou
SUMMARY:MS-U16Z-T5D: TJ Sokol FM B-TJ Sokol Vratimov
END:VEVENT
BEGIN:VEVENT
UID:37646664-3662-4138-a539-633566633461
DTSTAMP:20260424T233317Z
DESCRIPTION:3/5 VAM Havířov - TJ Sokol FM B 1:2 (-16\,24\,-11)
DTSTART;TZID=Europe/Berlin:20260215T120000
DTEND;TZID=Europe/Berlin:20260215T140000
LOCATION:Sportovní hala\, Heleny Salichové 1275 Ostrava - Polanka nad Odrou
SUMMARY:MS-U16Z-T5D: VAM Havířov-TJ Sokol FM B
END:VEVENT
BEGIN:VEVENT
UID:34646634-3731-4633-a334-663266363264
DTSTAMP:20260424T233317Z
DESCRIPTION:4/6 VK Polanka 'B' - TJ Sokol Vratimov 2:1 (-22\,10\,3)
DTSTART;TZID=Europe/Berlin:20260215T133000
DTEND;TZID=Europe/Berlin:20260215T153000
LOCATION:Sportovní hala\, Heleny Salichové 1275 Ostrava - Polanka nad Odrou
SUMMARY:MS-U16Z-T5D: VK Polanka 'B'-TJ Sokol Vratimov
END:VEVENT
END:VCALENDAR
