BEGIN:VCALENDAR
VERSION:2.0
PRODID:-//MS-U16Z-T5F//NONSGML kigkonsult.se iCalcreator 2.41.80//
CALSCALE:GREGORIAN
UID:37666261-6366-4439-a366-393139653936
BEGIN:VEVENT
UID:32356536-6162-4066-a137-386662363532
DTSTAMP:20260424T033721Z
DESCRIPTION:1/1 TJ ODRY - Happy Opava 'A' 2:0 (22\,13)
DTSTART;TZID=Europe/Berlin:20260215T090000
DTEND;TZID=Europe/Berlin:20260215T110000
LOCATION:Tělocvična\, Pohořská 1010 Odry
SUMMARY:MS-U16Z-T5F: TJ ODRY-Happy Opava 'A'
END:VEVENT
BEGIN:VEVENT
UID:32663533-6131-4432-a231-363962316664
DTSTAMP:20260424T033721Z
DESCRIPTION:2/2 VK Karviná - VO Sl. Orlice 1:2 (-23\,22\,-9)
DTSTART;TZID=Europe/Berlin:20260215T103000
DTEND;TZID=Europe/Berlin:20260215T123000
LOCATION:Tělocvična\, Pohořská 1010 Odry
SUMMARY:MS-U16Z-T5F: VK Karviná-VO Sl. Orlice
END:VEVENT
BEGIN:VEVENT
UID:66396436-3166-4532-a130-393336633030
DTSTAMP:20260424T033721Z
DESCRIPTION:3/3 TJ ODRY - VO Sl. Orlice 2:0 (10\,17)
DTSTART;TZID=Europe/Berlin:20260215T120000
DTEND;TZID=Europe/Berlin:20260215T140000
LOCATION:Tělocvična\, Pohořská 1010 Odry
SUMMARY:MS-U16Z-T5F: TJ ODRY-VO Sl. Orlice
END:VEVENT
BEGIN:VEVENT
UID:33313638-3336-4934-b739-643436343937
DTSTAMP:20260424T033721Z
DESCRIPTION:4/4 VK Karviná - Happy Opava 'A' 0:2 (-20\,-18)
DTSTART;TZID=Europe/Berlin:20260215T133000
DTEND;TZID=Europe/Berlin:20260215T153000
LOCATION:Tělocvična\, Pohořská 1010 Odry
SUMMARY:MS-U16Z-T5F: VK Karviná-Happy Opava 'A'
END:VEVENT
BEGIN:VEVENT
UID:64373330-3239-4265-b039-373433336362
DTSTAMP:20260424T033721Z
DESCRIPTION:5/5 Happy Opava 'A' - VO Sl. Orlice 2:0 (10\,19)
DTSTART;TZID=Europe/Berlin:20260215T150000
DTEND;TZID=Europe/Berlin:20260215T170000
LOCATION:Tělocvična\, Pohořská 1010 Odry
SUMMARY:MS-U16Z-T5F: Happy Opava 'A'-VO Sl. Orlice
END:VEVENT
BEGIN:VEVENT
UID:63396661-3736-4839-b436-623739363738
DTSTAMP:20260424T033721Z
DESCRIPTION:6/6 TJ ODRY - VK Karviná 2:1 (24\,-22\,8)
DTSTART;TZID=Europe/Berlin:20260215T163000
DTEND;TZID=Europe/Berlin:20260215T183000
LOCATION:Tělocvična\, Pohořská 1010 Odry
SUMMARY:MS-U16Z-T5F: TJ ODRY-VK Karviná
END:VEVENT
END:VCALENDAR
