BEGIN:VCALENDAR
VERSION:2.0
PRODID:-//RKP-M-A//NONSGML kigkonsult.se iCalcreator 2.41.80//
CALSCALE:GREGORIAN
UID:63633637-3832-4634-b139-623136663535
BEGIN:VEVENT
UID:30663464-6631-4161-a332-656361306631
DTSTAMP:20260425T185218Z
DESCRIPTION:1/2 Opočno - Potštejn 1:2 (-18\,23\,-14)
DTSTART;TZID=Europe/Berlin:20260301T090000
DTEND;TZID=Europe/Berlin:20260301T110000
LOCATION:Sportovní hala R.Šebrleho\, Hrdinů odboje 36 Rychnov nad Kněžnou
SUMMARY:RKP-M-A: Opočno-Potštejn
END:VEVENT
BEGIN:VEVENT
UID:62306635-3632-4163-b863-303962366431
DTSTAMP:20260425T185218Z
DESCRIPTION:2/4 VKS RK B - Opočno 2:0 (21\,22)
DTSTART;TZID=Europe/Berlin:20260301T103000
DTEND;TZID=Europe/Berlin:20260301T123000
LOCATION:Sportovní hala R.Šebrleho\, Hrdinů odboje 36 Rychnov nad Kněžnou
SUMMARY:RKP-M-A: VKS RK B-Opočno
END:VEVENT
BEGIN:VEVENT
UID:35373431-3566-4836-b763-336138616164
DTSTAMP:20260425T185218Z
DESCRIPTION:3/6 Potštejn - VKS RK B 0:2 (-12\,-13)
DTSTART;TZID=Europe/Berlin:20260301T120000
DTEND;TZID=Europe/Berlin:20260301T140000
LOCATION:, Pod Lipami 321 Potštejn
SUMMARY:RKP-M-A: Potštejn-VKS RK B
END:VEVENT
END:VCALENDAR
