BEGIN:VCALENDAR
VERSION:2.0
PRODID:-//EX-U20Z-III//NONSGML kigkonsult.se iCalcreator 2.41.80//
CALSCALE:GREGORIAN
UID:36323065-6432-4132-a463-666164303263
BEGIN:VEVENT
UID:62373639-3164-4733-a463-303132386637
DTSTAMP:20260421T191956Z
DESCRIPTION:1/1 Plzeň - Přerov 3:1 (-17\,20\,20\,20)
DTSTART;TZID=Europe/Berlin:20260131T160000
DTEND;TZID=Europe/Berlin:20260131T180000
LOCATION:Sportovní hala - SG Plzeň\, Vejprnická 663 Plzeň - Skvrňany
SUMMARY:EX-U20Z-III: Plzeň-Přerov
END:VEVENT
BEGIN:VEVENT
UID:30633661-6663-4561-b862-383237633031
DTSTAMP:20260421T191956Z
DESCRIPTION:1/2 Č. Budějovice - Lanškroun 3:1 (21\,-15\,20\,24)
DTSTART;TZID=Europe/Berlin:20260131T170000
DTEND;TZID=Europe/Berlin:20260131T190000
LOCATION:ZŠ Oskara Nedbala České Budějovice\, O. Nedbala 882 České Budějovi
 ce - České Budějovice 2
SUMMARY:EX-U20Z-III: Č. Budějovice-Lanškroun
END:VEVENT
BEGIN:VEVENT
UID:35653935-3461-4833-b931-363861643863
DTSTAMP:20260421T191956Z
DESCRIPTION:2/3 Č. Budějovice - Přerov 2:3 (-23\,11\,25\,-25\,-13)
DTSTART;TZID=Europe/Berlin:20260208T130000
DTEND;TZID=Europe/Berlin:20260208T150000
LOCATION:Sportovní hala\, Stromovka 1216 České Budějovice - České Budějovic
 e 2
SUMMARY:EX-U20Z-III: Č. Budějovice-Přerov
END:VEVENT
BEGIN:VEVENT
UID:66643435-3530-4465-a263-353233643433
DTSTAMP:20260421T191956Z
DESCRIPTION:2/4 Lanškroun - Plzeň 3:0 (16\,22\,25)
DTSTART;TZID=Europe/Berlin:20260208T110000
DTEND;TZID=Europe/Berlin:20260208T130000
LOCATION:SOŠ a SOU Lanškroun\, Sokolská 288 Lanškroun - Ostrovské Předměstí
SUMMARY:EX-U20Z-III: Lanškroun-Plzeň
END:VEVENT
BEGIN:VEVENT
UID:38646235-6230-4362-a534-366462626161
DTSTAMP:20260421T191956Z
DESCRIPTION:3/5 Plzeň - Č. Budějovice 2:3 (20\,22\,-20\,-22\,-16)
DTSTART;TZID=Europe/Berlin:20260215T150000
DTEND;TZID=Europe/Berlin:20260215T170000
LOCATION:Sportovní hala - SG Plzeň\, Vejprnická 663 Plzeň - Skvrňany
SUMMARY:EX-U20Z-III: Plzeň-Č. Budějovice
END:VEVENT
BEGIN:VEVENT
UID:36653231-6465-4237-b433-353763376538
DTSTAMP:20260421T191956Z
DESCRIPTION:3/6 Lanškroun - Přerov 3:1 (-20\,22\,19\,19)
DTSTART;TZID=Europe/Berlin:20260215T110000
DTEND;TZID=Europe/Berlin:20260215T130000
LOCATION:SOŠ a SOU Lanškroun\, Sokolská 288 Lanškroun - Ostrovské Předměstí
SUMMARY:EX-U20Z-III: Lanškroun-Přerov
END:VEVENT
BEGIN:VEVENT
UID:35636637-6238-4362-b339-633139386631
DTSTAMP:20260421T191956Z
DESCRIPTION:4/7 Přerov - Plzeň 2:3 (-18\,-17\,22\,26\,-8)
DTSTART;TZID=Europe/Berlin:20260222T110000
DTEND;TZID=Europe/Berlin:20260222T130000
LOCATION:Městská sportovní hala\, Petřivalského 2884 Přerov - Přerov I-Měst
 o
SUMMARY:EX-U20Z-III: Přerov-Plzeň
END:VEVENT
BEGIN:VEVENT
UID:32363930-3830-4533-b236-353639356230
DTSTAMP:20260421T191956Z
DESCRIPTION:4/8 Lanškroun - Č. Budějovice 3:1 (-20\,9\,11\,21)
DTSTART;TZID=Europe/Berlin:20260222T150000
DTEND;TZID=Europe/Berlin:20260222T170000
LOCATION:SOŠ a SOU Lanškroun\, Sokolská 288 Lanškroun - Ostrovské Předměstí
SUMMARY:EX-U20Z-III: Lanškroun-Č. Budějovice
END:VEVENT
BEGIN:VEVENT
UID:30646538-3037-4533-b632-386131643161
DTSTAMP:20260421T191956Z
DESCRIPTION:5/9 Přerov - Č. Budějovice 0:3 (-17\,-18\,-23)
DTSTART;TZID=Europe/Berlin:20260308T170000
DTEND;TZID=Europe/Berlin:20260308T190000
LOCATION:Městská sportovní hala\, Petřivalského 2884 Přerov - Přerov I-Měst
 o
SUMMARY:EX-U20Z-III: Přerov-Č. Budějovice
END:VEVENT
BEGIN:VEVENT
UID:33313239-6133-4230-b663-656365346562
DTSTAMP:20260421T191956Z
DESCRIPTION:5/10 Plzeň - Lanškroun 0:3 (-18\,-21\,-22)
DTSTART;TZID=Europe/Berlin:20260308T160000
DTEND;TZID=Europe/Berlin:20260308T180000
LOCATION:Sportovní hala - SG Plzeň\, Vejprnická 663 Plzeň - Skvrňany
SUMMARY:EX-U20Z-III: Plzeň-Lanškroun
END:VEVENT
BEGIN:VEVENT
UID:32386164-3661-4230-b831-653364303464
DTSTAMP:20260421T191956Z
DESCRIPTION:6/11 Č. Budějovice - Plzeň 3:2 (-23\,22\,-28\,17\,13)
DTSTART;TZID=Europe/Berlin:20260405T140000
DTEND;TZID=Europe/Berlin:20260405T160000
LOCATION:Sportovní hala\, Stromovka 1216 České Budějovice - České Budějovic
 e 2
SUMMARY:EX-U20Z-III: Č. Budějovice-Plzeň
END:VEVENT
BEGIN:VEVENT
UID:64646565-3565-4134-a531-383966323762
DTSTAMP:20260421T191956Z
DESCRIPTION:6/12 Přerov - Lanškroun 0:3 (-20\,-21\,-19)
DTSTART;TZID=Europe/Berlin:20260319T160000
DTEND;TZID=Europe/Berlin:20260319T180000
LOCATION:Městská sportovní hala\, Petřivalského 2884 Přerov - Přerov I-Měst
 o
SUMMARY:EX-U20Z-III: Přerov-Lanškroun
END:VEVENT
END:VCALENDAR
