BEGIN:VCALENDAR
VERSION:2.0
PRODID:-//2-U18Z-I//NONSGML kigkonsult.se iCalcreator 2.41.80//
CALSCALE:GREGORIAN
UID:35663030-3034-4661-b930-626466383936
BEGIN:VEVENT
UID:38653738-3531-4138-b662-326334646265
DTSTAMP:20260421T183247Z
DESCRIPTION:1/1 Děčín - Příbram X:3\nNehraje se
DTSTART;TZID=Europe/Berlin:20260403T100000
DTEND;TZID=Europe/Berlin:20260403T120000
LOCATION:Tělocvična ZŠ Balbínova\, Balbínova 328 Příbram - Příbram II
SUMMARY:2-U18Z-I: Děčín-Příbram
END:VEVENT
BEGIN:VEVENT
UID:38663064-3434-4165-b235-363330303331
DTSTAMP:20260421T183247Z
DESCRIPTION:1/2 Kladno - Hořovice 1:3 (21\,-21\,-19\,-17)
DTSTART;TZID=Europe/Berlin:20260214T100000
DTEND;TZID=Europe/Berlin:20260214T120000
LOCATION:Přetlaková sportovní hala Brjanská\, Severní 3127 Kladno
SUMMARY:2-U18Z-I: Kladno-Hořovice
END:VEVENT
BEGIN:VEVENT
UID:63383237-3636-4466-b363-353462626138
DTSTAMP:20260421T183247Z
DESCRIPTION:1/3 Olymp B - Chodov 3:0 (14\,14\,9)
DTSTART;TZID=Europe/Berlin:20260214T100000
DTEND;TZID=Europe/Berlin:20260214T120000
LOCATION:VCM OLYMP PRAHA \, Radlická 115 Praha - Radlice
SUMMARY:2-U18Z-I: Olymp B-Chodov
END:VEVENT
BEGIN:VEVENT
UID:39386439-6562-4831-b038-653765343831
DTSTAMP:20260421T183247Z
DESCRIPTION:2/4 Děčín - Příbram X:3\nNehraje se
DTSTART;TZID=Europe/Berlin:20260403T140000
DTEND;TZID=Europe/Berlin:20260403T160000
LOCATION:Tělocvična ZŠ Balbínova\, Balbínova 328 Příbram - Příbram II
SUMMARY:2-U18Z-I: Děčín-Příbram
END:VEVENT
BEGIN:VEVENT
UID:34316266-3039-4361-a239-663539323163
DTSTAMP:20260421T183247Z
DESCRIPTION:2/5 Kladno - Hořovice 0:3 (-19\,-18\,-25)
DTSTART;TZID=Europe/Berlin:20260214T140000
DTEND;TZID=Europe/Berlin:20260214T160000
LOCATION:Přetlaková sportovní hala Brjanská\, Severní 3127 Kladno
SUMMARY:2-U18Z-I: Kladno-Hořovice
END:VEVENT
BEGIN:VEVENT
UID:30343738-3763-4462-b635-616630373630
DTSTAMP:20260421T183247Z
DESCRIPTION:2/6 Olymp B - Chodov 3:0 (23\,23\,8)
DTSTART;TZID=Europe/Berlin:20260214T140000
DTEND;TZID=Europe/Berlin:20260214T160000
LOCATION:VCM OLYMP PRAHA \, Radlická 115 Praha - Radlice
SUMMARY:2-U18Z-I: Olymp B-Chodov
END:VEVENT
BEGIN:VEVENT
UID:36346163-3662-4336-b261-323434343962
DTSTAMP:20260421T183247Z
DESCRIPTION:3/7 Olymp B - Kladno 3:0 (20\,10\,11)
DTSTART;TZID=Europe/Berlin:20260221T100000
DTEND;TZID=Europe/Berlin:20260221T120000
LOCATION:VCM OLYMP PRAHA \, Radlická 115 Praha - Radlice
SUMMARY:2-U18Z-I: Olymp B-Kladno
END:VEVENT
BEGIN:VEVENT
UID:32373931-3337-4566-a238-396437343461
DTSTAMP:20260421T183247Z
DESCRIPTION:3/8 Hořovice - Děčín 3:1 (-18\,9\,13\,20)
DTSTART;TZID=Europe/Berlin:20260221T100000
DTEND;TZID=Europe/Berlin:20260221T120000
LOCATION:Sportovní hala\, Ke Stadionu 1385 Hořovice
SUMMARY:2-U18Z-I: Hořovice-Děčín
END:VEVENT
BEGIN:VEVENT
UID:63396238-3236-4432-b639-333334663162
DTSTAMP:20260421T183247Z
DESCRIPTION:3/9 Příbram - Chodov 3:0 (15\,21\,12)
DTSTART;TZID=Europe/Berlin:20260221T100000
DTEND;TZID=Europe/Berlin:20260221T120000
LOCATION:Tělocvična ZŠ Balbínova\, Balbínova 328 Příbram - Příbram II
SUMMARY:2-U18Z-I: Příbram-Chodov
END:VEVENT
BEGIN:VEVENT
UID:64346266-6634-4966-b135-623438363737
DTSTAMP:20260421T183247Z
DESCRIPTION:4/10 Olymp B - Kladno 3:1 (-23\,20\,18\,8)
DTSTART;TZID=Europe/Berlin:20260221T140000
DTEND;TZID=Europe/Berlin:20260221T160000
LOCATION:VCM OLYMP PRAHA \, Radlická 115 Praha - Radlice
SUMMARY:2-U18Z-I: Olymp B-Kladno
END:VEVENT
BEGIN:VEVENT
UID:61323037-3561-4433-b930-623764323936
DTSTAMP:20260421T183247Z
DESCRIPTION:4/11 Hořovice - Děčín 3:1 (15\,21\,-23\,20)
DTSTART;TZID=Europe/Berlin:20260221T140000
DTEND;TZID=Europe/Berlin:20260221T160000
LOCATION:Sportovní hala\, Ke Stadionu 1385 Hořovice
SUMMARY:2-U18Z-I: Hořovice-Děčín
END:VEVENT
BEGIN:VEVENT
UID:64303032-3165-4863-b561-306133393561
DTSTAMP:20260421T183247Z
DESCRIPTION:4/12 Příbram - Chodov 3:0 (21\,14\,16)
DTSTART;TZID=Europe/Berlin:20260221T140000
DTEND;TZID=Europe/Berlin:20260221T160000
LOCATION:Tělocvična ZŠ Balbínova\, Balbínova 328 Příbram - Příbram II
SUMMARY:2-U18Z-I: Příbram-Chodov
END:VEVENT
BEGIN:VEVENT
UID:35303966-3039-4561-a633-346263353763
DTSTAMP:20260421T183247Z
DESCRIPTION:5/13 Děčín - Olymp B 1:3 (-19\,-20\,15\,-19)
DTSTART;TZID=Europe/Berlin:20260307T100000
DTEND;TZID=Europe/Berlin:20260307T120000
LOCATION:SH ZŠ Dr M. Tyrše\, Vrchlického 630 Děčín - Děčín II-Nové Město
SUMMARY:2-U18Z-I: Děčín-Olymp B
END:VEVENT
BEGIN:VEVENT
UID:62356537-6637-4266-a261-656232323838
DTSTAMP:20260421T183247Z
DESCRIPTION:5/14 Kladno - Příbram 0:3 (-22\,-18\,-24)
DTSTART;TZID=Europe/Berlin:20260307T100000
DTEND;TZID=Europe/Berlin:20260307T120000
LOCATION:Kladenská sportovní hala\, Sportovců 817 Kladno - Rozdělov
SUMMARY:2-U18Z-I: Kladno-Příbram
END:VEVENT
BEGIN:VEVENT
UID:61396566-3962-4537-b334-663733353533
DTSTAMP:20260421T183247Z
DESCRIPTION:5/15 Chodov - Hořovice 1:3 (-7\,-17\,22\,-6)
DTSTART;TZID=Europe/Berlin:20260307T100000
DTEND;TZID=Europe/Berlin:20260307T120000
LOCATION:Městská sportovní hala Chodov\, Tyršova 1201 Chodov
SUMMARY:2-U18Z-I: Chodov-Hořovice
END:VEVENT
BEGIN:VEVENT
UID:35323233-3836-4438-b036-613936333566
DTSTAMP:20260421T183247Z
DESCRIPTION:6/16 Děčín - Olymp B 1:3 (-23\,25\,-17\,-20)
DTSTART;TZID=Europe/Berlin:20260307T140000
DTEND;TZID=Europe/Berlin:20260307T160000
LOCATION:SH ZŠ Dr M. Tyrše\, Vrchlického 630 Děčín - Děčín II-Nové Město
SUMMARY:2-U18Z-I: Děčín-Olymp B
END:VEVENT
BEGIN:VEVENT
UID:37616430-3061-4531-b131-626533623333
DTSTAMP:20260421T183247Z
DESCRIPTION:6/17 Kladno - Příbram 1:3 (-18\,-17\,19\,-22)
DTSTART;TZID=Europe/Berlin:20260307T140000
DTEND;TZID=Europe/Berlin:20260307T160000
LOCATION:Kladenská sportovní hala\, Sportovců 817 Kladno - Rozdělov
SUMMARY:2-U18Z-I: Kladno-Příbram
END:VEVENT
BEGIN:VEVENT
UID:31616234-3530-4566-a661-306633396632
DTSTAMP:20260421T183247Z
DESCRIPTION:6/18 Chodov - Hořovice 0:3 (-19\,-20\,-17)
DTSTART;TZID=Europe/Berlin:20260307T140000
DTEND;TZID=Europe/Berlin:20260307T160000
LOCATION:Městská sportovní hala Chodov\, Tyršova 1201 Chodov
SUMMARY:2-U18Z-I: Chodov-Hořovice
END:VEVENT
BEGIN:VEVENT
UID:33303737-6136-4637-b266-316131363666
DTSTAMP:20260421T183247Z
DESCRIPTION:7/19 Příbram - Děčín 3:1 (18\,27\,-19\,12)
DTSTART;TZID=Europe/Berlin:20260314T100000
DTEND;TZID=Europe/Berlin:20260314T120000
LOCATION:Tělocvična ZŠ Balbínova\, Balbínova 328 Příbram - Příbram II
SUMMARY:2-U18Z-I: Příbram-Děčín
END:VEVENT
BEGIN:VEVENT
UID:34303963-6239-4431-a633-373866336662
DTSTAMP:20260421T183247Z
DESCRIPTION:7/20 Hořovice - Kladno 3:0 (11\,7\,11)
DTSTART;TZID=Europe/Berlin:20260314T100000
DTEND;TZID=Europe/Berlin:20260314T120000
LOCATION:Sportovní hala Lochovice\,  Lochovice421
SUMMARY:2-U18Z-I: Hořovice-Kladno
END:VEVENT
BEGIN:VEVENT
UID:37653562-3737-4530-b361-343365666161
DTSTAMP:20260421T183247Z
DESCRIPTION:7/21 Chodov - Olymp B 0:3 (-13\,-22\,-16)
DTSTART;TZID=Europe/Berlin:20260314T100000
DTEND;TZID=Europe/Berlin:20260314T120000
LOCATION:Městská sportovní hala Chodov\, Tyršova 1201 Chodov
SUMMARY:2-U18Z-I: Chodov-Olymp B
END:VEVENT
BEGIN:VEVENT
UID:61373563-3265-4239-b661-643433646361
DTSTAMP:20260421T183247Z
DESCRIPTION:8/22 Příbram - Děčín 2:3 (24\,-21\,19\,-21\,-17)
DTSTART;TZID=Europe/Berlin:20260314T140000
DTEND;TZID=Europe/Berlin:20260314T160000
LOCATION:Tělocvična ZŠ Balbínova\, Balbínova 328 Příbram - Příbram II
SUMMARY:2-U18Z-I: Příbram-Děčín
END:VEVENT
BEGIN:VEVENT
UID:31616631-3937-4235-b163-383734636263
DTSTAMP:20260421T183247Z
DESCRIPTION:8/23 Hořovice - Kladno 3:2 (-19\,23\,-19\,22\,11)
DTSTART;TZID=Europe/Berlin:20260314T140000
DTEND;TZID=Europe/Berlin:20260314T160000
LOCATION:Sportovní hala Lochovice\,  Lochovice421
SUMMARY:2-U18Z-I: Hořovice-Kladno
END:VEVENT
BEGIN:VEVENT
UID:39393630-3962-4566-b536-653332356361
DTSTAMP:20260421T183247Z
DESCRIPTION:8/24 Chodov - Olymp B 0:3 (-19\,-23\,-21)
DTSTART;TZID=Europe/Berlin:20260314T140000
DTEND;TZID=Europe/Berlin:20260314T160000
LOCATION:Městská sportovní hala Chodov\, Tyršova 1201 Chodov
SUMMARY:2-U18Z-I: Chodov-Olymp B
END:VEVENT
BEGIN:VEVENT
UID:32333235-3433-4361-b432-376636656463
DTSTAMP:20260421T183247Z
DESCRIPTION:9/25 Kladno - Olymp B 1:3 (-12\,-9\,16\,-20)
DTSTART;TZID=Europe/Berlin:20260321T100000
DTEND;TZID=Europe/Berlin:20260321T120000
LOCATION:Přetlaková sportovní hala Brjanská\, Severní 3127 Kladno
SUMMARY:2-U18Z-I: Kladno-Olymp B
END:VEVENT
BEGIN:VEVENT
UID:61396564-3364-4734-a436-393539386330
DTSTAMP:20260421T183247Z
DESCRIPTION:9/26 Děčín - Hořovice 1:3 (13\,-16\,-21\,-19)
DTSTART;TZID=Europe/Berlin:20260321T100000
DTEND;TZID=Europe/Berlin:20260321T120000
LOCATION:SH ZŠ Dr M. Tyrše\, Vrchlického 630 Děčín - Děčín II-Nové Město
SUMMARY:2-U18Z-I: Děčín-Hořovice
END:VEVENT
BEGIN:VEVENT
UID:61366461-3635-4039-b533-653435393061
DTSTAMP:20260421T183247Z
DESCRIPTION:9/27 Chodov - Příbram 3:1 (21\,19\,-27\,20)
DTSTART;TZID=Europe/Berlin:20260321T100000
DTEND;TZID=Europe/Berlin:20260321T120000
LOCATION:Městská sportovní hala Chodov\, Tyršova 1201 Chodov
SUMMARY:2-U18Z-I: Chodov-Příbram
END:VEVENT
BEGIN:VEVENT
UID:32363964-3333-4136-a464-373637653536
DTSTAMP:20260421T183247Z
DESCRIPTION:10/28 Kladno - Olymp B 2:3 (23\,-21\,-17\,21\,-13)
DTSTART;TZID=Europe/Berlin:20260321T140000
DTEND;TZID=Europe/Berlin:20260321T160000
LOCATION:Přetlaková sportovní hala Brjanská\, Severní 3127 Kladno
SUMMARY:2-U18Z-I: Kladno-Olymp B
END:VEVENT
BEGIN:VEVENT
UID:62616337-6631-4230-b538-666461666534
DTSTAMP:20260421T183247Z
DESCRIPTION:10/29 Děčín - Hořovice 0:3 (-23\,-8\,-22)
DTSTART;TZID=Europe/Berlin:20260321T140000
DTEND;TZID=Europe/Berlin:20260321T160000
LOCATION:SH ZŠ Dr M. Tyrše\, Vrchlického 630 Děčín - Děčín II-Nové Město
SUMMARY:2-U18Z-I: Děčín-Hořovice
END:VEVENT
BEGIN:VEVENT
UID:63343863-3933-4730-b762-613534353730
DTSTAMP:20260421T183247Z
DESCRIPTION:10/30 Chodov - Příbram 2:3 (-24\,-18\,16\,18\,-15)
DTSTART;TZID=Europe/Berlin:20260321T140000
DTEND;TZID=Europe/Berlin:20260321T160000
LOCATION:Městská sportovní hala Chodov\, Tyršova 1201 Chodov
SUMMARY:2-U18Z-I: Chodov-Příbram
END:VEVENT
BEGIN:VEVENT
UID:32623333-6364-4662-b830-613661333763
DTSTAMP:20260421T183247Z
DESCRIPTION:11/31 Olymp B - Děčín 3:2 (-21\,-23\,11\,10\,7)
DTSTART;TZID=Europe/Berlin:20260402T100000
DTEND;TZID=Europe/Berlin:20260402T120000
LOCATION:VCM OLYMP PRAHA \, Radlická 115 Praha - Radlice
SUMMARY:2-U18Z-I: Olymp B-Děčín
END:VEVENT
BEGIN:VEVENT
UID:34363431-6164-4163-b134-343333353431
DTSTAMP:20260421T183247Z
DESCRIPTION:11/32 Příbram - Kladno 3:0 (21\,25\,24)
DTSTART;TZID=Europe/Berlin:20260328T110000
DTEND;TZID=Europe/Berlin:20260328T130000
LOCATION:Tělocvična ZŠ Balbínova\, Balbínova 328 Příbram - Příbram II
SUMMARY:2-U18Z-I: Příbram-Kladno
END:VEVENT
BEGIN:VEVENT
UID:63366338-6362-4561-b235-326130313066
DTSTAMP:20260421T183247Z
DESCRIPTION:11/33 Hořovice - Chodov 3:0 (18\,15\,15)
DTSTART;TZID=Europe/Berlin:20260403T100000
DTEND;TZID=Europe/Berlin:20260403T120000
LOCATION:Sportovní hala\, Ke Stadionu 1385 Hořovice
SUMMARY:2-U18Z-I: Hořovice-Chodov
END:VEVENT
BEGIN:VEVENT
UID:65633837-3865-4632-a534-383034616463
DTSTAMP:20260421T183247Z
DESCRIPTION:12/34 Olymp B - Děčín 3:0 (11\,15\,14)
DTSTART;TZID=Europe/Berlin:20260402T140000
DTEND;TZID=Europe/Berlin:20260402T160000
LOCATION:VCM OLYMP PRAHA \, Radlická 115 Praha - Radlice
SUMMARY:2-U18Z-I: Olymp B-Děčín
END:VEVENT
BEGIN:VEVENT
UID:65323763-3363-4538-a465-356131313563
DTSTAMP:20260421T183247Z
DESCRIPTION:12/35 Příbram - Kladno 3:2 (-12\,20\,18\,-18\,14)
DTSTART;TZID=Europe/Berlin:20260328T150000
DTEND;TZID=Europe/Berlin:20260328T170000
LOCATION:Tělocvična ZŠ Balbínova\, Balbínova 328 Příbram - Příbram II
SUMMARY:2-U18Z-I: Příbram-Kladno
END:VEVENT
BEGIN:VEVENT
UID:30636238-3434-4461-a166-653434303131
DTSTAMP:20260421T183247Z
DESCRIPTION:12/36 Hořovice - Chodov 3:0 (22\,13\,16)
DTSTART;TZID=Europe/Berlin:20260403T140000
DTEND;TZID=Europe/Berlin:20260403T160000
LOCATION:Sportovní hala\, Ke Stadionu 1385 Hořovice
SUMMARY:2-U18Z-I: Hořovice-Chodov
END:VEVENT
END:VCALENDAR
