BEGIN:VCALENDAR
VERSION:2.0
PRODID:-//CP-U16Z5F//NONSGML kigkonsult.se iCalcreator 2.41.80//
CALSCALE:GREGORIAN
UID:64386266-3964-4062-b036-366638633336
BEGIN:VEVENT
UID:66336466-3865-4432-b638-363563623038
DTSTAMP:20260424T201914Z
DESCRIPTION:1/1 SC Braník - SK Volejbal Kolín 0:2 (-13\,-12)
DTSTART;TZID=Europe/Berlin:20260207T090000
DTEND;TZID=Europe/Berlin:20260207T110000
LOCATION:TJ Slavia Hradec Králové\, Víta Nejedlého 1216 Hradec Králové
SUMMARY:CP-U16Z5F: SC Braník-SK Volejbal Kolín
END:VEVENT
BEGIN:VEVENT
UID:39366530-3865-4533-b636-333661623734
DTSTAMP:20260424T201914Z
DESCRIPTION:1/2 VK Lvi Praha - SK Španielka 2:0 (17\,24)
DTSTART;TZID=Europe/Berlin:20260207T090000
DTEND;TZID=Europe/Berlin:20260207T110000
LOCATION:TJ Slavia Hradec Králové\, Víta Nejedlého 1216 Hradec Králové
SUMMARY:CP-U16Z5F: VK Lvi Praha-SK Španielka
END:VEVENT
BEGIN:VEVENT
UID:66313364-6664-4730-b931-376139353861
DTSTAMP:20260424T201914Z
DESCRIPTION:2/3 VSK Baník Sokolov - KP Brno B 1:2 (23\,-6\,-6)
DTSTART;TZID=Europe/Berlin:20260207T101500
DTEND;TZID=Europe/Berlin:20260207T121500
LOCATION:TJ Slavia Hradec Králové\, Víta Nejedlého 1216 Hradec Králové
SUMMARY:CP-U16Z5F: VSK Baník Sokolov-KP Brno B
END:VEVENT
BEGIN:VEVENT
UID:66616134-6464-4634-a362-663634386238
DTSTAMP:20260424T201914Z
DESCRIPTION:2/4 VK Brno - TJ Kunice 1:2 (23\,-23\,-6)
DTSTART;TZID=Europe/Berlin:20260207T101500
DTEND;TZID=Europe/Berlin:20260207T121500
LOCATION:TJ Slavia Hradec Králové\, Víta Nejedlého 1216 Hradec Králové
SUMMARY:CP-U16Z5F: VK Brno-TJ Kunice
END:VEVENT
BEGIN:VEVENT
UID:33333030-3438-4538-b330-376164383363
DTSTAMP:20260424T201914Z
DESCRIPTION:3/5 SK Volejbal Kolín - TJ Kunice 2:0 (23\,16)
DTSTART;TZID=Europe/Berlin:20260207T113000
DTEND;TZID=Europe/Berlin:20260207T133000
LOCATION:TJ Slavia Hradec Králové\, Víta Nejedlého 1216 Hradec Králové
SUMMARY:CP-U16Z5F: SK Volejbal Kolín-TJ Kunice
END:VEVENT
BEGIN:VEVENT
UID:63663734-6633-4733-b064-623261323761
DTSTAMP:20260424T201914Z
DESCRIPTION:3/6 KP Brno B - VK Brno 2:0 (18\,20)
DTSTART;TZID=Europe/Berlin:20260207T113000
DTEND;TZID=Europe/Berlin:20260207T133000
LOCATION:TJ Slavia Hradec Králové\, Víta Nejedlého 1216 Hradec Králové
SUMMARY:CP-U16Z5F: KP Brno B-VK Brno
END:VEVENT
BEGIN:VEVENT
UID:36626534-3135-4235-a265-613935383439
DTSTAMP:20260424T201914Z
DESCRIPTION:4/7 SK Španielka - VSK Baník Sokolov 0:2 (-17\,-14)
DTSTART;TZID=Europe/Berlin:20260207T124500
DTEND;TZID=Europe/Berlin:20260207T144500
LOCATION:TJ Slavia Hradec Králové\, Víta Nejedlého 1216 Hradec Králové
SUMMARY:CP-U16Z5F: SK Španielka-VSK Baník Sokolov
END:VEVENT
BEGIN:VEVENT
UID:34666662-3336-4236-b233-306461323931
DTSTAMP:20260424T201914Z
DESCRIPTION:4/8 SC Braník - VK Lvi Praha 0:2 (-29\,-19)
DTSTART;TZID=Europe/Berlin:20260207T124500
DTEND;TZID=Europe/Berlin:20260207T144500
LOCATION:TJ Slavia Hradec Králové\, Víta Nejedlého 1216 Hradec Králové
SUMMARY:CP-U16Z5F: SC Braník-VK Lvi Praha
END:VEVENT
BEGIN:VEVENT
UID:66316235-6466-4762-a638-633963393966
DTSTAMP:20260424T201914Z
DESCRIPTION:5/9 VK Lvi Praha - SK Volejbal Kolín 1:2 (-20\,18\,-17)
DTSTART;TZID=Europe/Berlin:20260207T140000
DTEND;TZID=Europe/Berlin:20260207T160000
LOCATION:TJ Slavia Hradec Králové\, Víta Nejedlého 1216 Hradec Králové
SUMMARY:CP-U16Z5F: VK Lvi Praha-SK Volejbal Kolín
END:VEVENT
BEGIN:VEVENT
UID:35613765-3736-4339-b638-306334633635
DTSTAMP:20260424T201914Z
DESCRIPTION:5/10 VSK Baník Sokolov - SC Braník 1:2 (-19\,23\,-12)
DTSTART;TZID=Europe/Berlin:20260207T140000
DTEND;TZID=Europe/Berlin:20260207T160000
LOCATION:TJ Slavia Hradec Králové\, Víta Nejedlého 1216 Hradec Králové
SUMMARY:CP-U16Z5F: VSK Baník Sokolov-SC Braník
END:VEVENT
BEGIN:VEVENT
UID:62623830-3964-4333-b131-363931353536
DTSTAMP:20260424T201914Z
DESCRIPTION:6/11 VK Brno - SK Španielka 2:1 (-23\,20\,14)
DTSTART;TZID=Europe/Berlin:20260207T151500
DTEND;TZID=Europe/Berlin:20260207T171500
LOCATION:TJ Slavia Hradec Králové\, Víta Nejedlého 1216 Hradec Králové
SUMMARY:CP-U16Z5F: VK Brno-SK Španielka
END:VEVENT
BEGIN:VEVENT
UID:65666163-6661-4133-b937-666332326638
DTSTAMP:20260424T201914Z
DESCRIPTION:6/12 TJ Kunice - KP Brno B 0:2 (-21\,-24)
DTSTART;TZID=Europe/Berlin:20260207T151500
DTEND;TZID=Europe/Berlin:20260207T171500
LOCATION:TJ Slavia Hradec Králové\, Víta Nejedlého 1216 Hradec Králové
SUMMARY:CP-U16Z5F: TJ Kunice-KP Brno B
END:VEVENT
BEGIN:VEVENT
UID:32653539-3039-4364-b032-633434313438
DTSTAMP:20260424T201914Z
DESCRIPTION:7/13 SK Volejbal Kolín - KP Brno B 2:1 (-20\,16\,11)
DTSTART;TZID=Europe/Berlin:20260207T163000
DTEND;TZID=Europe/Berlin:20260207T183000
LOCATION:TJ Slavia Hradec Králové\, Víta Nejedlého 1216 Hradec Králové
SUMMARY:CP-U16Z5F: SK Volejbal Kolín-KP Brno B
END:VEVENT
BEGIN:VEVENT
UID:34343533-6365-4565-b835-303066633561
DTSTAMP:20260424T201914Z
DESCRIPTION:7/14 SK Španielka - TJ Kunice 1:2 (-20\,23\,-10)
DTSTART;TZID=Europe/Berlin:20260207T163000
DTEND;TZID=Europe/Berlin:20260207T183000
LOCATION:TJ Slavia Hradec Králové\, Víta Nejedlého 1216 Hradec Králové
SUMMARY:CP-U16Z5F: SK Španielka-TJ Kunice
END:VEVENT
BEGIN:VEVENT
UID:35656538-6563-4964-a265-656239363038
DTSTAMP:20260424T201914Z
DESCRIPTION:8/15 SC Braník - VK Brno 2:0 (21\,18)
DTSTART;TZID=Europe/Berlin:20260207T174500
DTEND;TZID=Europe/Berlin:20260207T194500
LOCATION:TJ Slavia Hradec Králové\, Víta Nejedlého 1216 Hradec Králové
SUMMARY:CP-U16Z5F: SC Braník-VK Brno
END:VEVENT
BEGIN:VEVENT
UID:39626336-3736-4134-b664-616635363334
DTSTAMP:20260424T201914Z
DESCRIPTION:8/16 VK Lvi Praha - VSK Baník Sokolov 0:2 (-19\,-20)
DTSTART;TZID=Europe/Berlin:20260207T174500
DTEND;TZID=Europe/Berlin:20260207T194500
LOCATION:TJ Slavia Hradec Králové\, Víta Nejedlého 1216 Hradec Králové
SUMMARY:CP-U16Z5F: VK Lvi Praha-VSK Baník Sokolov
END:VEVENT
BEGIN:VEVENT
UID:38333437-3266-4834-b538-306334663963
DTSTAMP:20260424T201914Z
DESCRIPTION:9/17 VSK Baník Sokolov - SK Volejbal Kolín 2:1 (18\,-21\,14)
DTSTART;TZID=Europe/Berlin:20260208T090000
DTEND;TZID=Europe/Berlin:20260208T110000
LOCATION:TJ Slavia Hradec Králové\, Víta Nejedlého 1216 Hradec Králové
SUMMARY:CP-U16Z5F: VSK Baník Sokolov-SK Volejbal Kolín
END:VEVENT
BEGIN:VEVENT
UID:33633039-6330-4461-a630-623435623936
DTSTAMP:20260424T201914Z
DESCRIPTION:9/18 VK Brno - VK Lvi Praha 2:0 (20\,14)
DTSTART;TZID=Europe/Berlin:20260208T090000
DTEND;TZID=Europe/Berlin:20260208T110000
LOCATION:TJ Slavia Hradec Králové\, Víta Nejedlého 1216 Hradec Králové
SUMMARY:CP-U16Z5F: VK Brno-VK Lvi Praha
END:VEVENT
BEGIN:VEVENT
UID:31343837-3134-4164-a237-393135653937
DTSTAMP:20260424T201914Z
DESCRIPTION:10/19 TJ Kunice - SC Braník 2:1 (21\,-22\,10)
DTSTART;TZID=Europe/Berlin:20260208T101500
DTEND;TZID=Europe/Berlin:20260208T121500
LOCATION:TJ Slavia Hradec Králové\, Víta Nejedlého 1216 Hradec Králové
SUMMARY:CP-U16Z5F: TJ Kunice-SC Braník
END:VEVENT
BEGIN:VEVENT
UID:37363034-3663-4566-b031-363765323135
DTSTAMP:20260424T201914Z
DESCRIPTION:10/20 KP Brno B - SK Španielka 2:1 (-20\,22\,17)
DTSTART;TZID=Europe/Berlin:20260208T101500
DTEND;TZID=Europe/Berlin:20260208T121500
LOCATION:TJ Slavia Hradec Králové\, Víta Nejedlého 1216 Hradec Králové
SUMMARY:CP-U16Z5F: KP Brno B-SK Španielka
END:VEVENT
BEGIN:VEVENT
UID:65326138-6234-4331-a534-323865353837
DTSTAMP:20260424T201914Z
DESCRIPTION:11/21 SK Volejbal Kolín - SK Španielka 2:0 (23\,15)
DTSTART;TZID=Europe/Berlin:20260208T113000
DTEND;TZID=Europe/Berlin:20260208T133000
LOCATION:TJ Slavia Hradec Králové\, Víta Nejedlého 1216 Hradec Králové
SUMMARY:CP-U16Z5F: SK Volejbal Kolín-SK Španielka
END:VEVENT
BEGIN:VEVENT
UID:64376434-6266-4933-b236-313236363038
DTSTAMP:20260424T201914Z
DESCRIPTION:11/22 SC Braník - KP Brno B 1:2 (17\,-14\,-12)
DTSTART;TZID=Europe/Berlin:20260208T113000
DTEND;TZID=Europe/Berlin:20260208T133000
LOCATION:TJ Slavia Hradec Králové\, Víta Nejedlého 1216 Hradec Králové
SUMMARY:CP-U16Z5F: SC Braník-KP Brno B
END:VEVENT
BEGIN:VEVENT
UID:31396464-3835-4263-b233-626236396335
DTSTAMP:20260424T201914Z
DESCRIPTION:12/23 VK Lvi Praha - TJ Kunice 2:1 (-21\,20\,11)
DTSTART;TZID=Europe/Berlin:20260208T124500
DTEND;TZID=Europe/Berlin:20260208T144500
LOCATION:TJ Slavia Hradec Králové\, Víta Nejedlého 1216 Hradec Králové
SUMMARY:CP-U16Z5F: VK Lvi Praha-TJ Kunice
END:VEVENT
BEGIN:VEVENT
UID:34623536-3831-4130-b834-336163333938
DTSTAMP:20260424T201914Z
DESCRIPTION:12/24 VSK Baník Sokolov - VK Brno 2:0 (19\,25)
DTSTART;TZID=Europe/Berlin:20260208T124500
DTEND;TZID=Europe/Berlin:20260208T144500
LOCATION:TJ Slavia Hradec Králové\, Víta Nejedlého 1216 Hradec Králové
SUMMARY:CP-U16Z5F: VSK Baník Sokolov-VK Brno
END:VEVENT
BEGIN:VEVENT
UID:34656333-3762-4235-a536-333637376337
DTSTAMP:20260424T201914Z
DESCRIPTION:13/25 VK Brno - SK Volejbal Kolín 1:2 (17\,-24\,-5)
DTSTART;TZID=Europe/Berlin:20260208T140000
DTEND;TZID=Europe/Berlin:20260208T160000
LOCATION:TJ Slavia Hradec Králové\, Víta Nejedlého 1216 Hradec Králové
SUMMARY:CP-U16Z5F: VK Brno-SK Volejbal Kolín
END:VEVENT
BEGIN:VEVENT
UID:30313461-6165-4461-b537-306631336633
DTSTAMP:20260424T201914Z
DESCRIPTION:13/26 TJ Kunice - VSK Baník Sokolov 2:1 (15\,-11\,13)
DTSTART;TZID=Europe/Berlin:20260208T140000
DTEND;TZID=Europe/Berlin:20260208T160000
LOCATION:TJ Slavia Hradec Králové\, Víta Nejedlého 1216 Hradec Králové
SUMMARY:CP-U16Z5F: TJ Kunice-VSK Baník Sokolov
END:VEVENT
BEGIN:VEVENT
UID:61336166-3638-4537-b261-393063383165
DTSTAMP:20260424T201914Z
DESCRIPTION:14/27 KP Brno B - VK Lvi Praha 2:1 (11\,-23\,8)
DTSTART;TZID=Europe/Berlin:20260208T151500
DTEND;TZID=Europe/Berlin:20260208T171500
LOCATION:TJ Slavia Hradec Králové\, Víta Nejedlého 1216 Hradec Králové
SUMMARY:CP-U16Z5F: KP Brno B-VK Lvi Praha
END:VEVENT
BEGIN:VEVENT
UID:64353633-6132-4631-b834-353739653663
DTSTAMP:20260424T201914Z
DESCRIPTION:14/28 SK Španielka - SC Braník 2:1 (17\,-22\,13)
DTSTART;TZID=Europe/Berlin:20260208T151500
DTEND;TZID=Europe/Berlin:20260208T171500
LOCATION:TJ Slavia Hradec Králové\, Víta Nejedlého 1216 Hradec Králové
SUMMARY:CP-U16Z5F: SK Španielka-SC Braník
END:VEVENT
END:VCALENDAR
