BEGIN:VCALENDAR
VERSION:2.0
PRODID:-//PP-U20M-T5-1B//NONSGML kigkonsult.se iCalcreator 2.41.80//
CALSCALE:GREGORIAN
UID:37326562-3566-4132-b961-323061656461
BEGIN:VEVENT
UID:37646166-3237-4331-b038-343939343164
DTSTAMP:20260424T151325Z
DESCRIPTION:1/1 VK Lvi Praha B - Ace Volleyball Academy z.s. 2:0 (6\,21)
DTSTART;TZID=Europe/Berlin:20260322T090000
DTEND;TZID=Europe/Berlin:20260322T110000
LOCATION:Sokol Bubeneč\, Korunovační 630 Praha - Bubeneč
SUMMARY:PP-U20M-T5-1B: VK Lvi Praha B-Ace Volleyball Academy z.s.
END:VEVENT
BEGIN:VEVENT
UID:34613535-6264-4236-b865-326131333434
DTSTAMP:20260424T151325Z
DESCRIPTION:2/2 SK PROSEK B - VK Lvi Praha B 2:0 (26\,22)
DTSTART;TZID=Europe/Berlin:20260322T100000
DTEND;TZID=Europe/Berlin:20260322T120000
LOCATION:Sokol Bubeneč\, Korunovační 630 Praha - Bubeneč
SUMMARY:PP-U20M-T5-1B: SK PROSEK B-VK Lvi Praha B
END:VEVENT
BEGIN:VEVENT
UID:38323262-3862-4535-b566-646333373130
DTSTAMP:20260424T151325Z
DESCRIPTION:3/3 Ace Volleyball Academy z.s. - SK PROSEK B 0:2 (-7\,-11)
DTSTART;TZID=Europe/Berlin:20260322T110000
DTEND;TZID=Europe/Berlin:20260322T130000
LOCATION:Sokol Bubeneč\, Korunovační 630 Praha - Bubeneč
SUMMARY:PP-U20M-T5-1B: Ace Volleyball Academy z.s.-SK PROSEK B
END:VEVENT
END:VCALENDAR
