BEGIN:VCALENDAR
VERSION:2.0
PRODID:-//P-U20Z-5B//NONSGML kigkonsult.se iCalcreator 2.41.80//
CALSCALE:GREGORIAN
UID:37636138-6634-4566-b632-643739306532
BEGIN:VEVENT
UID:61306232-3162-4335-a532-643264333732
DTSTAMP:20260421T192002Z
DESCRIPTION:1/1 Šťáhlavy - Město Touškov 0:2 (-20\,-28)\nPořadatel Šťáhlavy
DTSTART;TZID=Europe/Berlin:20260315T090000
DTEND;TZID=Europe/Berlin:20260315T110000
LOCATION:Sportovní hala Šťáhlavy\, U hřiště 525 Šťáhlavy
SUMMARY:P-U20Z-5B: Šťáhlavy-Město Touškov
END:VEVENT
BEGIN:VEVENT
UID:62326165-3961-4936-a262-633732363263
DTSTAMP:20260421T192002Z
DESCRIPTION:2/2 Lhota - Vejprnice B 2:1 (20\,-16\,9)\nPořadatel Šťáhlavy
DTSTART;TZID=Europe/Berlin:20260315T090000
DTEND;TZID=Europe/Berlin:20260315T110000
LOCATION:Sportovní hala Šťáhlavy\, U hřiště 525 Šťáhlavy
SUMMARY:P-U20Z-5B: Lhota-Vejprnice B
END:VEVENT
BEGIN:VEVENT
UID:63633134-3431-4763-b462-316562393931
DTSTAMP:20260421T192002Z
DESCRIPTION:3/3 Město Touškov - Vejprnice B 2:0 (15\,19)\nPořadatel Šťáhlav
 y
DTSTART;TZID=Europe/Berlin:20260315T101500
DTEND;TZID=Europe/Berlin:20260315T121500
LOCATION:Sportovní hala Šťáhlavy\, U hřiště 525 Šťáhlavy
SUMMARY:P-U20Z-5B: Město Touškov-Vejprnice B
END:VEVENT
BEGIN:VEVENT
UID:65393635-6365-4261-a463-613530643037
DTSTAMP:20260421T192002Z
DESCRIPTION:4/4 Šťáhlavy - Lhota 1:2 (19\,-13\,-11)\nPořadatel Šťáhlavy
DTSTART;TZID=Europe/Berlin:20260315T113000
DTEND;TZID=Europe/Berlin:20260315T133000
LOCATION:Sportovní hala Šťáhlavy\, U hřiště 525 Šťáhlavy
SUMMARY:P-U20Z-5B: Šťáhlavy-Lhota
END:VEVENT
BEGIN:VEVENT
UID:36643736-3039-4433-b430-623761616639
DTSTAMP:20260421T192002Z
DESCRIPTION:5/5 Lhota - Město Touškov 1:2 (-23\,14\,-11)\nPořadatel Šťáhlav
 y
DTSTART;TZID=Europe/Berlin:20260315T124500
DTEND;TZID=Europe/Berlin:20260315T144500
LOCATION:Sportovní hala Šťáhlavy\, U hřiště 525 Šťáhlavy
SUMMARY:P-U20Z-5B: Lhota-Město Touškov
END:VEVENT
BEGIN:VEVENT
UID:38346330-3437-4432-b731-343431613064
DTSTAMP:20260421T192002Z
DESCRIPTION:6/6 Vejprnice B - Šťáhlavy 0:2 (-16\,-10)\nPořadatel Šťáhlavy
DTSTART;TZID=Europe/Berlin:20260315T140000
DTEND;TZID=Europe/Berlin:20260315T160000
LOCATION:Sportovní hala Šťáhlavy\, U hřiště 525 Šťáhlavy
SUMMARY:P-U20Z-5B: Vejprnice B-Šťáhlavy
END:VEVENT
END:VCALENDAR
