BEGIN:VCALENDAR
VERSION:2.0
PRODID:-//RKP-M-B//NONSGML kigkonsult.se iCalcreator 2.41.80//
CALSCALE:GREGORIAN
UID:38356138-3232-4563-a461-343237616162
BEGIN:VEVENT
UID:62653263-3062-4239-a563-616539313130
DTSTAMP:20260425T163550Z
DESCRIPTION:1/2 Kvasiny - AMT KO 2:0 (13\,18)
DTSTART;TZID=Europe/Berlin:20260301T090000
DTEND;TZID=Europe/Berlin:20260301T110000
LOCATION:Areál u nádraží ČD Solnice -
SUMMARY:RKP-M-B: Kvasiny-AMT KO
END:VEVENT
BEGIN:VEVENT
UID:37636539-3636-4661-a131-633263303635
DTSTAMP:20260425T163550Z
DESCRIPTION:2/4 Chleny A - Kvasiny 1:2 (23\,-22\,-13)
DTSTART;TZID=Europe/Berlin:20260301T103000
DTEND;TZID=Europe/Berlin:20260301T123000
LOCATION:Sokol Chleny hřiště Chleny 79
SUMMARY:RKP-M-B: Chleny A-Kvasiny
END:VEVENT
BEGIN:VEVENT
UID:39623739-6366-4664-a431-393235356563
DTSTAMP:20260425T163550Z
DESCRIPTION:3/6 AMT KO - Chleny A 1:2 (-16\,23\,-3)
DTSTART;TZID=Europe/Berlin:20260301T120000
DTEND;TZID=Europe/Berlin:20260301T140000
LOCATION:Kostelec nad Orlicí Kostelec nad Orlicí
SUMMARY:RKP-M-B: AMT KO-Chleny A
END:VEVENT
END:VCALENDAR
