BEGIN:VCALENDAR
VERSION:2.0
PRODID:-//OLK-U16Z-7B//NONSGML kigkonsult.se iCalcreator 2.41.80//
CALSCALE:GREGORIAN
UID:35663931-3064-4261-a164-323063653239
BEGIN:VEVENT
UID:36656538-3736-4339-a531-323562313266
DTSTAMP:20260422T033907Z
DESCRIPTION:1/1 VK Olomouc B - Přerov A 2:1 (17\,-15\,8)
DTSTART;TZID=Europe/Berlin:20260315T090000
DTEND;TZID=Europe/Berlin:20260315T110000
LOCATION:Farmak\, U Hradiska 157 Olomouc - Klášterní Hradisko
SUMMARY:OLK-U16Z-7B: VK Olomouc B-Přerov A
END:VEVENT
BEGIN:VEVENT
UID:30376538-6361-4030-b034-626663666331
DTSTAMP:20260422T033907Z
DESCRIPTION:2/2 TJ Šumperk B - SK Kojetín 0:2 (-20\,-26)
DTSTART;TZID=Europe/Berlin:20260315T100000
DTEND;TZID=Europe/Berlin:20260315T120000
LOCATION:Farmak\, U Hradiska 157 Olomouc - Klášterní Hradisko
SUMMARY:OLK-U16Z-7B: TJ Šumperk B-SK Kojetín
END:VEVENT
BEGIN:VEVENT
UID:39636338-6531-4137-a230-336363373739
DTSTAMP:20260422T033907Z
DESCRIPTION:3/3 Přerov A - SK Kojetín 2:0 (20\,14)
DTSTART;TZID=Europe/Berlin:20260315T110000
DTEND;TZID=Europe/Berlin:20260315T130000
LOCATION:Farmak\, U Hradiska 157 Olomouc - Klášterní Hradisko
SUMMARY:OLK-U16Z-7B: Přerov A-SK Kojetín
END:VEVENT
BEGIN:VEVENT
UID:33343863-3033-4738-b730-623764386537
DTSTAMP:20260422T033907Z
DESCRIPTION:4/4 VK Olomouc B - TJ Šumperk B 2:0 (17\,18)
DTSTART;TZID=Europe/Berlin:20260315T120000
DTEND;TZID=Europe/Berlin:20260315T140000
LOCATION:Farmak\, U Hradiska 157 Olomouc - Klášterní Hradisko
SUMMARY:OLK-U16Z-7B: VK Olomouc B-TJ Šumperk B
END:VEVENT
BEGIN:VEVENT
UID:33323436-3735-4863-b565-303632633232
DTSTAMP:20260422T033907Z
DESCRIPTION:5/5 Přerov A - TJ Šumperk B 2:0 (13\,10)
DTSTART;TZID=Europe/Berlin:20260315T130000
DTEND;TZID=Europe/Berlin:20260315T150000
LOCATION:Farmak\, U Hradiska 157 Olomouc - Klášterní Hradisko
SUMMARY:OLK-U16Z-7B: Přerov A-TJ Šumperk B
END:VEVENT
BEGIN:VEVENT
UID:39353939-6464-4631-b938-343963623432
DTSTAMP:20260422T033907Z
DESCRIPTION:6/6 SK Kojetín - VK Olomouc B 1:2 (18\,-19\,-12)
DTSTART;TZID=Europe/Berlin:20260315T140000
DTEND;TZID=Europe/Berlin:20260315T160000
LOCATION:Farmak\, U Hradiska 157 Olomouc - Klášterní Hradisko
SUMMARY:OLK-U16Z-7B: SK Kojetín-VK Olomouc B
END:VEVENT
END:VCALENDAR
