BEGIN:VCALENDAR
VERSION:2.0
PRODID:-//LIB-U16Z-4-4-L//NONSGML kigkonsult.se iCalcreator 2.41.80//
CALSCALE:GREGORIAN
UID:38393333-6137-4362-a165-343534653436
BEGIN:VEVENT
UID:63343937-6436-4535-b033-363735633065
DTSTAMP:20260422T065049Z
DESCRIPTION:1/1 SK Ještědská Liberec z.s. 'B' - Tělovýchovná jednota Jiskra
  Nový Bor\, z.s. 2:0 (18\,22)
DTSTART;TZID=Europe/Berlin:20260201T090000
DTEND;TZID=Europe/Berlin:20260201T110000
LOCATION:ZŠ Ještědská\, Ještědská 354 Liberec - Liberec VIII-Dolní Hanychov
SUMMARY:LIB-U16Z-4-4-L: SK Ještědská Liberec z.s. 'B'-Tělovýchovná jednota 
 Jiskra Nový Bor\, z.s.
END:VEVENT
BEGIN:VEVENT
UID:39633735-6636-4334-a664-303230313135
DTSTAMP:20260422T065049Z
DESCRIPTION:2/2 TJ Slovan Varnsdorf z.s. 'B' - TJ Sokol M. Hradiště 2:1 (-1
 3\,17\,12)
DTSTART;TZID=Europe/Berlin:20260201T100000
DTEND;TZID=Europe/Berlin:20260201T120000
LOCATION:Sportovní hala Varnsdorf\, Západní 2984 Varnsdorf
SUMMARY:LIB-U16Z-4-4-L: TJ Slovan Varnsdorf z.s. 'B'-TJ Sokol M. Hradiště
END:VEVENT
BEGIN:VEVENT
UID:62373532-3965-4738-b535-323262353566
DTSTAMP:20260422T065049Z
DESCRIPTION:3/3 TJ Slovan Varnsdorf z.s. 'B' - Tělovýchovná jednota Jiskra 
 Nový Bor\, z.s. 2:1 (17\,-20\,15)
DTSTART;TZID=Europe/Berlin:20260201T110000
DTEND;TZID=Europe/Berlin:20260201T130000
LOCATION:Sportovní hala Varnsdorf\, Západní 2984 Varnsdorf
SUMMARY:LIB-U16Z-4-4-L: TJ Slovan Varnsdorf z.s. 'B'-Tělovýchovná jednota J
 iskra Nový Bor\, z.s.
END:VEVENT
BEGIN:VEVENT
UID:31636430-3862-4238-b232-363362363736
DTSTAMP:20260422T065049Z
DESCRIPTION:4/4 SK Ještědská Liberec z.s. 'B' - TJ Sokol M. Hradiště 2:0 (1
 5\,16)
DTSTART;TZID=Europe/Berlin:20260201T120000
DTEND;TZID=Europe/Berlin:20260201T140000
LOCATION:ZŠ Ještědská\, Ještědská 354 Liberec - Liberec VIII-Dolní Hanychov
SUMMARY:LIB-U16Z-4-4-L: SK Ještědská Liberec z.s. 'B'-TJ Sokol M. Hradiště
END:VEVENT
BEGIN:VEVENT
UID:38643065-3033-4330-b035-343537373433
DTSTAMP:20260422T065049Z
DESCRIPTION:5/5 TJ Slovan Varnsdorf z.s. 'B' - SK Ještědská Liberec z.s. 'B
 ' 1:2 (17\,-17\,-12)
DTSTART;TZID=Europe/Berlin:20260201T130000
DTEND;TZID=Europe/Berlin:20260201T150000
LOCATION:Sportovní hala Varnsdorf\, Západní 2984 Varnsdorf
SUMMARY:LIB-U16Z-4-4-L: TJ Slovan Varnsdorf z.s. 'B'-SK Ještědská Liberec z
 .s. 'B'
END:VEVENT
BEGIN:VEVENT
UID:35343432-6232-4039-a363-633435373431
DTSTAMP:20260422T065049Z
DESCRIPTION:6/6 TJ Sokol M. Hradiště - Tělovýchovná jednota Jiskra Nový Bor
 \, z.s. 2:0 (14\,14)
DTSTART;TZID=Europe/Berlin:20260201T140000
DTEND;TZID=Europe/Berlin:20260201T160000
LOCATION:Sportovní hala BIOS\, Sokolovská 254 Mnichovo Hradiště
SUMMARY:LIB-U16Z-4-4-L: TJ Sokol M. Hradiště-Tělovýchovná jednota Jiskra No
 vý Bor\, z.s.
END:VEVENT
END:VCALENDAR
