BEGIN:VCALENDAR
VERSION:2.0
PRODID:-//1-M-IV//NONSGML kigkonsult.se iCalcreator 2.41.80//
CALSCALE:GREGORIAN
UID:36303333-3861-4031-b263-333931353932
BEGIN:VEVENT
UID:33353135-6330-4637-b637-663064376535
DTSTAMP:20260425T163741Z
DESCRIPTION:1/12163 ČZU Praha - Velké Meziříčí 2:3 (-26\,-29\,21\,16\,-12)
DTSTART;TZID=Europe/Berlin:20260213T190000
DTEND;TZID=Europe/Berlin:20260213T210000
LOCATION:Sportcentrum Suchdol ČZU\, Sídlištní 1167 Praha - Suchdol
SUMMARY:1-M-IV: ČZU Praha-Velké Meziříčí
END:VEVENT
BEGIN:VEVENT
UID:31326564-6532-4663-b737-313465643262
DTSTAMP:20260425T163741Z
DESCRIPTION:1/12164 Kojetín - Kolín 3:0 (21\,18\,21)
DTSTART;TZID=Europe/Berlin:20260213T190000
DTEND;TZID=Europe/Berlin:20260213T210000
LOCATION:Městská sportovní hala\, Hanusíkova 1476 Kojetín - Kojetín I-Město
SUMMARY:1-M-IV: Kojetín-Kolín
END:VEVENT
BEGIN:VEVENT
UID:64653536-6463-4463-a262-666662393539
DTSTAMP:20260425T163741Z
DESCRIPTION:1/12165 Kometa Brno - Beskydy B 0:3 (-17\,-20\,-23)
DTSTART;TZID=Europe/Berlin:20260213T180000
DTEND;TZID=Europe/Berlin:20260213T200000
LOCATION:Sportovní hala Rousínov\, Habrovanská 1199 Rousínov
SUMMARY:1-M-IV: Kometa Brno-Beskydy B
END:VEVENT
BEGIN:VEVENT
UID:32653438-3136-4461-b337-326238376534
DTSTAMP:20260425T163741Z
DESCRIPTION:2/12166 Velké Meziříčí - Beskydy B 0:3 (-18\,-23\,-14)
DTSTART;TZID=Europe/Berlin:20260220T193000
DTEND;TZID=Europe/Berlin:20260220T213000
LOCATION:ZŠ Komenského\, Komenského 1 Velké Meziříčí
SUMMARY:1-M-IV: Velké Meziříčí-Beskydy B
END:VEVENT
BEGIN:VEVENT
UID:37633163-3261-4461-b335-633836656366
DTSTAMP:20260425T163741Z
DESCRIPTION:2/12167 Kolín - Kometa Brno 3:1 (-20\,12\,18\,14)
DTSTART;TZID=Europe/Berlin:20260220T180000
DTEND;TZID=Europe/Berlin:20260220T200000
LOCATION:Sportovní hala Borky\, Brankovická 1216 Kolín - Kolín V
SUMMARY:1-M-IV: Kolín-Kometa Brno
END:VEVENT
BEGIN:VEVENT
UID:36386466-3631-4536-b931-343466303466
DTSTAMP:20260425T163741Z
DESCRIPTION:2/12168 ČZU Praha - Kojetín 3:2 (-20\,15\,15\,-19\,11)
DTSTART;TZID=Europe/Berlin:20260220T190000
DTEND;TZID=Europe/Berlin:20260220T210000
LOCATION:Sportcentrum Suchdol ČZU\, Sídlištní 1167 Praha - Suchdol
SUMMARY:1-M-IV: ČZU Praha-Kojetín
END:VEVENT
BEGIN:VEVENT
UID:34653133-3230-4134-a433-653562616331
DTSTAMP:20260425T163741Z
DESCRIPTION:3/12169 Kojetín - Velké Meziříčí 3:0 (19\,15\,20)
DTSTART;TZID=Europe/Berlin:20260221T173000
DTEND;TZID=Europe/Berlin:20260221T193000
LOCATION:Městská sportovní hala\, Hanusíkova 1476 Kojetín - Kojetín I-Město
SUMMARY:1-M-IV: Kojetín-Velké Meziříčí
END:VEVENT
BEGIN:VEVENT
UID:36643033-3063-4636-a162-623030623564
DTSTAMP:20260425T163741Z
DESCRIPTION:3/12170 ČZU Praha - Kometa Brno 3:2 (26\,-14\,14\,-12\,11)
DTSTART;TZID=Europe/Berlin:20260221T160000
DTEND;TZID=Europe/Berlin:20260221T180000
LOCATION:Sportcentrum Suchdol ČZU\, Sídlištní 1167 Praha - Suchdol
SUMMARY:1-M-IV: ČZU Praha-Kometa Brno
END:VEVENT
BEGIN:VEVENT
UID:36396263-6265-4663-b365-613062353932
DTSTAMP:20260425T163741Z
DESCRIPTION:3/12171 Beskydy B - Kolín 3:0 (17\,23\,22)
DTSTART;TZID=Europe/Berlin:20260212T140000
DTEND;TZID=Europe/Berlin:20260212T160000
LOCATION:Sportovní hala Nová Bělá\, Krmelínská 750 Ostrava - Nová Bělá
SUMMARY:1-M-IV: Beskydy B-Kolín
END:VEVENT
BEGIN:VEVENT
UID:35643534-3465-4265-b436-666264333930
DTSTAMP:20260425T163741Z
DESCRIPTION:4/12172 Velké Meziříčí - Kolín 1:3 (19\,-18\,-19\,-28)
DTSTART;TZID=Europe/Berlin:20260306T193000
DTEND;TZID=Europe/Berlin:20260306T213000
LOCATION:ZŠ Komenského\, Komenského 1 Velké Meziříčí
SUMMARY:1-M-IV: Velké Meziříčí-Kolín
END:VEVENT
BEGIN:VEVENT
UID:36376333-6163-4130-b765-653530333863
DTSTAMP:20260425T163741Z
DESCRIPTION:4/12173 ČZU Praha - Beskydy B 3:0 (16\,19\,21)
DTSTART;TZID=Europe/Berlin:20260306T190000
DTEND;TZID=Europe/Berlin:20260306T210000
LOCATION:Sportcentrum Suchdol ČZU\, Sídlištní 1167 Praha - Suchdol
SUMMARY:1-M-IV: ČZU Praha-Beskydy B
END:VEVENT
BEGIN:VEVENT
UID:37333533-6236-4637-b834-656538326336
DTSTAMP:20260425T163741Z
DESCRIPTION:4/12174 Kojetín - Kometa Brno 3:1 (24\,20\,-25\,20)
DTSTART;TZID=Europe/Berlin:20260306T190000
DTEND;TZID=Europe/Berlin:20260306T210000
LOCATION:Městská sportovní hala\, Hanusíkova 1476 Kojetín - Kojetín I-Město
SUMMARY:1-M-IV: Kojetín-Kometa Brno
END:VEVENT
BEGIN:VEVENT
UID:35663835-3834-4433-a338-353934336630
DTSTAMP:20260425T163741Z
DESCRIPTION:5/12175 Kometa Brno - Velké Meziříčí 3:2 (15\,-22\,-23\,15\,9)
DTSTART;TZID=Europe/Berlin:20260313T180000
DTEND;TZID=Europe/Berlin:20260313T200000
LOCATION:Sportovní hala Rousínov\, Habrovanská 1199 Rousínov
SUMMARY:1-M-IV: Kometa Brno-Velké Meziříčí
END:VEVENT
BEGIN:VEVENT
UID:35633037-3765-4430-b665-656566383039
DTSTAMP:20260425T163741Z
DESCRIPTION:5/12176 Beskydy B - Kojetín 3:0 (21\,23\,18)
DTSTART;TZID=Europe/Berlin:20260313T180000
DTEND;TZID=Europe/Berlin:20260313T200000
LOCATION:Sportovní hala Ostrava -Třebovice\, 5. května 5649 Ostrava - Třebo
 vice
SUMMARY:1-M-IV: Beskydy B-Kojetín
END:VEVENT
BEGIN:VEVENT
UID:31303261-6534-4237-b263-323634313930
DTSTAMP:20260425T163741Z
DESCRIPTION:5/12177 Kolín - ČZU Praha 3:2 (-15\,22\,19\,-15\,12)
DTSTART;TZID=Europe/Berlin:20260313T180000
DTEND;TZID=Europe/Berlin:20260313T200000
LOCATION:Sportovní hala Borky\, Brankovická 1216 Kolín - Kolín V
SUMMARY:1-M-IV: Kolín-ČZU Praha
END:VEVENT
BEGIN:VEVENT
UID:39333732-6433-4531-b265-373436373633
DTSTAMP:20260425T163741Z
DESCRIPTION:6/12178 Velké Meziříčí - ČZU Praha 3:1 (17\,16\,-22\,21)
DTSTART;TZID=Europe/Berlin:20260314T170000
DTEND;TZID=Europe/Berlin:20260314T190000
LOCATION:ZŠ Komenského\, Komenského 1 Velké Meziříčí
SUMMARY:1-M-IV: Velké Meziříčí-ČZU Praha
END:VEVENT
BEGIN:VEVENT
UID:64623436-3038-4532-b666-623835646661
DTSTAMP:20260425T163741Z
DESCRIPTION:6/12179 Kolín - Kojetín 2:3 (-22\,24\,-22\,18\,-13)
DTSTART;TZID=Europe/Berlin:20260314T170000
DTEND;TZID=Europe/Berlin:20260314T190000
LOCATION:Sportovní hala Borky\, Brankovická 1216 Kolín - Kolín V
SUMMARY:1-M-IV: Kolín-Kojetín
END:VEVENT
BEGIN:VEVENT
UID:66623966-3936-4334-a166-336638303439
DTSTAMP:20260425T163741Z
DESCRIPTION:6/12180 Beskydy B - Kometa Brno 0:3 (-21\,-21\,-14)
DTSTART;TZID=Europe/Berlin:20260314T140000
DTEND;TZID=Europe/Berlin:20260314T160000
LOCATION:Sportovní hala Ostrava -Třebovice\, 5. května 5649 Ostrava - Třebo
 vice
SUMMARY:1-M-IV: Beskydy B-Kometa Brno
END:VEVENT
BEGIN:VEVENT
UID:62336666-6132-4637-a238-323630306464
DTSTAMP:20260425T163741Z
DESCRIPTION:7/12181 Beskydy B - Velké Meziříčí 3:0 (16\,22\,22)
DTSTART;TZID=Europe/Berlin:20260320T190000
DTEND;TZID=Europe/Berlin:20260320T210000
LOCATION:Sportovní hala Ostrava -Třebovice\, 5. května 5649 Ostrava - Třebo
 vice
SUMMARY:1-M-IV: Beskydy B-Velké Meziříčí
END:VEVENT
BEGIN:VEVENT
UID:32343865-6635-4639-b738-646463653332
DTSTAMP:20260425T163741Z
DESCRIPTION:7/12182 Kometa Brno - Kolín 3:2 (-17\,24\,-16\,17\,7)
DTSTART;TZID=Europe/Berlin:20260320T180000
DTEND;TZID=Europe/Berlin:20260320T200000
LOCATION:Sportovní hala Rousínov\, Habrovanská 1199 Rousínov
SUMMARY:1-M-IV: Kometa Brno-Kolín
END:VEVENT
BEGIN:VEVENT
UID:62333462-6362-4336-a264-303430646531
DTSTAMP:20260425T163741Z
DESCRIPTION:7/12183 Kojetín - ČZU Praha 3:0 (10\,23\,14)
DTSTART;TZID=Europe/Berlin:20260320T190000
DTEND;TZID=Europe/Berlin:20260320T210000
LOCATION:Městská sportovní hala\, Hanusíkova 1476 Kojetín - Kojetín I-Město
SUMMARY:1-M-IV: Kojetín-ČZU Praha
END:VEVENT
BEGIN:VEVENT
UID:38633830-6237-4466-b538-303639636139
DTSTAMP:20260425T163741Z
DESCRIPTION:8/12184 Velké Meziříčí - Kojetín 3:1 (23\,-23\,22\,14)
DTSTART;TZID=Europe/Berlin:20260327T193000
DTEND;TZID=Europe/Berlin:20260327T213000
LOCATION:ZŠ Komenského\, Komenského 1 Velké Meziříčí
SUMMARY:1-M-IV: Velké Meziříčí-Kojetín
END:VEVENT
BEGIN:VEVENT
UID:66623331-6139-4937-b935-353964636234
DTSTAMP:20260425T163741Z
DESCRIPTION:8/12185 Kometa Brno - ČZU Praha 3:0 (17\,11\,16)
DTSTART;TZID=Europe/Berlin:20260327T180000
DTEND;TZID=Europe/Berlin:20260327T200000
LOCATION:Sportovní hala Rousínov\, Habrovanská 1199 Rousínov
SUMMARY:1-M-IV: Kometa Brno-ČZU Praha
END:VEVENT
BEGIN:VEVENT
UID:35386362-6365-4533-b061-643830356139
DTSTAMP:20260425T163741Z
DESCRIPTION:8/12186 Kolín - Beskydy B 0:3 (-17\,-12\,-22)
DTSTART;TZID=Europe/Berlin:20260327T180000
DTEND;TZID=Europe/Berlin:20260327T200000
LOCATION:Sportovní hala Borky\, Brankovická 1216 Kolín - Kolín V
SUMMARY:1-M-IV: Kolín-Beskydy B
END:VEVENT
BEGIN:VEVENT
UID:37373963-6539-4434-a533-343565353231
DTSTAMP:20260425T163741Z
DESCRIPTION:9/12187 Kolín - Velké Meziříčí 0:3 (-17\,-17\,-21)
DTSTART;TZID=Europe/Berlin:20260328T170000
DTEND;TZID=Europe/Berlin:20260328T190000
LOCATION:Sportovní hala Borky\, Brankovická 1216 Kolín - Kolín V
SUMMARY:1-M-IV: Kolín-Velké Meziříčí
END:VEVENT
BEGIN:VEVENT
UID:66663636-3933-4334-b264-656639633234
DTSTAMP:20260425T163741Z
DESCRIPTION:9/12188 Beskydy B - ČZU Praha 3:0 (13\,15\,10)
DTSTART;TZID=Europe/Berlin:20260328T140000
DTEND;TZID=Europe/Berlin:20260328T160000
LOCATION:Sportovní hala Ostrava -Třebovice\, 5. května 5649 Ostrava - Třebo
 vice
SUMMARY:1-M-IV: Beskydy B-ČZU Praha
END:VEVENT
BEGIN:VEVENT
UID:63343130-6161-4366-a134-373430373232
DTSTAMP:20260425T163741Z
DESCRIPTION:9/12189 Kometa Brno - Kojetín 3:1 (23\,21\,-30\,23)
DTSTART;TZID=Europe/Berlin:20260328T180000
DTEND;TZID=Europe/Berlin:20260328T200000
LOCATION:Sportovní hala Rousínov\, Habrovanská 1199 Rousínov
SUMMARY:1-M-IV: Kometa Brno-Kojetín
END:VEVENT
BEGIN:VEVENT
UID:30383332-6635-4565-b866-363038666461
DTSTAMP:20260425T163741Z
DESCRIPTION:10/12190 Velké Meziříčí - Kometa Brno 3:2 (-20\,13\,-27\,23\,13
 )
DTSTART;TZID=Europe/Berlin:20260331T193000
DTEND;TZID=Europe/Berlin:20260331T213000
LOCATION:ZŠ Komenského\, Komenského 1 Velké Meziříčí
SUMMARY:1-M-IV: Velké Meziříčí-Kometa Brno
END:VEVENT
BEGIN:VEVENT
UID:31333135-3535-4064-b761-663463366536
DTSTAMP:20260425T163741Z
DESCRIPTION:10/12191 Kojetín - Beskydy B 0:3 (-15\,-14\,-18)
DTSTART;TZID=Europe/Berlin:20260403T190000
DTEND;TZID=Europe/Berlin:20260403T210000
LOCATION:Městská sportovní hala\, Hanusíkova 1476 Kojetín - Kojetín I-Město
SUMMARY:1-M-IV: Kojetín-Beskydy B
END:VEVENT
BEGIN:VEVENT
UID:38373133-3161-4734-a330-633966643662
DTSTAMP:20260425T163741Z
DESCRIPTION:10/12192 ČZU Praha - Kolín 0:3 (-23\,-23\,-19)
DTSTART;TZID=Europe/Berlin:20260318T190000
DTEND;TZID=Europe/Berlin:20260318T210000
LOCATION:Sportcentrum Suchdol ČZU\, Sídlištní 1167 Praha - Suchdol
SUMMARY:1-M-IV: ČZU Praha-Kolín
END:VEVENT
END:VCALENDAR
