BEGIN:VCALENDAR
VERSION:2.0
PRODID:-//PP-U18Z-5-A//NONSGML kigkonsult.se iCalcreator 2.41.80//
CALSCALE:GREGORIAN
UID:30333330-6438-4133-b238-343438633238
BEGIN:VEVENT
UID:63623238-3462-4465-b438-636339353937
DTSTAMP:20260421T223114Z
DESCRIPTION:1/1 Sokol HP A - Vršovice B 2:0 (18\,20)
DTSTART;TZID=Europe/Berlin:20260307T090000
DTEND;TZID=Europe/Berlin:20260307T110000
LOCATION:Sportovní hala Horní Počernice TěloCvič!\, Jívanská 3226 Praha - H
 orní Počernice
SUMMARY:PP-U18Z-5-A: Sokol HP A-Vršovice B
END:VEVENT
BEGIN:VEVENT
UID:31393939-6665-4334-b263-653839383732
DTSTAMP:20260421T223114Z
DESCRIPTION:1/2 Radotín - Vršovice B 2:0 (21\,24)
DTSTART;TZID=Europe/Berlin:20260307T100000
DTEND;TZID=Europe/Berlin:20260307T120000
LOCATION:Sportovní hala Horní Počernice TěloCvič!\, Jívanská 3226 Praha - H
 orní Počernice
SUMMARY:PP-U18Z-5-A: Radotín-Vršovice B
END:VEVENT
BEGIN:VEVENT
UID:64646231-3266-4364-b833-653632336266
DTSTAMP:20260421T223114Z
DESCRIPTION:2/3 JOKY - Sokol HP A 2:1 (-15\,25\,10)
DTSTART;TZID=Europe/Berlin:20260307T100000
DTEND;TZID=Europe/Berlin:20260307T120000
LOCATION:Sportovní hala Horní Počernice TěloCvič!\, Jívanská 3226 Praha - H
 orní Počernice
SUMMARY:PP-U18Z-5-A: JOKY-Sokol HP A
END:VEVENT
BEGIN:VEVENT
UID:37303363-3332-4466-b532-363534633962
DTSTAMP:20260421T223114Z
DESCRIPTION:2/4 JOKY - Radotín 2:1 (-23\,15\,13)
DTSTART;TZID=Europe/Berlin:20260307T110000
DTEND;TZID=Europe/Berlin:20260307T130000
LOCATION:Sportovní hala Horní Počernice TěloCvič!\, Jívanská 3226 Praha - H
 orní Počernice
SUMMARY:PP-U18Z-5-A: JOKY-Radotín
END:VEVENT
BEGIN:VEVENT
UID:64643766-6666-4961-b363-663361623732
DTSTAMP:20260421T223114Z
DESCRIPTION:3/5 Sokol HP A - Radotín 2:0 (15\,17)
DTSTART;TZID=Europe/Berlin:20260307T120000
DTEND;TZID=Europe/Berlin:20260307T140000
LOCATION:Sportovní hala Horní Počernice TěloCvič!\, Jívanská 3226 Praha - H
 orní Počernice
SUMMARY:PP-U18Z-5-A: Sokol HP A-Radotín
END:VEVENT
BEGIN:VEVENT
UID:63393163-6134-4463-a235-356661346536
DTSTAMP:20260421T223114Z
DESCRIPTION:3/6 Vršovice B - JOKY 1:2 (22\,-16\,-6)
DTSTART;TZID=Europe/Berlin:20260307T120000
DTEND;TZID=Europe/Berlin:20260307T140000
LOCATION:Sportovní hala Horní Počernice TěloCvič!\, Jívanská 3226 Praha - H
 orní Počernice
SUMMARY:PP-U18Z-5-A: Vršovice B-JOKY
END:VEVENT
END:VCALENDAR
