BEGIN:VCALENDAR
VERSION:2.0
PRODID:-//PP-U18Z-5-C//NONSGML kigkonsult.se iCalcreator 2.41.80//
CALSCALE:GREGORIAN
UID:64366538-3931-4562-a536-666163383739
BEGIN:VEVENT
UID:61396431-3538-4639-b035-393831326564
DTSTAMP:20260421T192008Z
DESCRIPTION:1/1 Orion Praha B - Střešovice C 0:2 (-15\,-18)
DTSTART;TZID=Europe/Berlin:20260307T090000
DTEND;TZID=Europe/Berlin:20260307T110000
LOCATION:Sportovní hala Horní Počernice TěloCvič!\, Jívanská 3226 Praha - H
 orní Počernice
SUMMARY:PP-U18Z-5-C: Orion Praha B-Střešovice C
END:VEVENT
BEGIN:VEVENT
UID:36616166-3661-4939-b233-643462323865
DTSTAMP:20260421T192008Z
DESCRIPTION:1/2 Vršovice A - Sokol HP B 0:2 (-23\,-20)
DTSTART;TZID=Europe/Berlin:20260307T090000
DTEND;TZID=Europe/Berlin:20260307T110000
LOCATION:Sportovní hala Horní Počernice TěloCvič!\, Jívanská 3226 Praha - H
 orní Počernice
SUMMARY:PP-U18Z-5-C: Vršovice A-Sokol HP B
END:VEVENT
BEGIN:VEVENT
UID:32663166-6638-4261-a331-336634343732
DTSTAMP:20260421T192008Z
DESCRIPTION:2/3 Střešovice C - Sokol HP B 2:0 (19\,11)
DTSTART;TZID=Europe/Berlin:20260307T100000
DTEND;TZID=Europe/Berlin:20260307T120000
LOCATION:Sportovní hala Horní Počernice TěloCvič!\, Jívanská 3226 Praha - H
 orní Počernice
SUMMARY:PP-U18Z-5-C: Střešovice C-Sokol HP B
END:VEVENT
BEGIN:VEVENT
UID:38343166-6334-4561-b339-636435356438
DTSTAMP:20260421T192008Z
DESCRIPTION:2/4 Vršovice A - Střešovice C 0:2 (-12\,-23)
DTSTART;TZID=Europe/Berlin:20260307T110000
DTEND;TZID=Europe/Berlin:20260307T130000
LOCATION:Sportovní hala Horní Počernice TěloCvič!\, Jívanská 3226 Praha - H
 orní Počernice
SUMMARY:PP-U18Z-5-C: Vršovice A-Střešovice C
END:VEVENT
BEGIN:VEVENT
UID:37653463-3630-4862-a432-336663646261
DTSTAMP:20260421T192008Z
DESCRIPTION:3/5 Sokol HP B - Orion Praha B 2:1 (-18\,17\,13)
DTSTART;TZID=Europe/Berlin:20260307T110000
DTEND;TZID=Europe/Berlin:20260307T130000
LOCATION:Sportovní hala Horní Počernice TěloCvič!\, Jívanská 3226 Praha - H
 orní Počernice
SUMMARY:PP-U18Z-5-C: Sokol HP B-Orion Praha B
END:VEVENT
BEGIN:VEVENT
UID:39326263-6465-4430-a438-633562333131
DTSTAMP:20260421T192008Z
DESCRIPTION:3/6 Orion Praha B - Vršovice A 2:1 (-27\,23\,10)
DTSTART;TZID=Europe/Berlin:20260307T120000
DTEND;TZID=Europe/Berlin:20260307T140000
LOCATION:Sportovní hala Horní Počernice TěloCvič!\, Jívanská 3226 Praha - H
 orní Počernice
SUMMARY:PP-U18Z-5-C: Orion Praha B-Vršovice A
END:VEVENT
END:VCALENDAR
