BEGIN:VCALENDAR
VERSION:2.0
PRODID:-//PP-U18Z-5-D//NONSGML kigkonsult.se iCalcreator 2.41.80//
CALSCALE:GREGORIAN
UID:64383032-3630-4662-b439-656461663266
BEGIN:VEVENT
UID:62306437-3434-4533-b633-306465653036
DTSTAMP:20260421T134924Z
DESCRIPTION:1/1 SK Kometa Praha D - Dansport A 2:0 (19\,20)
DTSTART;TZID=Europe/Berlin:20260307T100000
DTEND;TZID=Europe/Berlin:20260307T120000
LOCATION:tělocvičny ZŠ Mikulova\, Mikulova 1594 Praha - Chodov
SUMMARY:PP-U18Z-5-D: SK Kometa Praha D-Dansport A
END:VEVENT
BEGIN:VEVENT
UID:36303638-3131-4838-a364-353330386230
DTSTAMP:20260421T134924Z
DESCRIPTION:2/2 Mikulova D - Střešovice B 2:0 (15\,16)
DTSTART;TZID=Europe/Berlin:20260307T100000
DTEND;TZID=Europe/Berlin:20260307T120000
LOCATION:tělocvičny ZŠ Mikulova\, Mikulova 1594 Praha - Chodov
SUMMARY:PP-U18Z-5-D: Mikulova D-Střešovice B
END:VEVENT
BEGIN:VEVENT
UID:38313162-6536-4331-b633-613465363833
DTSTAMP:20260421T134924Z
DESCRIPTION:3/3 Dansport A - Střešovice B 0:2 (-19\,-10)
DTSTART;TZID=Europe/Berlin:20260307T110000
DTEND;TZID=Europe/Berlin:20260307T130000
LOCATION:tělocvičny ZŠ Mikulova\, Mikulova 1594 Praha - Chodov
SUMMARY:PP-U18Z-5-D: Dansport A-Střešovice B
END:VEVENT
BEGIN:VEVENT
UID:65343538-3432-4738-b432-323133386339
DTSTAMP:20260421T134924Z
DESCRIPTION:4/4 SK Kometa Praha D - Mikulova D 0:2 (-21\,-15)
DTSTART;TZID=Europe/Berlin:20260307T110000
DTEND;TZID=Europe/Berlin:20260307T130000
LOCATION:tělocvičny ZŠ Mikulova\, Mikulova 1594 Praha - Chodov
SUMMARY:PP-U18Z-5-D: SK Kometa Praha D-Mikulova D
END:VEVENT
BEGIN:VEVENT
UID:30643632-3837-4764-b932-396462373431
DTSTAMP:20260421T134924Z
DESCRIPTION:5/5 Mikulova D - Dansport A 2:0 (8\,8)
DTSTART;TZID=Europe/Berlin:20260307T120000
DTEND;TZID=Europe/Berlin:20260307T140000
LOCATION:tělocvičny ZŠ Mikulova\, Mikulova 1594 Praha - Chodov
SUMMARY:PP-U18Z-5-D: Mikulova D-Dansport A
END:VEVENT
BEGIN:VEVENT
UID:61333038-3362-4733-a435-316636363565
DTSTAMP:20260421T134924Z
DESCRIPTION:6/6 Střešovice B - SK Kometa Praha D 1:2 (-16\,11\,-12)
DTSTART;TZID=Europe/Berlin:20260307T120000
DTEND;TZID=Europe/Berlin:20260307T140000
LOCATION:tělocvičny ZŠ Mikulova\, Mikulova 1594 Praha - Chodov
SUMMARY:PP-U18Z-5-D: Střešovice B-SK Kometa Praha D
END:VEVENT
END:VCALENDAR
