BEGIN:VCALENDAR
VERSION:2.0
PRODID:-//MS-U14M-T5B//NONSGML kigkonsult.se iCalcreator 2.41.80//
CALSCALE:GREGORIAN
UID:35306130-3035-4564-b236-656232313735
BEGIN:VEVENT
UID:36653739-3234-4933-b664-386363373965
DTSTAMP:20260422T235609Z
DESCRIPTION:1/1 Blue Ostrava - Happy Sport Opava\, z.s. 0:2 (-13\,-17)
DTSTART;TZID=Europe/Berlin:20260315T090000
DTEND;TZID=Europe/Berlin:20260315T110000
LOCATION:Tělocvičny ZŠ Komenského 66\, Komenského 571 Nový Jičín
SUMMARY:MS-U14M-T5B: Blue Ostrava-Happy Sport Opava\, z.s.
END:VEVENT
BEGIN:VEVENT
UID:37653165-6336-4565-b366-653938306138
DTSTAMP:20260422T235609Z
DESCRIPTION:1/2 Vlčáci Nový Jičín - Vlci Nový Jičín 2:0 (13\,18)
DTSTART;TZID=Europe/Berlin:20260315T090000
DTEND;TZID=Europe/Berlin:20260315T110000
LOCATION:Tělocvičny ZŠ Komenského 66\, Komenského 571 Nový Jičín
SUMMARY:MS-U14M-T5B: Vlčáci Nový Jičín-Vlci Nový Jičín
END:VEVENT
BEGIN:VEVENT
UID:65323231-6662-4037-a331-356437343133
DTSTAMP:20260422T235609Z
DESCRIPTION:2/3 Blue Ostrava - Vlčáci Nový Jičín 0:2 (-15\,-12)
DTSTART;TZID=Europe/Berlin:20260315T103000
DTEND;TZID=Europe/Berlin:20260315T123000
LOCATION:Tělocvičny ZŠ Komenského 66\, Komenského 571 Nový Jičín
SUMMARY:MS-U14M-T5B: Blue Ostrava-Vlčáci Nový Jičín
END:VEVENT
BEGIN:VEVENT
UID:65303733-3737-4461-b133-663632366532
DTSTAMP:20260422T235609Z
DESCRIPTION:2/4 Happy Sport Opava\, z.s. - Vlci Nový Jičín 2:0 (18\,10)
DTSTART;TZID=Europe/Berlin:20260315T103000
DTEND;TZID=Europe/Berlin:20260315T123000
LOCATION:Tělocvičny ZŠ Komenského 66\, Komenského 571 Nový Jičín
SUMMARY:MS-U14M-T5B: Happy Sport Opava\, z.s.-Vlci Nový Jičín
END:VEVENT
BEGIN:VEVENT
UID:61626265-6263-4839-a165-353436383436
DTSTAMP:20260422T235609Z
DESCRIPTION:3/5 Vlci Nový Jičín - Blue Ostrava 2:0 (18\,16)
DTSTART;TZID=Europe/Berlin:20260315T120000
DTEND;TZID=Europe/Berlin:20260315T140000
LOCATION:Tělocvičny ZŠ Komenského 66\, Komenského 571 Nový Jičín
SUMMARY:MS-U14M-T5B: Vlci Nový Jičín-Blue Ostrava
END:VEVENT
BEGIN:VEVENT
UID:62363866-3835-4937-b131-386230386639
DTSTAMP:20260422T235609Z
DESCRIPTION:3/6 Happy Sport Opava\, z.s. - Vlčáci Nový Jičín 2:1 (-21\,22\,
 5)
DTSTART;TZID=Europe/Berlin:20260315T120000
DTEND;TZID=Europe/Berlin:20260315T140000
LOCATION:Tělocvičny ZŠ Komenského 66\, Komenského 571 Nový Jičín
SUMMARY:MS-U14M-T5B: Happy Sport Opava\, z.s.-Vlčáci Nový Jičín
END:VEVENT
END:VCALENDAR
