BEGIN:VCALENDAR
VERSION:2.0
PRODID:-//CP-U16Z6B//NONSGML kigkonsult.se iCalcreator 2.41.80//
CALSCALE:GREGORIAN
UID:37383061-6639-4863-b034-326364373231
BEGIN:VEVENT
UID:30613263-3639-4665-b366-393261383037
DTSTAMP:20260424T201802Z
DESCRIPTION:1/1 Nymburk - Bílovec 0:2 (-18\,-21)
DTSTART;TZID=Europe/Berlin:20260328T090000
DTEND;TZID=Europe/Berlin:20260328T110000
LOCATION:Hala ZŠ Komenského\, Komenského 701 Bílovec
SUMMARY:CP-U16Z6B: Nymburk-Bílovec
END:VEVENT
BEGIN:VEVENT
UID:62343932-6438-4138-b435-613133656566
DTSTAMP:20260424T201802Z
DESCRIPTION:2/2 Orion Praha - VK Prostějov 0:2 (-22\,-23)
DTSTART;TZID=Europe/Berlin:20260328T103000
DTEND;TZID=Europe/Berlin:20260328T123000
LOCATION:Hala ZŠ Komenského\, Komenského 701 Bílovec
SUMMARY:CP-U16Z6B: Orion Praha-VK Prostějov
END:VEVENT
BEGIN:VEVENT
UID:61373936-3630-4563-a436-653836373534
DTSTAMP:20260424T201802Z
DESCRIPTION:3/3 Nymburk - VK Prostějov 2:0 (14\,6)
DTSTART;TZID=Europe/Berlin:20260328T114500
DTEND;TZID=Europe/Berlin:20260328T134500
LOCATION:Hala ZŠ Komenského\, Komenského 701 Bílovec
SUMMARY:CP-U16Z6B: Nymburk-VK Prostějov
END:VEVENT
BEGIN:VEVENT
UID:34656434-3238-4062-a538-373261363639
DTSTAMP:20260424T201802Z
DESCRIPTION:4/4 Orion Praha - Bílovec 1:2 (-29\,16\,-10)
DTSTART;TZID=Europe/Berlin:20260328T130000
DTEND;TZID=Europe/Berlin:20260328T150000
LOCATION:Hala ZŠ Komenského\, Komenského 701 Bílovec
SUMMARY:CP-U16Z6B: Orion Praha-Bílovec
END:VEVENT
BEGIN:VEVENT
UID:31303961-3062-4164-b364-373661646432
DTSTAMP:20260424T201802Z
DESCRIPTION:5/5 Nymburk - Orion Praha 2:0 (10\,16)
DTSTART;TZID=Europe/Berlin:20260328T141500
DTEND;TZID=Europe/Berlin:20260328T161500
LOCATION:Hala ZŠ Komenského\, Komenského 701 Bílovec
SUMMARY:CP-U16Z6B: Nymburk-Orion Praha
END:VEVENT
BEGIN:VEVENT
UID:64663161-6336-4232-a161-353137656565
DTSTAMP:20260424T201802Z
DESCRIPTION:6/6 Bílovec - VK Prostějov 2:0 (17\,23)
DTSTART;TZID=Europe/Berlin:20260328T153000
DTEND;TZID=Europe/Berlin:20260328T173000
LOCATION:Hala ZŠ Komenského\, Komenského 701 Bílovec
SUMMARY:CP-U16Z6B: Bílovec-VK Prostějov
END:VEVENT
END:VCALENDAR
